Workbook
Name AAN_1b_ES: ElevScoreData!$B$3:$BK$30
Name AAN_1c_ES: ElevScoreData!$B$34:$CH$61
Name AAN_2b_ES: ElevScoreData!$B$65:$CJ$92
Name AAN_2c_ES: ElevScoreData!$B$96:$FV$123
Name AAN_3b_ES: ElevScoreData!$B$127:$FV$154
Name AAN_3c_ES: ElevScoreData!$B$158:$FV$185
Name Aap_Naam_2c3b3c: ElevScoreData!$CL$49:$CM$53
Name Aappi5: '[1]elev scoring skole 5'!$A$66:$AX$93
Name Assit_Atii_2b: ElevScoreData!$CL$31:$ET$35
Name Assit_Atii_2c3b3c: ElevScoreData!$CL$40:$GH$44
Name Grøn: 'Skole scoring'!$BL$6
Name Gul: 'Skole scoring'!$BL$4:$BL$5
Name GulA: 'Skole scoring'!$BL$4
Name GulB: 'Skole scoring'!$BL$5
Name Komposit1b: 'Skole scoring'!$BH$4:$BH$29
Name Komposit1c: 'Skole scoring'!$CE$34:$CE$59
Name Komposit2b: 'Skole scoring'!$CC$64:$CC$89
Name Komposit2c: 'Skole scoring'!$FO$94:$FO$119
Name Komposit3b: 'Skole scoring'!$FO$124:$FO$149
Name Komposit3c: 'Skole scoring'!$FO$154:$FO$179
Name Naqinn_Allan1: '[2]elev scoring skole 1'!$A$33:$U$59
Name Naqinn_Mscore1: '[2]elev scoring skole 1'!$A$4:$Z$30
Name Naqinn_Nipaat_1b: ElevScoreData!$CL$4:$DJ$9
Name Naqinnerit_Nipaat1: '[2]elev scoring skole 1'!$A$4:$Y$30
Name Oqaas_Allan1: '[3]elev scoring skole 1'!$A$33:$S$59
Name Oqaats_Allan1: '[4]elev scoring skole 1'!$A$4:$T$30
Name Oqaats_Allan5: '[1]elev scoring skole 5'!$A$4:$V$30
Name Oqaats_Atuarn1: '[3]elev scoring skole 1'!$A$63:$AA$89
Name Oqaats_Atuarn5: '[1]elev scoring skole 5'!$A$33:$DB$60
Name Oqaats_Nipi_1c: ElevScoreData!$CL$21:$DK$26
Name Oqaatsimi_Nipi1: '[2]elev scoring skole 1'!$A$63:$P$89
Name Ordets_Førstelyd_1b: ElevScoreData!$CL$13:$CZ$17
Name Rød: 'Skole scoring'!$BL$3
Name Tot_Sco1: '[2]elev scoring skole 1'!$A$92:$B$118
Name Tot_Score1: '[3]elev scoring skole 1'!$A$92:$B$118

Sheet Skoleliste
A1: Nr | B1: Skole | C1: Adresse | D1: Postnr | E1: By | F1: Telefon | G1: Kommune | H1: By/bygd
A2: 890101 | B2: Nanortallip Atuarfia | C2: Postboks 168 | D2: 3922 | E2: Nanortalik | F2: +299 613325 | G2: Kujalleq | H2: By
A3: 890102 | B3: Atuarfik Erinaq | C3: Narsamijit | D3: 3922 | E3: Nanortalik | F3: +299 618525 | G3: Kujalleq | H3: Bygd
A4: 890103 | B4: Jaajap Atuarfia | C4: Aappilattoq | D4: 3922 | E4: Nanortalik | F4: +299 617625 | G4: Kujalleq | H4: Bygd
A5: 890104 | B5: Malakip Atuarfia | C5: Tasiusaq | D5: 3922 | E5: Nanortalik | F5: +299 618825 | G5: Kujalleq | H5: Bygd
A6: 890105 | B6: Isak Lundip Atuarfia | C6: Ammassivik | D6: 3922 | E6: Nanortalik | F6: +299 617320 | G6: Kujalleq | H6: Bygd | AF6: 0 | AG6: 0 | AH6: 0 | AI6: 0 | AJ6: 0 | AK6: 0 | AL6: 0 | AM6: 0 | AN6: 0 | AO6: 0 | AP6: 0 | AQ6: 0 | AR6: 0 | AS6: 0 | AT6: 0 | AU6: 0 | AV6: 0 | AW6: 0 | AX6: 0 | AY6: 0 | AZ6: 0 | BA6: 0 | BB6: 0 | BC6: 0 | BD6: 0 | BE6: 0 | BF6: 0 | BG6: 0 | BH6: 0 | BI6: 0 | BJ6: 0 | BK6: 0 | BL6: 0 | BM6: 0 | BN6: 0 | BO6: 0 | BP6: 0 | BQ6: 0 | BR6: 0 | BS6: 0 | BT6: 0 | BU6: 0 | BV6: 0 | BW6: 0 | BX6: 0 | BY6: 0 | BZ6: 0 | CA6: 0 | CB6: 0 | CC6: 0 | CD6: 0 | CE6: 0 | CF6: 0 | CG6: 0 | CH6: 0 | CI6: 0 | CJ6: 0 | CK6: 0 | CL6: 0 | CM6: 0
A7: 890108 | B7: Atuarfik "Anders Nielsen" | C7: Postbox 572 | D7: 3919 | E7: Alluitsup Paa | F7: +299 619033 | G7: Kujalleq | H7: Bygd | AF7: 0 | AG7: 0 | AH7: 0 | AI7: 0 | AJ7: 0 | AK7: 0 | AL7: 0 | AM7: 0 | AN7: 0 | AO7: 0 | AP7: 0 | AQ7: 0 | AR7: 0 | AS7: 0 | AT7: 0 | AU7: 0 | AV7: 0 | AW7: 0 | AX7: 0 | AY7: 0 | AZ7: 0 | BA7: 0 | BB7: 0 | BC7: 0 | BD7: 0 | BE7: 0 | BF7: 0 | BG7: 0 | BH7: 0 | BI7: 0 | BJ7: 0 | BK7: 0 | BL7: 0 | BM7: 0 | BN7: 0 | BO7: 0 | BP7: 0 | BQ7: 0 | BR7: 0 | BS7: 0 | BT7: 0 | BU7: 0 | BV7: 0 | BW7: 0 | BX7: 0 | BY7: 0 | BZ7: 0 | CA7: 0 | CB7: 0 | CC7: 0 | CD7: 0 | CE7: 0 | CF7: 0 | CG7: 0 | CH7: 0 | CI7: 0 | CJ7: 0 | CK7: 0 | CL7: 0 | CM7: 0
A8: 890201 | B8: Tasersuup Atuarfia | C8: Postboks 177 | D8: 3920 | E8: Qaqortoq | F8: +299 642140 | G8: Kujalleq | H8: By | AF8: 0 | AG8: 0 | AH8: 0 | AI8: 0 | AJ8: 0 | AK8: 0 | AL8: 0 | AM8: 0 | AN8: 0 | AO8: 0 | AP8: 0 | AQ8: 0 | AR8: 0 | AS8: 0 | AT8: 0 | AU8: 0 | AV8: 0 | AW8: 0 | AX8: 0 | AY8: 0 | AZ8: 0 | BA8: 0 | BB8: 0 | BC8: 0 | BD8: 0 | BE8: 0 | BF8: 0 | BG8: 0 | BH8: 0 | BI8: 0 | BJ8: 0 | BK8: 0 | BL8: 0 | BM8: 0 | BN8: 0 | BO8: 0 | BP8: 0 | BQ8: 0 | BR8: 0 | BS8: 0 | BT8: 0 | BU8: 0 | BV8: 0 | BW8: 0 | BX8: 0 | BY8: 0 | BZ8: 0 | CA8: 0 | CB8: 0 | CC8: 0 | CD8: 0 | CE8: 0 | CF8: 0 | CG8: 0 | CH8: 0 | CI8: 0 | CJ8: 0 | CK8: 0 | CL8: 0 | CM8: 0
A9: 890203 | B9: Daanialiup Atuarfia | C9: Eqalugaarsuit | D9: 3920 | E9: Qaqortoq | F9: +299 649740 | G9: Kujalleq | H9: Bygd | AF9: 0 | AG9: 0 | AH9: 0 | AI9: 0 | AJ9: 0 | AK9: 0 | AL9: 0 | AM9: 0 | AN9: 0 | AO9: 0 | AP9: 0 | AQ9: 0 | AR9: 0 | AS9: 0 | AT9: 0 | AU9: 0 | AV9: 0 | AW9: 0 | AX9: 0 | AY9: 0 | AZ9: 0 | BA9: 0 | BB9: 0 | BC9: 0 | BD9: 0 | BE9: 0 | BF9: 0 | BG9: 0 | BH9: 0 | BI9: 0 | BJ9: 0 | BK9: 0 | BL9: 0 | BM9: 0 | BN9: 0 | BO9: 0 | BP9: 0 | BQ9: 0 | BR9: 0 | BS9: 0 | BT9: 0 | BU9: 0 | BV9: 0 | BW9: 0 | BX9: 0 | BY9: 0 | BZ9: 0 | CA9: 0 | CB9: 0 | CC9: 0 | CD9: 0 | CE9: 0 | CF9: 0 | CG9: 0 | CH9: 0 | CI9: 0 | CJ9: 0 | CK9: 0 | CL9: 0 | CM9: 0
A10: 890301 | B10: Narsap Atuarfia | C10: Postkoks 39 | D10: 3921 | E10: Narsaq | F10: +299 661233 | G10: Kujalleq | H10: By
A11: 890302 | B11: Ottooqqap Atuarfia | C11: Qassiarsuk | D11: 3921 | E11: Narsaq | F11: +299 665023 | G11: Kujalleq | H11: Bygd | AF11: 26 | AG11: 26 | AH11: 26 | AI11: 26 | AJ11: 26 | AK11: 26 | AL11: 26 | AM11: 26 | AN11: 26 | AO11: 26 | AP11: 26 | AQ11: 26 | AR11: 26 | AS11: 26 | AT11: 26 | AU11: 26 | AV11: 26 | AW11: 26 | AX11: 26 | AY11: 26 | AZ11: 26 | BA11: 26 | BB11: 26 | BC11: 26 | BD11: 26 | BE11: 26 | BF11: 26 | BG11: 26 | BH11: 26 | BI11: 26 | BJ11: 26 | BK11: 26 | BL11: 26 | BM11: 26 | BN11: 26 | BO11: 26 | BP11: 26 | BQ11: 26 | BR11: 26 | BS11: 26 | BT11: 26 | BU11: 26 | BV11: 26 | BW11: 26 | BX11: 26 | BY11: 26 | BZ11: 26 | CA11: 26 | CB11: 26 | CC11: 26 | CD11: 26 | CE11: 26 | CF11: 26 | CG11: 26 | CH11: 26 | CI11: 26 | CJ11: 26 | CK11: 26 | CL11: 26 | CM11: 26
A12: 890303 | B12: Igalikup Atuarfia | C12: Igaliku | D12: 3921 | E12: Narsaq | F12: +299 666140 | G12: Kujalleq | H12: Bygd
A13: 890304 | B13: Atuarfik Napaartoq | C13: Postboks 34 | D13: 3923 | E13: Narsarsuaq | F13: +299 665333 | G13: Kujalleq | H13: Bygd
A14: 890501 | B14: Atuarfik Tuisaq | C14: Postboks 99 | D14: 3940 | E14: Paamiut | F14: +299 681143 | G14: Sermersooq | H14: By
A15: 890502 | B15: Arsuup Atuarfia | C15: Arsuk | D15: 3940 | E15: Paamiut | F15: +299 685043 | G15: Sermersooq | H15: Bygd
A16: 890601 | B16: Atuarfik Samuel Kleinschmidt (ASK) | C16: Postbox 1027 | D16: 3900 | E16: Nuuk | F16: +299 366220 | G16: Sermersooq | H16: By
A17: 890602 | B17: Ukaliusaq (USK) | C17: Postboks 109 | D17: 3900 | E17: Nuuk | F17: +299 366250 | G17: Sermersooq | H17: By
A18: 890604 | B18: Qeqertarsuatsiaat | C18: Qeqertarsuatsiaat | D18: 3900 | E18: Nuuk | F18: +299 359001 | G18: Sermersooq | H18: Bygd
A19: 890605 | B19: Nuussuup Atuarfia | C19: Postboks 5329 | D19: 3905 | E19: Nuussuaq | F19: +299 366400 | G19: Sermersooq | H19: By
A20: 890606 | B20: Kangillinnguit Atuarfiat | C20: Postboks 7504 | D20: 3905 | E20: Nuussuaq | F20: +299 366420 | G20: Sermersooq | H20: By
A21: 890607 | B21: Kapisillip Atuarfia | C21: Kapisillit | D21: 3900 | E21: Nuuk | F21: +299 359602 | G21: Sermersooq | H21: Bygd
A22: 890608 | B22: Atuarfik Hans Lynge | C22: Postboks 1010 | D22: 3905 | E22: Nussuaq | F22: +299 366452 | G22: Sermersooq | H22: By
A23: 890707 | B23: Atuarfik Kilaaseeraq | C23: Postboks 101 | D23: 3912 | E23: Maniitsoq | F23: +299 813122 | G23: Qeqqata | H23: By
A24: 890709 | B24: Napasup atuarfia | C24: Napasoq | D24: 3912 | E24: Maniitsoq | F24: +299 818636 | G24: Qeqqata | H24: Bygd
A25: 890710 | B25: Atammiup atuarfia | C25: Atammik | D25: 3912 | E25: Maniitsoq | F25: +299 818533 | G25: Qeqqata | H25: Bygd
A26: 890711 | B26: Kangaamiut atuarfiat | C26: Kangaamiut | D26: 3912 | E26: Maniitsoq | F26: +299 819433 | G26: Qeqqata | H26: Bygd
A27: 890801 | B27: Minngortuunnguup Atuarfia | C27: Postboks 1010 | D27: 3911 | E27: Sisimiut | F27: +299 864188 | G27: Qeqqata | H27: By
A28: 890802 | B28: Nalunnguarfiup Atuarfia | C28: Postboks 1011 | D28: 3911 | E28: Sisimiut | F28: +299 864388 | G28: Qeqqata | H28: By
A29: 890803 | B29: Itillip Atuarfia | C29: Itilleq | D29: 3911 | E29: Sisimiut | F29: +299 869610 | G29: Qeqqata | H29: Bygd
A30: 890804 | B30: Sarfannguup Atuarfia | C30: Sarfannguaq | D30: 3911 | E30: Sisimiut | F30: +299 869510 | G30: Qeqqata | H30: Bygd
A31: 890805 | B31: Atuarfik Qilalugaq | C31: Postboks 470 | D31: 3911 | E31: Sisimiut | F31: +299 866188 | G31: Qeqqata | H31: Bygd
A32: 890806 | B32: Qinnguata Atuarfia | C32: Postboks 1001 | D32: 3910 | E32: Kangerlussuaq | F32: +299 841027 | G32: Qeqqata | H32: Bygd
A33: 890901 | B33: Kangaatsiap Atuarfia | C33: Postboks 560 | D33: 3955 | E33: Kangaatsiaq | F33: +299 871016 | G33: Qaasuitsup | H33: By
A34: 890902 | B34: Attup Atuarfia | C34: Attu | D34: 3950 | E34: Aasiaat | F34: +299 873407 | G34: Qaasuitsup | H34: Bygd
A35: 890903 | B35: Iginniarfiup Atuarfia | C35: Iginniarfik | D35: 3950 | E35: Aasiaat | F35: +299 874833 | G35: Qaasuitsup | H35: Bygd
A36: 890904 | B36: Qaqqannguup Atuarfia | C36: Ikerasarssuk | D36: 3950 | E36: Aasiaat | F36: +299 873933 | G36: Qaasuitsup | H36: Bygd
A37: 890905 | B37: Atuarfik Kristian Lundblad | C37: Niaqornaarsuk | D37: 3950 | E37: Aasiaat | F37: +299 874351 | G37: Qaasuitsup | H37: Bygd
A38: 891001 | B38: Gammeqarfik | C38: Postboks 28 | D38: 3950 | E38: Aasiaat | F38: +299 892333 | G38: Qaasuitsup | H38: By
A39: 891002 | B39: Aadap Atuarfia | C39: Akunnaaq | D39: 3950 | E39: Aasiaat | F39: +299 899633 | G39: Qaasuitsup | H39: Bygd
A40: 891003 | B40: Ole Reimerip Atuarfia | C40: Kitsisuarsuit | D40: 3950 | E40: Aasiaat | F40: +299 899733 | G40: Qaasuitsup | H40: Bygd
...

Sheet klassernes udvikling
B3: Naqinnerit Nipaat | C3: Naqinnernik Allanneq | D3: Oqaatsimi Nipi Siulleq | E3: Samlet
B4: =ElevScoreData!BH32 -> #DIV/0! | C4: =ElevScoreData!BI32 -> #DIV/0! | D4: =ElevScoreData!BJ32 -> #DIV/0! | E4: =ElevScoreData!BK32 -> #DIV/0!
B7: Naqinnernik allanneq | C7: Oqaasiusanik allanneq | D7: Oqaatsinik atuarneq | E7: Samlet
B8: =ElevScoreData!CE63 -> #DIV/0! | C8: =ElevScoreData!CF63 -> #DIV/0! | D8: =ElevScoreData!CG63 -> #DIV/0! | E8: =ElevScoreData!CH63 -> #DIV/0!
B11: Oqaatsinik allanneq | C11: Oqaatsinik atuarneq | D11: Samlet
B12: =ElevScoreData!CC94 -> #DIV/0! | C12: =ElevScoreData!CD94 -> #DIV/0! | D12: =ElevScoreData!CE94 -> #DIV/0!
B15: Oqaatsinik allanneq | C15: Oqaatsinik atuarneq | D15: Oqaaseqatigiinnik atuarneq | E15: Samlet
B16: =ElevScoreData!FO125 -> #DIV/0! | C16: =ElevScoreData!FP125 -> #DIV/0! | D16: =ElevScoreData!FQ125 -> #DIV/0! | E16: =ElevScoreData!FR125 -> #DIV/0!
B19: Oqaatsinik allanneq | C19: Oqaatsinik atuarneq | D19: Oqaaseqatigiinnik atuarneq | E19: Samlet
B20: =ElevScoreData!FO156 -> #DIV/0! | C20: =ElevScoreData!FP156 -> #DIV/0! | D20: =ElevScoreData!FQ156 -> #DIV/0! | E20: =ElevScoreData!FR156 -> #DIV/0!
B23: Oqaatsinik allanneq | C23: Oqaatsinik atuarneq | D23: Oqaaseqatigiinnik atuarneq | E23: Samlet
B24: =ElevScoreData!FO187 -> #DIV/0! | C24: =ElevScoreData!FP187 -> #DIV/0! | D24: =ElevScoreData!FQ187 -> #DIV/0! | E24: =ElevScoreData!FR187 -> #DIV/0!

Sheet Midt 1.kl. -Klasse
P1: f | Q1: a | R1: v | S1: rr | T1: i | U1: gg | V1: s | W1: t | X1: l | Y1: n | Z1: k | AA1: j | AB1: u | AC1: g | AD1: r | AE1: h | AF1: q | AG1: ll | AH1: e | AI1: ng | AJ1: p | AK1: m | AL1: o | AM1: t (d) | AN1: J | AO1: S | AP1: K | AQ1: V | AR1: U | AS1: P | AT1: M | AU1: I | AV1: T | AW1: H | AX1: F | AY1: Q | AZ1: E | BA1: L | BB1: A | BC1: G | BD1: N | BE1: R | BF1: O | BG1: Siku | BH1: Puugutaq | BI1: Ulloriaq | BJ1: Tuttu | BK1: Nanoq | BL1: Aqerluusaq | BM1: Qajaq | BN1: Kulloq | BO1: Inneq | BP1: Mannik | BQ1: Errorsivik | BR1: Raaja | BS1: Orpik | BT1: Tiitorfik
O2: Opgave | P2: Naqinnerit Nipaat | AN2: Naqinnernik allanneq | BG2: Oqaatsimi nipi siulleq
C3: Distraktor | P3: 1 | Q3: 4 | R3: 3 | S3: 2 | T3: 3 | U3: 4 | V3: 1 | W3: 2 | X3: 2 | Y3: 4 | Z3: 1 | AA3: 3 | AB3: 2 | AC3: 4 | AD3: 1 | AE3: 3 | AF3: 2 | AG3: 1 | AH3: 4 | AI3: 2 | AJ3: 3 | AK3: 4 | AL3: 1 | AM3: 3 | AN3: 1 | AO3: 1 | AP3: 1 | AQ3: 1 | AR3: 1 | AS3: 1 | AT3: 1 | AU3: 1 | AV3: 1 | AW3: 1 | AX3: 1 | AY3: 1 | AZ3: 1 | BA3: 1 | BB3: 1 | BC3: 1 | BD3: 1 | BE3: 1 | BF3: 1 | BG3: 4 | BH3: 2 | BI3: 3 | BJ3: 2 | BK3: 4 | BL3: 1 | BM3: 3 | BN3: 4 | BO3: 3 | BP3: 3 | BQ3: 1 | BR3: 4 | BS3: 2 | BT3: 1
C4: afstemning | P4: =SUM(P5:P11) -> 0 | Q4: =SUM(Q5:Q11) -> 0 | R4: =SUM(R5:R11) -> 0 | S4: =SUM(S5:S11) -> 0 | T4: =SUM(T5:T11) -> 0 | U4: =SUM(U5:U11) -> 0 | V4: =SUM(V5:V11) -> 0 | W4: =SUM(W5:W11) -> 0 | ... AG4: =SUM(AG5:AG11) -> 0 | AH4: =SUM(AH6:AH11) -> 0 | AI4: =SUM(AI6:AI11) -> 0 | AJ4: =SUM(AJ6:AJ11) -> 0 | AK4: =SUM(AK6:AK11) -> 0 | AL4: =SUM(AL6:AL11) -> 0 | AM4: =SUM(AM6:AM11) -> 0 | AN4: =SUM(AN5:AN11) -> 0 | AO4: =SUM(AO5:AO11) -> 0 | AP4: =SUM(AP5:AP11) -> 0 | AQ4: =SUM(AQ5:AQ11) -> 0 | AR4: =SUM(AR5:AR11) -> 0 | AS4: =SUM(AS5:AS11) -> 0 | AT4: =SUM(AT5:AT11) -> 0 | AU4: =SUM(AU5:AU11) -> 0 | ... BF4: =SUM(BF5:BF11) -> 0 | BG4: =SUM(BG6:BG11) -> 0 | BH4: =SUM(BH6:BH11) -> 0 | BI4: =SUM(BI6:BI11) -> 0 | BJ4: =SUM(BJ6:BJ11) -> 0 | BK4: =SUM(BK6:BK11) -> 0 | BL4: =SUM(BL6:BL11) -> 0 | BM4: =SUM(BM6:BM11) -> 0 | BN4: =SUM(BN6:BN11) -> 0 | ... BT4: =SUM(BT6:BT11) -> 0
C5: 0 | AN5: =COUNTIF('Skole scoring'!Z4:Z29,0) -> 0 | AO5: =COUNTIF('Skole scoring'!AA4:AA29,0) -> 0 | AP5: =COUNTIF('Skole scoring'!AB4:AB29,0) -> 0 | AQ5: =COUNTIF('Skole scoring'!AC4:AC29,0) -> 0 | AR5: =COUNTIF('Skole scoring'!AD4:AD29,0) -> 0 | AS5: =COUNTIF('Skole scoring'!AE4:AE29,0) -> 0 | AT5: =COUNTIF('Skole scoring'!AF4:AF29,0) -> 0 | AU5: =COUNTIF('Skole scoring'!AG4:AG29,0) -> 0 | ... BF5: =COUNTIF('Skole scoring'!AR4:AR29,0) -> 0
C6: 1 | P6: =COUNTIF(P$21:P$46,1) -> 0 | Q6: =COUNTIF(Q$21:Q$46,1) -> 0 | R6: =COUNTIF(R$21:R$46,1) -> 0 | S6: =COUNTIF(S$21:S$46,1) -> 0 | T6: =COUNTIF(T$21:T$46,1) -> 0 | U6: =COUNTIF(U$21:U$46,1) -> 0 | V6: =COUNTIF(V$21:V$46,1) -> 0 | W6: =COUNTIF(W$21:W$46,1) -> 0 | ... AM6: =COUNTIF(AM$21:AM$46,1) -> 0 | AN6: =COUNTIF(AN$21:AN$46,AN1) -> 0 | AO6: =COUNTIF(AO$21:AO$46,AO1) -> 0 | AP6: =COUNTIF(AP$21:AP$46,AP1) -> 0 | AQ6: =COUNTIF(AQ$21:AQ$46,AQ1) -> 0 | AR6: =COUNTIF(AR$21:AR$46,AR1) -> 0 | AS6: =COUNTIF(AS$21:AS$46,AS1) -> 0 | AT6: =COUNTIF(AT$21:AT$46,AT1) -> 0 | AU6: =COUNTIF(AU$21:AU$46,AU1) -> 0 | ... BF6: =COUNTIF(BF$21:BF$46,BF1) -> 0 | BG6: =COUNTIF(BG$21:BG$46,1) -> 0 | BH6: =COUNTIF(BH$21:BH$46,1) -> 0 | BI6: =COUNTIF(BI$21:BI$46,1) -> 0 | BJ6: =COUNTIF(BJ$21:BJ$46,1) -> 0 | BK6: =COUNTIF(BK$21:BK$46,1) -> 0 | BL6: =COUNTIF(BL$21:BL$46,1) -> 0 | BM6: =COUNTIF(BM$21:BM$46,1) -> 0 | BN6: =COUNTIF(BN$21:BN$46,1) -> 0 | ... BT6: =COUNTIF(BT$21:BT$46,1) -> 0
C7: 2 | P7: =COUNTIF(P$21:P$46,2) -> 0 | Q7: =COUNTIF(Q$21:Q$46,2) -> 0 | R7: =COUNTIF(R$21:R$46,2) -> 0 | S7: =COUNTIF(S$21:S$46,2) -> 0 | T7: =COUNTIF(T$21:T$46,2) -> 0 | U7: =COUNTIF(U$21:U$46,2) -> 0 | V7: =COUNTIF(V$21:V$46,2) -> 0 | W7: =COUNTIF(W$21:W$46,2) -> 0 | ... AM7: =COUNTIF(AM$21:AM$46,2) -> 0 | BG7: =COUNTIF(BG$21:BG$46,2) -> 0 | BH7: =COUNTIF(BH$21:BH$46,2) -> 0 | BI7: =COUNTIF(BI$21:BI$46,2) -> 0 | BJ7: =COUNTIF(BJ$21:BJ$46,2) -> 0 | BK7: =COUNTIF(BK$21:BK$46,2) -> 0 | BL7: =COUNTIF(BL$21:BL$46,2) -> 0 | BM7: =COUNTIF(BM$21:BM$46,2) -> 0 | BN7: =COUNTIF(BN$21:BN$46,2) -> 0 | ... BT7: =COUNTIF(BT$21:BT$46,2) -> 0
C8: 3 | P8: =COUNTIF(P$21:P$46,3) -> 0 | Q8: =COUNTIF(Q$21:Q$46,3) -> 0 | R8: =COUNTIF(R$21:R$46,3) -> 0 | S8: =COUNTIF(S$21:S$46,3) -> 0 | T8: =COUNTIF(T$21:T$46,3) -> 0 | U8: =COUNTIF(U$21:U$46,3) -> 0 | V8: =COUNTIF(V$21:V$46,3) -> 0 | W8: =COUNTIF(W$21:W$46,3) -> 0 | ... AM8: =COUNTIF(AM$21:AM$46,3) -> 0 | BG8: =COUNTIF(BG$21:BG$46,3) -> 0 | BH8: =COUNTIF(BH$21:BH$46,3) -> 0 | BI8: =COUNTIF(BI$21:BI$46,3) -> 0 | BJ8: =COUNTIF(BJ$21:BJ$46,3) -> 0 | BK8: =COUNTIF(BK$21:BK$46,3) -> 0 | BL8: =COUNTIF(BL$21:BL$46,3) -> 0 | BM8: =COUNTIF(BM$21:BM$46,3) -> 0 | BN8: =COUNTIF(BN$21:BN$46,3) -> 0 | ... BT8: =COUNTIF(BT$21:BT$46,3) -> 0
C9: 4 | P9: =COUNTIF(P$21:P$46,4) -> 0 | Q9: =COUNTIF(Q$21:Q$46,4) -> 0 | R9: =COUNTIF(R$21:R$46,4) -> 0 | S9: =COUNTIF(S$21:S$46,4) -> 0 | T9: =COUNTIF(T$21:T$46,4) -> 0 | U9: =COUNTIF(U$21:U$46,4) -> 0 | V9: =COUNTIF(V$21:V$46,4) -> 0 | W9: =COUNTIF(W$21:W$46,4) -> 0 | ... AM9: =COUNTIF(AM$21:AM$46,4) -> 0 | BG9: =COUNTIF(BG$21:BG$46,4) -> 0 | BH9: =COUNTIF(BH$21:BH$46,4) -> 0 | BI9: =COUNTIF(BI$21:BI$46,4) -> 0 | BJ9: =COUNTIF(BJ$21:BJ$46,4) -> 0 | BK9: =COUNTIF(BK$21:BK$46,4) -> 0 | BL9: =COUNTIF(BL$21:BL$46,4) -> 0 | BM9: =COUNTIF(BM$21:BM$46,4) -> 0 | BN9: =COUNTIF(BN$21:BN$46,4) -> 0 | ... BT9: =COUNTIF(BT$21:BT$46,4) -> 0
C10: Ugyldige | P10: =COUNTIF(P21:P46,"=5") -> 0 | Q10: =COUNTIF(Q21:Q46,"=5") -> 0 | R10: =COUNTIF(R21:R46,"=5") -> 0 | S10: =COUNTIF(S21:S46,"=5") -> 0 | T10: =COUNTIF(T21:T46,"=5") -> 0 | U10: =COUNTIF(U21:U46,"=5") -> 0 | V10: =COUNTIF(V21:V46,"=5") -> 0 | W10: =COUNTIF(W21:W46,"=5") -> 0 | ... BT10: =COUNTIF(BT21:BT46,"=5") -> 0
C11: Blanke | P11: =COUNTA($B$21:$B$46)-SUM(P5:P10) -> 0 | Q11: =COUNTA($B$21:$B$46)-SUM(Q5:Q10) -> 0 | R11: =COUNTA($B$21:$B$46)-SUM(R5:R10) -> 0 | S11: =COUNTA($B$21:$B$46)-SUM(S5:S10) -> 0 | T11: =COUNTA($B$21:$B$46)-SUM(T5:T10) -> 0 | U11: =COUNTA($B$21:$B$46)-SUM(U5:U10) -> 0 | V11: =COUNTA($B$21:$B$46)-SUM(V5:V10) -> 0 | W11: =COUNTA($B$21:$B$46)-SUM(W5:W10) -> 0 | ... BT11: =COUNTA($B$21:$B$46)-SUM(BT5:BT10) -> 0
C12: 0 | P12: =+P5/P4 -> #DIV/0! | Q12: =+Q5/Q4 -> #DIV/0! | R12: =+R5/R4 -> #DIV/0! | S12: =+S5/S4 -> #DIV/0! | T12: =+T5/T4 -> #DIV/0! | U12: =+U5/U4 -> #DIV/0! | V12: =+V5/V4 -> #DIV/0! | W12: =+W5/W4 -> #DIV/0! | ... BT12: =+BT5/BT4 -> #DIV/0!
C13: 1 | P13: =+P6/P$4 -> #DIV/0! | Q13: =+Q6/Q$4 -> #DIV/0! | R13: =+R6/R$4 -> #DIV/0! | S13: =+S6/S$4 -> #DIV/0! | T13: =+T6/T$4 -> #DIV/0! | U13: =+U6/U$4 -> #DIV/0! | V13: =+V6/V$4 -> #DIV/0! | W13: =+W6/W$4 -> #DIV/0! | ... BT13: =+BT6/BT$4 -> #DIV/0!
C14: 2 | P14: =+P7/P$4 -> #DIV/0! | Q14: =+Q7/Q$4 -> #DIV/0! | R14: =+R7/R$4 -> #DIV/0! | S14: =+S7/S$4 -> #DIV/0! | T14: =+T7/T$4 -> #DIV/0! | U14: =+U7/U$4 -> #DIV/0! | V14: =+V7/V$4 -> #DIV/0! | W14: =+W7/W$4 -> #DIV/0! | ... BT14: =+BT7/BT$4 -> #DIV/0!
C15: 3 | P15: =+P8/P$4 -> #DIV/0! | Q15: =+Q8/Q$4 -> #DIV/0! | R15: =+R8/R$4 -> #DIV/0! | S15: =+S8/S$4 -> #DIV/0! | T15: =+T8/T$4 -> #DIV/0! | U15: =+U8/U$4 -> #DIV/0! | V15: =+V8/V$4 -> #DIV/0! | W15: =+W8/W$4 -> #DIV/0! | ... BT15: =+BT8/BT$4 -> #DIV/0!
C16: 4 | P16: =+P9/P$4 -> #DIV/0! | Q16: =+Q9/Q$4 -> #DIV/0! | R16: =+R9/R$4 -> #DIV/0! | S16: =+S9/S$4 -> #DIV/0! | T16: =+T9/T$4 -> #DIV/0! | U16: =+U9/U$4 -> #DIV/0! | V16: =+V9/V$4 -> #DIV/0! | W16: =+W9/W$4 -> #DIV/0! | ... BT16: =+BT9/BT$4 -> #DIV/0!
C17: Ugyldige | P17: =+P10/P4 -> #DIV/0! | Q17: =+Q10/Q4 -> #DIV/0! | R17: =+R10/R4 -> #DIV/0! | S17: =+S10/S4 -> #DIV/0! | T17: =+T10/T4 -> #DIV/0! | U17: =+U10/U4 -> #DIV/0! | V17: =+V10/V4 -> #DIV/0! | W17: =+W10/W4 -> #DIV/0! | ... BT17: =+BT10/BT4 -> #DIV/0!
C18: Blanke | P18: =+P11/P4 -> #DIV/0! | Q18: =+Q11/Q4 -> #DIV/0! | R18: =+R11/R4 -> #DIV/0! | S18: =+S11/S4 -> #DIV/0! | T18: =+T11/T4 -> #DIV/0! | U18: =+U11/U4 -> #DIV/0! | V18: =+V11/V4 -> #DIV/0! | W18: =+W11/W4 -> #DIV/0! | ... BT18: =+BT11/BT4 -> #DIV/0!
C19: Rigtige | P19: =P13 -> #DIV/0! | Q19: =Q16 -> #DIV/0! | R19: =R15 -> #DIV/0! | S19: =S14 -> #DIV/0! | T19: =T15 -> #DIV/0! | U19: =U16 -> #DIV/0! | V19: =V13 -> #DIV/0! | W19: =W14 -> #DIV/0! | X19: =X14 -> #DIV/0! | Y19: =Y16 -> #DIV/0! | Z19: =Z13 -> #DIV/0! | AA19: =AA15 -> #DIV/0! | AB19: =AB14 -> #DIV/0! | AC19: =AC16 -> #DIV/0! | AD19: =AD13 -> #DIV/0! | AE19: =AE15 -> #DIV/0! | AF19: =AF14 -> #DIV/0! | AG19: =AG13 -> #DIV/0! | AH19: =AH16 -> #DIV/0! | AI19: =AI14 -> #DIV/0! | AJ19: =AJ15 -> #DIV/0! | AK19: =AK16 -> #DIV/0! | AL19: =AL13 -> #DIV/0! | AM19: =AM15 -> #DIV/0! | AN19: =AN13 -> #DIV/0! | AO19: =AO13 -> #DIV/0! | AP19: =AP13 -> #DIV/0! | AQ19: =AQ13 -> #DIV/0! | AR19: =AR13 -> #DIV/0! | AS19: =AS13 -> #DIV/0! | AT19: =AT13 -> #DIV/0! | AU19: =AU13 -> #DIV/0! | ... BF19: =BF13 -> #DIV/0! | BG19: =BG16 -> #DIV/0! | BH19: =BH14 -> #DIV/0! | BI19: =BI15 -> #DIV/0! | BJ19: =BJ14 -> #DIV/0! | BK19: =BK16 -> #DIV/0! | BL19: =BL13 -> #DIV/0! | BM19: =BM15 -> #DIV/0! | BN19: =BN16 -> #DIV/0! | BO19: =BO15 -> #DIV/0! | BP19: =BP15 -> #DIV/0! | BQ19: =BQ13 -> #DIV/0! | BR19: =BR16 -> #DIV/0! | BS19: =BS14 -> #DIV/0! | BT19: =BT13 -> #DIV/0!
A20: Antal | B20: Navn | C20: CPR-nr | D20: køn (d/p) | E20: Nr | F20: Skole | G20: Adresse | H20: Postnr | I20: By | J20: Telefon | K20: Kommune | L20: by/bygd | M20: klasse | N20: Ikke mødt (kode) | O20: Indtaster | P20: 1 | Q20: 2 | R20: 3 | S20: 4 | T20: 5 | U20: 6 | V20: 7 | W20: 8 | X20: 9 | Y20: 10 | Z20: 11 | AA20: 12 | AB20: 13 | AC20: 14 | AD20: 15 | AE20: 16 | AF20: 17 | AG20: 18 | AH20: 19 | AI20: 20 | AJ20: 21 | AK20: 22 | AL20: 23 | AM20: 24 | AN20: 1 | AO20: 2 | AP20: 3 | AQ20: 4 | AR20: 5 | AS20: 6 | AT20: 7 | AU20: 8 | AV20: 9 | AW20: 10 | AX20: 11 | AY20: 12 | AZ20: 13 | BA20: 14 | BB20: 15 | BC20: 16 | BD20: 17 | BE20: 18 | BF20: 19 | BG20: 1 | BH20: 2 | BI20: 3 | BJ20: 4 | BK20: 5 | BL20: 6 | BM20: 7 | BN20: 8 | BO20: 9 | BP20: 10 | BQ20: 11 | BR20: 12 | BS20: 13 | BT20: 14 | BU20: Besvarede | BV20: ikke-besvarede | BW20: rigtige | BX20: forkerte | BY20: Ugyldige
A21: =IF(ISBLANK(B21)," ",IF(ISBLANK(N21),1," ")) | F21: =IF(ISBLANK($E$21),"",VLOOKUP($E$21,Skoleliste!$A:$H,2,FALSE)) | G21: =IF(ISBLANK($E$21),"",VLOOKUP($E$21,Skoleliste!$A:$H,3,FALSE)) | H21: =IF(ISBLANK($E$21),"",VLOOKUP($E$21,Skoleliste!$A:$H,4,FALSE)) | I21: =IF(ISBLANK($E$21),"",VLOOKUP($E$21,Skoleliste!$A:$H,5,FALSE)) | J21: =IF(ISBLANK($E$21),"",VLOOKUP($E$21,Skoleliste!$A:$H,6,FALSE)) | K21: =IF(ISBLANK($E$21),"",VLOOKUP($E$21,Skoleliste!$A:$H,7,FALSE)) | L21: =IF(ISBLANK($E$21),"",VLOOKUP($E$21,Skoleliste!$A:$H,8,FALSE)) | BU21: =IF(ISBLANK(B21)," ",COUNTA(P21:BT21)) | BV21: =IF(ISBLANK(B21)," ",(COUNTA($P$20:$BT$20)-BU21)) | BW21: =IF(ISBLANK(B21)," ",'Skole scoring'!BG4) | BX21: =IF(ISBLANK(B21)," ",(BU21)-(BW21)-BY21) | BY21: =IF(ISBLANK(B21)," ",COUNTIF(P21:BT21,5))
A22: =IF(ISBLANK(B22)," ",IF(ISBLANK(N22),1," ")) | E22: =IF(ISBLANK(E21)," ",E21) | F22: =IF(ISBLANK($E$21),"",VLOOKUP($E$21,Skoleliste!$A:$H,2,FALSE)) | G22: =IF(ISBLANK($E$21),"",VLOOKUP($E$21,Skoleliste!$A:$H,3,FALSE)) | H22: =IF(ISBLANK($E$21),"",VLOOKUP($E$21,Skoleliste!$A:$H,4,FALSE)) | I22: =IF(ISBLANK($E$21),"",VLOOKUP($E$21,Skoleliste!$A:$H,5,FALSE)) | J22: =IF(ISBLANK($E$21),"",VLOOKUP($E$21,Skoleliste!$A:$H,6,FALSE)) | K22: =IF(ISBLANK($E$21),"",VLOOKUP($E$21,Skoleliste!$A:$H,7,FALSE)) | L22: =IF(ISBLANK($E$21),"",VLOOKUP($E$21,Skoleliste!$A:$H,8,FALSE)) | M22: =IF(ISBLANK(M21)," ",M21) | N22: =IF(ISBLANK(N21)," ",N21) | O22: =IF(ISBLANK(O21)," ",O21) | BU22: =IF(ISBLANK(B22)," ",COUNTA(P22:BT22)) | BV22: =IF(ISBLANK(B22)," ",(COUNTA($P$20:$BT$20)-BU22)) | BW22: =IF(ISBLANK(B22)," ",'Skole scoring'!BG5) | BX22: =IF(ISBLANK(B22)," ",(BU22)-(BW22)-BY22) | BY22: =IF(ISBLANK(B22)," ",COUNTIF(P22:BT22,5))
A23: =IF(ISBLANK(B23)," ",IF(ISBLANK(N23),1," ")) | E23: =IF(ISBLANK(E22)," ",E22) | F23: =IF(ISBLANK($E$21),"",VLOOKUP($E$21,Skoleliste!$A:$H,2,FALSE)) | G23: =IF(ISBLANK($E$21),"",VLOOKUP($E$21,Skoleliste!$A:$H,3,FALSE)) | H23: =IF(ISBLANK($E$21),"",VLOOKUP($E$21,Skoleliste!$A:$H,4,FALSE)) | I23: =IF(ISBLANK($E$21),"",VLOOKUP($E$21,Skoleliste!$A:$H,5,FALSE)) | J23: =IF(ISBLANK($E$21),"",VLOOKUP($E$21,Skoleliste!$A:$H,6,FALSE)) | K23: =IF(ISBLANK($E$21),"",VLOOKUP($E$21,Skoleliste!$A:$H,7,FALSE)) | L23: =IF(ISBLANK($E$21),"",VLOOKUP($E$21,Skoleliste!$A:$H,8,FALSE)) | M23: =IF(ISBLANK(M22)," ",M22) | O23: =IF(ISBLANK(O22)," ",O22) | BU23: =IF(ISBLANK(B23)," ",COUNTA(P23:BT23)) | BV23: =IF(ISBLANK(B23)," ",(COUNTA($P$20:$BT$20)-BU23)) | BW23: =IF(ISBLANK(B23)," ",'Skole scoring'!BG6) | BX23: =IF(ISBLANK(B23)," ",(BU23)-(BW23)-BY23) | BY23: =IF(ISBLANK(B23)," ",COUNTIF(P23:BT23,5))
A24: =IF(ISBLANK(B24)," ",IF(ISBLANK(N24),1," ")) | E24: =IF(ISBLANK(E23)," ",E23) | F24: =IF(ISBLANK($E$21),"",VLOOKUP($E$21,Skoleliste!$A:$H,2,FALSE)) | G24: =IF(ISBLANK($E$21),"",VLOOKUP($E$21,Skoleliste!$A:$H,3,FALSE)) | H24: =IF(ISBLANK($E$21),"",VLOOKUP($E$21,Skoleliste!$A:$H,4,FALSE)) | I24: =IF(ISBLANK($E$21),"",VLOOKUP($E$21,Skoleliste!$A:$H,5,FALSE)) | J24: =IF(ISBLANK($E$21),"",VLOOKUP($E$21,Skoleliste!$A:$H,6,FALSE)) | K24: =IF(ISBLANK($E$21),"",VLOOKUP($E$21,Skoleliste!$A:$H,7,FALSE)) | L24: =IF(ISBLANK($E$21),"",VLOOKUP($E$21,Skoleliste!$A:$H,8,FALSE)) | M24: =IF(ISBLANK(M23)," ",M23) | O24: =IF(ISBLANK(O23)," ",O23) | BU24: =IF(ISBLANK(B24)," ",COUNTA(P24:BT24)) | BV24: =IF(ISBLANK(B24)," ",(COUNTA($P$20:$BT$20)-BU24)) | BW24: =IF(ISBLANK(B24)," ",'Skole scoring'!BG7) | BX24: =IF(ISBLANK(B24)," ",(BU24)-(BW24)-BY24) | BY24: =IF(ISBLANK(B24)," ",COUNTIF(P24:BT24,5))
A25: =IF(ISBLANK(B25)," ",IF(ISBLANK(N25),1," ")) | E25: =IF(ISBLANK(E24)," ",E24) | F25: =IF(ISBLANK($E$21),"",VLOOKUP($E$21,Skoleliste!$A:$H,2,FALSE)) | G25: =IF(ISBLANK($E$21),"",VLOOKUP($E$21,Skoleliste!$A:$H,3,FALSE)) | H25: =IF(ISBLANK($E$21),"",VLOOKUP($E$21,Skoleliste!$A:$H,4,FALSE)) | I25: =IF(ISBLANK($E$21),"",VLOOKUP($E$21,Skoleliste!$A:$H,5,FALSE)) | J25: =IF(ISBLANK($E$21),"",VLOOKUP($E$21,Skoleliste!$A:$H,6,FALSE)) | K25: =IF(ISBLANK($E$21),"",VLOOKUP($E$21,Skoleliste!$A:$H,7,FALSE)) | L25: =IF(ISBLANK($E$21),"",VLOOKUP($E$21,Skoleliste!$A:$H,8,FALSE)) | M25: =IF(ISBLANK(M24)," ",M24) | O25: =IF(ISBLANK(O24)," ",O24) | BU25: =IF(ISBLANK(B25)," ",COUNTA(P25:BT25)) | BV25: =IF(ISBLANK(B25)," ",(COUNTA($P$20:$BT$20)-BU25)) | BW25: =IF(ISBLANK(B25)," ",'Skole scoring'!BG8) | BX25: =IF(ISBLANK(B25)," ",(BU25)-(BW25)-BY25) | BY25: =IF(ISBLANK(B25)," ",COUNTIF(P25:BT25,5))
A26: =IF(ISBLANK(B26)," ",IF(ISBLANK(N26),1," ")) | E26: =IF(ISBLANK(E25)," ",E25) | F26: =IF(ISBLANK($E$21),"",VLOOKUP($E$21,Skoleliste!$A:$H,2,FALSE)) | G26: =IF(ISBLANK($E$21),"",VLOOKUP($E$21,Skoleliste!$A:$H,3,FALSE)) | H26: =IF(ISBLANK($E$21),"",VLOOKUP($E$21,Skoleliste!$A:$H,4,FALSE)) | I26: =IF(ISBLANK($E$21),"",VLOOKUP($E$21,Skoleliste!$A:$H,5,FALSE)) | J26: =IF(ISBLANK($E$21),"",VLOOKUP($E$21,Skoleliste!$A:$H,6,FALSE)) | K26: =IF(ISBLANK($E$21),"",VLOOKUP($E$21,Skoleliste!$A:$H,7,FALSE)) | L26: =IF(ISBLANK($E$21),"",VLOOKUP($E$21,Skoleliste!$A:$H,8,FALSE)) | M26: =IF(ISBLANK(M25)," ",M25) | O26: =IF(ISBLANK(O25)," ",O25) | BU26: =IF(ISBLANK(B26)," ",COUNTA(P26:BT26)) | BV26: =IF(ISBLANK(B26)," ",(COUNTA($P$20:$BT$20)-BU26)) | BW26: =IF(ISBLANK(B26)," ",'Skole scoring'!BG9) | BX26: =IF(ISBLANK(B26)," ",(BU26)-(BW26)-BY26) | BY26: =IF(ISBLANK(B26)," ",COUNTIF(P26:BT26,5))
A27: =IF(ISBLANK(B27)," ",IF(ISBLANK(N27),1," ")) | E27: =IF(ISBLANK(E26)," ",E26) | F27: =IF(ISBLANK($E$21),"",VLOOKUP($E$21,Skoleliste!$A:$H,2,FALSE)) | G27: =IF(ISBLANK($E$21),"",VLOOKUP($E$21,Skoleliste!$A:$H,3,FALSE)) | H27: =IF(ISBLANK($E$21),"",VLOOKUP($E$21,Skoleliste!$A:$H,4,FALSE)) | I27: =IF(ISBLANK($E$21),"",VLOOKUP($E$21,Skoleliste!$A:$H,5,FALSE)) | J27: =IF(ISBLANK($E$21),"",VLOOKUP($E$21,Skoleliste!$A:$H,6,FALSE)) | K27: =IF(ISBLANK($E$21),"",VLOOKUP($E$21,Skoleliste!$A:$H,7,FALSE)) | L27: =IF(ISBLANK($E$21),"",VLOOKUP($E$21,Skoleliste!$A:$H,8,FALSE)) | M27: =IF(ISBLANK(M26)," ",M26) | O27: =IF(ISBLANK(O26)," ",O26) | BU27: =IF(ISBLANK(B27)," ",COUNTA(P27:BT27)) | BV27: =IF(ISBLANK(B27)," ",(COUNTA($P$20:$BT$20)-BU27)) | BW27: =IF(ISBLANK(B27)," ",'Skole scoring'!BG10) | BX27: =IF(ISBLANK(B27)," ",(BU27)-(BW27)-BY27) | BY27: =IF(ISBLANK(B27)," ",COUNTIF(P27:BT27,5))
A28: =IF(ISBLANK(B28)," ",IF(ISBLANK(N28),1," ")) | E28: =IF(ISBLANK(E27)," ",E27) | F28: =IF(ISBLANK($E$21),"",VLOOKUP($E$21,Skoleliste!$A:$H,2,FALSE)) | G28: =IF(ISBLANK($E$21),"",VLOOKUP($E$21,Skoleliste!$A:$H,3,FALSE)) | H28: =IF(ISBLANK($E$21),"",VLOOKUP($E$21,Skoleliste!$A:$H,4,FALSE)) | I28: =IF(ISBLANK($E$21),"",VLOOKUP($E$21,Skoleliste!$A:$H,5,FALSE)) | J28: =IF(ISBLANK($E$21),"",VLOOKUP($E$21,Skoleliste!$A:$H,6,FALSE)) | K28: =IF(ISBLANK($E$21),"",VLOOKUP($E$21,Skoleliste!$A:$H,7,FALSE)) | L28: =IF(ISBLANK($E$21),"",VLOOKUP($E$21,Skoleliste!$A:$H,8,FALSE)) | M28: =IF(ISBLANK(M27)," ",M27) | O28: =IF(ISBLANK(O27)," ",O27) | BU28: =IF(ISBLANK(B28)," ",COUNTA(P28:BT28)) | BV28: =IF(ISBLANK(B28)," ",(COUNTA($P$20:$BT$20)-BU28)) | BW28: =IF(ISBLANK(B28)," ",'Skole scoring'!BG11) | BX28: =IF(ISBLANK(B28)," ",(BU28)-(BW28)-BY28) | BY28: =IF(ISBLANK(B28)," ",COUNTIF(P28:BT28,5))
A29: =IF(ISBLANK(B29)," ",IF(ISBLANK(N29),1," ")) | E29: =IF(ISBLANK(E28)," ",E28) | F29: =IF(ISBLANK($E$21),"",VLOOKUP($E$21,Skoleliste!$A:$H,2,FALSE)) | G29: =IF(ISBLANK($E$21),"",VLOOKUP($E$21,Skoleliste!$A:$H,3,FALSE)) | H29: =IF(ISBLANK($E$21),"",VLOOKUP($E$21,Skoleliste!$A:$H,4,FALSE)) | I29: =IF(ISBLANK($E$21),"",VLOOKUP($E$21,Skoleliste!$A:$H,5,FALSE)) | J29: =IF(ISBLANK($E$21),"",VLOOKUP($E$21,Skoleliste!$A:$H,6,FALSE)) | K29: =IF(ISBLANK($E$21),"",VLOOKUP($E$21,Skoleliste!$A:$H,7,FALSE)) | L29: =IF(ISBLANK($E$21),"",VLOOKUP($E$21,Skoleliste!$A:$H,8,FALSE)) | M29: =IF(ISBLANK(M28)," ",M28) | O29: =IF(ISBLANK(O28)," ",O28) | BU29: =IF(ISBLANK(B29)," ",COUNTA(P29:BT29)) | BV29: =IF(ISBLANK(B29)," ",(COUNTA($P$20:$BT$20)-BU29)) | BW29: =IF(ISBLANK(B29)," ",'Skole scoring'!BG12) | BX29: =IF(ISBLANK(B29)," ",(BU29)-(BW29)-BY29) | BY29: =IF(ISBLANK(B29)," ",COUNTIF(P29:BT29,5))
A30: =IF(ISBLANK(B30)," ",IF(ISBLANK(N30),1," ")) | E30: =IF(ISBLANK(E29)," ",E29) | F30: =IF(ISBLANK($E$21),"",VLOOKUP($E$21,Skoleliste!$A:$H,2,FALSE)) | G30: =IF(ISBLANK($E$21),"",VLOOKUP($E$21,Skoleliste!$A:$H,3,FALSE)) | H30: =IF(ISBLANK($E$21),"",VLOOKUP($E$21,Skoleliste!$A:$H,4,FALSE)) | I30: =IF(ISBLANK($E$21),"",VLOOKUP($E$21,Skoleliste!$A:$H,5,FALSE)) | J30: =IF(ISBLANK($E$21),"",VLOOKUP($E$21,Skoleliste!$A:$H,6,FALSE)) | K30: =IF(ISBLANK($E$21),"",VLOOKUP($E$21,Skoleliste!$A:$H,7,FALSE)) | L30: =IF(ISBLANK($E$21),"",VLOOKUP($E$21,Skoleliste!$A:$H,8,FALSE)) | M30: =IF(ISBLANK(M29)," ",M29) | O30: =IF(ISBLANK(O29)," ",O29) | BU30: =IF(ISBLANK(B30)," ",COUNTA(P30:BT30)) | BV30: =IF(ISBLANK(B30)," ",(COUNTA($P$20:$BT$20)-BU30)) | BW30: =IF(ISBLANK(B30)," ",'Skole scoring'!BG13) | BX30: =IF(ISBLANK(B30)," ",(BU30)-(BW30)-BY30) | BY30: =IF(ISBLANK(B30)," ",COUNTIF(P30:BT30,5))
A31: =IF(ISBLANK(B31)," ",IF(ISBLANK(N31),1," ")) | E31: =IF(ISBLANK(E30)," ",E30) | F31: =IF(ISBLANK($E$21),"",VLOOKUP($E$21,Skoleliste!$A:$H,2,FALSE)) | G31: =IF(ISBLANK($E$21),"",VLOOKUP($E$21,Skoleliste!$A:$H,3,FALSE)) | H31: =IF(ISBLANK($E$21),"",VLOOKUP($E$21,Skoleliste!$A:$H,4,FALSE)) | I31: =IF(ISBLANK($E$21),"",VLOOKUP($E$21,Skoleliste!$A:$H,5,FALSE)) | J31: =IF(ISBLANK($E$21),"",VLOOKUP($E$21,Skoleliste!$A:$H,6,FALSE)) | K31: =IF(ISBLANK($E$21),"",VLOOKUP($E$21,Skoleliste!$A:$H,7,FALSE)) | L31: =IF(ISBLANK($E$21),"",VLOOKUP($E$21,Skoleliste!$A:$H,8,FALSE)) | M31: =IF(ISBLANK(M30)," ",M30) | O31: =IF(ISBLANK(O30)," ",O30) | BU31: =IF(ISBLANK(B31)," ",COUNTA(P31:BT31)) | BV31: =IF(ISBLANK(B31)," ",(COUNTA($P$20:$BT$20)-BU31)) | BW31: =IF(ISBLANK(B31)," ",'Skole scoring'!BG14) | BX31: =IF(ISBLANK(B31)," ",(BU31)-(BW31)-BY31) | BY31: =IF(ISBLANK(B31)," ",COUNTIF(P31:BT31,5))
A32: =IF(ISBLANK(B32)," ",IF(ISBLANK(N32),1," ")) | E32: =IF(ISBLANK(E31)," ",E31) | F32: =IF(ISBLANK($E$21),"",VLOOKUP($E$21,Skoleliste!$A:$H,2,FALSE)) | G32: =IF(ISBLANK($E$21),"",VLOOKUP($E$21,Skoleliste!$A:$H,3,FALSE)) | H32: =IF(ISBLANK($E$21),"",VLOOKUP($E$21,Skoleliste!$A:$H,4,FALSE)) | I32: =IF(ISBLANK($E$21),"",VLOOKUP($E$21,Skoleliste!$A:$H,5,FALSE)) | J32: =IF(ISBLANK($E$21),"",VLOOKUP($E$21,Skoleliste!$A:$H,6,FALSE)) | K32: =IF(ISBLANK($E$21),"",VLOOKUP($E$21,Skoleliste!$A:$H,7,FALSE)) | L32: =IF(ISBLANK($E$21),"",VLOOKUP($E$21,Skoleliste!$A:$H,8,FALSE)) | M32: =IF(ISBLANK(M31)," ",M31) | O32: =IF(ISBLANK(O31)," ",O31) | BU32: =IF(ISBLANK(B32)," ",COUNTA(P32:BT32)) | BV32: =IF(ISBLANK(B32)," ",(COUNTA($P$20:$BT$20)-BU32)) | BW32: =IF(ISBLANK(B32)," ",'Skole scoring'!BG15) | BX32: =IF(ISBLANK(B32)," ",(BU32)-(BW32)-BY32) | BY32: =IF(ISBLANK(B32)," ",COUNTIF(P32:BT32,5))
A33: =IF(ISBLANK(B33)," ",IF(ISBLANK(N33),1," ")) | E33: =IF(ISBLANK(E32)," ",E32) | F33: =IF(ISBLANK($E$21),"",VLOOKUP($E$21,Skoleliste!$A:$H,2,FALSE)) | G33: =IF(ISBLANK($E$21),"",VLOOKUP($E$21,Skoleliste!$A:$H,3,FALSE)) | H33: =IF(ISBLANK($E$21),"",VLOOKUP($E$21,Skoleliste!$A:$H,4,FALSE)) | I33: =IF(ISBLANK($E$21),"",VLOOKUP($E$21,Skoleliste!$A:$H,5,FALSE)) | J33: =IF(ISBLANK($E$21),"",VLOOKUP($E$21,Skoleliste!$A:$H,6,FALSE)) | K33: =IF(ISBLANK($E$21),"",VLOOKUP($E$21,Skoleliste!$A:$H,7,FALSE)) | L33: =IF(ISBLANK($E$21),"",VLOOKUP($E$21,Skoleliste!$A:$H,8,FALSE)) | M33: =IF(ISBLANK(M32)," ",M32) | O33: =IF(ISBLANK(O32)," ",O32) | BU33: =IF(ISBLANK(B33)," ",COUNTA(P33:BT33)) | BV33: =IF(ISBLANK(B33)," ",(COUNTA($P$20:$BT$20)-BU33)) | BW33: =IF(ISBLANK(B33)," ",'Skole scoring'!BG16) | BX33: =IF(ISBLANK(B33)," ",(BU33)-(BW33)-BY33) | BY33: =IF(ISBLANK(B33)," ",COUNTIF(P33:BT33,5))
A34: =IF(ISBLANK(B34)," ",IF(ISBLANK(N34),1," ")) | E34: =IF(ISBLANK(E33)," ",E33) | F34: =IF(ISBLANK($E$21),"",VLOOKUP($E$21,Skoleliste!$A:$H,2,FALSE)) | G34: =IF(ISBLANK($E$21),"",VLOOKUP($E$21,Skoleliste!$A:$H,3,FALSE)) | H34: =IF(ISBLANK($E$21),"",VLOOKUP($E$21,Skoleliste!$A:$H,4,FALSE)) | I34: =IF(ISBLANK($E$21),"",VLOOKUP($E$21,Skoleliste!$A:$H,5,FALSE)) | J34: =IF(ISBLANK($E$21),"",VLOOKUP($E$21,Skoleliste!$A:$H,6,FALSE)) | K34: =IF(ISBLANK($E$21),"",VLOOKUP($E$21,Skoleliste!$A:$H,7,FALSE)) | L34: =IF(ISBLANK($E$21),"",VLOOKUP($E$21,Skoleliste!$A:$H,8,FALSE)) | M34: =IF(ISBLANK(M33)," ",M33) | O34: =IF(ISBLANK(O33)," ",O33) | BU34: =IF(ISBLANK(B34)," ",COUNTA(P34:BT34)) | BV34: =IF(ISBLANK(B34)," ",(COUNTA($P$20:$BT$20)-BU34)) | BW34: =IF(ISBLANK(B34)," ",'Skole scoring'!BG17) | BX34: =IF(ISBLANK(B34)," ",(BU34)-(BW34)-BY34) | BY34: =IF(ISBLANK(B34)," ",COUNTIF(P34:BT34,5))
... A46: =IF(ISBLANK(B46)," ",IF(ISBLANK(N46),1," ")) | E46: =IF(ISBLANK(E45)," ",E45) | F46: =IF(ISBLANK($E$21),"",VLOOKUP($E$21,Skoleliste!$A:$H,2,FALSE)) | G46: =IF(ISBLANK($E$21),"",VLOOKUP($E$21,Skoleliste!$A:$H,3,FALSE)) | H46: =IF(ISBLANK($E$21),"",VLOOKUP($E$21,Skoleliste!$A:$H,4,FALSE)) | I46: =IF(ISBLANK($E$21),"",VLOOKUP($E$21,Skoleliste!$A:$H,5,FALSE)) | J46: =IF(ISBLANK($E$21),"",VLOOKUP($E$21,Skoleliste!$A:$H,6,FALSE)) | K46: =IF(ISBLANK($E$21),"",VLOOKUP($E$21,Skoleliste!$A:$H,7,FALSE)) | L46: =IF(ISBLANK($E$21),"",VLOOKUP($E$21,Skoleliste!$A:$H,8,FALSE)) | M46: =IF(ISBLANK(M45)," ",M45) | O46: =IF(ISBLANK(O45)," ",O45) | BU46: =IF(ISBLANK(B46)," ",COUNTA(P46:BT46)) | BV46: =IF(ISBLANK(B46)," ",(COUNTA($P$20:$BT$20)-BU46)) | BW46: =IF(ISBLANK(B46)," ",'Skole scoring'!BG29) | BX46: =IF(ISBLANK(B46)," ",(BU46)-(BW46)-BY46) | BY46: =IF(ISBLANK(B46)," ",COUNTIF(P46:BT46,5))

Sheet Resultater M1
C4: =IF(COUNTIF('Skole scoring'!BH4,Grøn),'Midt 1.kl. -Klasse'!B21,"") | D4: =IF(COUNTIFS('Skole scoring'!BH4,GulA,'Skole scoring'!BH4,GulB),'Midt 1.kl. -Klasse'!B21,"") | E4: =IF(COUNTIF('Skole scoring'!BH4,Rød),'Midt 1.kl. -Klasse'!B21,"")
C5: =IF(COUNTIF('Skole scoring'!BH5,Grøn),'Midt 1.kl. -Klasse'!B22,"") | D5: =IF(COUNTIFS('Skole scoring'!BH5,GulA,'Skole scoring'!BH5,GulB),'Midt 1.kl. -Klasse'!B22,"") | E5: =IF(COUNTIF('Skole scoring'!BH5,Rød),'Midt 1.kl. -Klasse'!B22,"")
C6: =IF(COUNTIF('Skole scoring'!BH6,Grøn),'Midt 1.kl. -Klasse'!B23,"") | D6: =IF(COUNTIFS('Skole scoring'!BH6,GulA,'Skole scoring'!BH6,GulB),'Midt 1.kl. -Klasse'!B23,"") | E6: =IF(COUNTIF('Skole scoring'!BH6,Rød),'Midt 1.kl. -Klasse'!B23,"")
C7: =IF(COUNTIF('Skole scoring'!BH7,Grøn),'Midt 1.kl. -Klasse'!B24,"") | D7: =IF(COUNTIFS('Skole scoring'!BH7,GulA,'Skole scoring'!BH7,GulB),'Midt 1.kl. -Klasse'!B24,"") | E7: =IF(COUNTIF('Skole scoring'!BH7,Rød),'Midt 1.kl. -Klasse'!B24,"")
C8: =IF(COUNTIF('Skole scoring'!BH8,Grøn),'Midt 1.kl. -Klasse'!B25,"") | D8: =IF(COUNTIFS('Skole scoring'!BH8,GulA,'Skole scoring'!BH8,GulB),'Midt 1.kl. -Klasse'!B25,"") | E8: =IF(COUNTIF('Skole scoring'!BH8,Rød),'Midt 1.kl. -Klasse'!B25,"")
C9: =IF(COUNTIF('Skole scoring'!BH9,Grøn),'Midt 1.kl. -Klasse'!B26,"") | D9: =IF(COUNTIFS('Skole scoring'!BH9,GulA,'Skole scoring'!BH9,GulB),'Midt 1.kl. -Klasse'!B26,"") | E9: =IF(COUNTIF('Skole scoring'!BH9,Rød),'Midt 1.kl. -Klasse'!B26,"")
C10: =IF(COUNTIF('Skole scoring'!BH10,Grøn),'Midt 1.kl. -Klasse'!B27,"") | D10: =IF(COUNTIFS('Skole scoring'!BH10,GulA,'Skole scoring'!BH10,GulB),'Midt 1.kl. -Klasse'!B27,"") | E10: =IF(COUNTIF('Skole scoring'!BH10,Rød),'Midt 1.kl. -Klasse'!B27,"")
C11: =IF(COUNTIF('Skole scoring'!BH11,Grøn),'Midt 1.kl. -Klasse'!B28,"") | D11: =IF(COUNTIFS('Skole scoring'!BH11,GulA,'Skole scoring'!BH11,GulB),'Midt 1.kl. -Klasse'!B28,"") | E11: =IF(COUNTIF('Skole scoring'!BH11,Rød),'Midt 1.kl. -Klasse'!B28,"")
C12: =IF(COUNTIF('Skole scoring'!BH12,Grøn),'Midt 1.kl. -Klasse'!B29,"") | D12: =IF(COUNTIFS('Skole scoring'!BH12,GulA,'Skole scoring'!BH12,GulB),'Midt 1.kl. -Klasse'!B29,"") | E12: =IF(COUNTIF('Skole scoring'!BH12,Rød),'Midt 1.kl. -Klasse'!B29,"")
C13: =IF(COUNTIF('Skole scoring'!BH13,Grøn),'Midt 1.kl. -Klasse'!B30,"") | D13: =IF(COUNTIFS('Skole scoring'!BH13,GulA,'Skole scoring'!BH13,GulB),'Midt 1.kl. -Klasse'!B30,"") | E13: =IF(COUNTIF('Skole scoring'!BH13,Rød),'Midt 1.kl. -Klasse'!B30,"")
C14: =IF(COUNTIF('Skole scoring'!BH14,Grøn),'Midt 1.kl. -Klasse'!B31,"") | D14: =IF(COUNTIFS('Skole scoring'!BH14,GulA,'Skole scoring'!BH14,GulB),'Midt 1.kl. -Klasse'!B31,"") | E14: =IF(COUNTIF('Skole scoring'!BH14,Rød),'Midt 1.kl. -Klasse'!B31,"")
C15: =IF(COUNTIF('Skole scoring'!BH15,Grøn),'Midt 1.kl. -Klasse'!B32,"") | D15: =IF(COUNTIFS('Skole scoring'!BH15,GulA,'Skole scoring'!BH15,GulB),'Midt 1.kl. -Klasse'!B32,"") | E15: =IF(COUNTIF('Skole scoring'!BH15,Rød),'Midt 1.kl. -Klasse'!B32,"")
... C29: =IF(COUNTIF('Skole scoring'!BH29,Grøn),'Midt 1.kl. -Klasse'!B46,"") | D29: =IF(COUNTIFS('Skole scoring'!BH29,GulA,'Skole scoring'!BH29,GulB),'Midt 1.kl. -Klasse'!B46,"") | E29: =IF(COUNTIF('Skole scoring'!BH29,Rød),'Midt 1.kl. -Klasse'!B46,"")

Sheet Elev Score M1
C2: Atuartup killiffia
F3: Suliassat katillugit | G3: 57
C4: Ateq | F4: Eqqortumik akisat | G4: =VLOOKUP($D$4,AAN_1b_ES,62,FALSE) -> 0
C6: Naqinnerit nipaat | F6: Naqinnernik allanneq | I6: Oqaatsimi nipi siulleq
C7: Misiligutaasut | D7: Akissut | F7: Misiligutaasut | G7: Akissut | I7: Misiligutaasut | J7: Akissut
A8: 2 | C8: f | D8: =VLOOKUP($D$4,AAN_1b_ES,A8,FALSE) | F8: J | G8: =VLOOKUP($D$4,AAN_1b_ES,A32,FALSE) | I8: Siku | J8: =VLOOKUP($D$4,AAN_1b_ES,A51,FALSE)
A9: 3 | C9: a | D9: =VLOOKUP($D$4,AAN_1b_ES,A9,FALSE) | F9: S | G9: =VLOOKUP($D$4,AAN_1b_ES,A33,FALSE) | I9: Puugutaq | J9: =VLOOKUP($D$4,AAN_1b_ES,A52,FALSE)
A10: 4 | C10: v | D10: =VLOOKUP($D$4,AAN_1b_ES,A10,FALSE) | F10: K | G10: =VLOOKUP($D$4,AAN_1b_ES,A34,FALSE) | I10: Ulloriaq | J10: =VLOOKUP($D$4,AAN_1b_ES,A53,FALSE)
A11: 5 | C11: rr | D11: =VLOOKUP($D$4,AAN_1b_ES,A11,FALSE) | F11: V | G11: =VLOOKUP($D$4,AAN_1b_ES,A35,FALSE) | I11: Tuttu | J11: =VLOOKUP($D$4,AAN_1b_ES,A54,FALSE)
A12: 6 | C12: i | D12: =VLOOKUP($D$4,AAN_1b_ES,A12,FALSE) | F12: U | G12: =VLOOKUP($D$4,AAN_1b_ES,A36,FALSE) | I12: Nanoq | J12: =VLOOKUP($D$4,AAN_1b_ES,A55,FALSE)
A13: 7 | C13: gg | D13: =VLOOKUP($D$4,AAN_1b_ES,A13,FALSE) | F13: P | G13: =VLOOKUP($D$4,AAN_1b_ES,A37,FALSE) | I13: Aqerluusaq | J13: =VLOOKUP($D$4,AAN_1b_ES,A56,FALSE)
A14: 8 | C14: s | D14: =VLOOKUP($D$4,AAN_1b_ES,A14,FALSE) | F14: M | G14: =VLOOKUP($D$4,AAN_1b_ES,A38,FALSE) | I14: Qajaq | J14: =VLOOKUP($D$4,AAN_1b_ES,A57,FALSE)
A15: 9 | C15: t | D15: =VLOOKUP($D$4,AAN_1b_ES,A15,FALSE) | F15: I | G15: =VLOOKUP($D$4,AAN_1b_ES,A39,FALSE) | I15: Kulloq | J15: =VLOOKUP($D$4,AAN_1b_ES,A58,FALSE)
A16: 10 | C16: l | D16: =VLOOKUP($D$4,AAN_1b_ES,A16,FALSE) | F16: T | G16: =VLOOKUP($D$4,AAN_1b_ES,A40,FALSE) | I16: Inneq | J16: =VLOOKUP($D$4,AAN_1b_ES,A59,FALSE)
A17: 11 | C17: n | D17: =VLOOKUP($D$4,AAN_1b_ES,A17,FALSE) | F17: H | G17: =VLOOKUP($D$4,AAN_1b_ES,A41,FALSE) | I17: Mannik | J17: =VLOOKUP($D$4,AAN_1b_ES,A60,FALSE)
A18: 12 | C18: k | D18: =VLOOKUP($D$4,AAN_1b_ES,A18,FALSE) | F18: F | G18: =VLOOKUP($D$4,AAN_1b_ES,A42,FALSE) | I18: Errorsivik | J18: =VLOOKUP($D$4,AAN_1b_ES,A61,FALSE)
A19: 13 | C19: j | D19: =VLOOKUP($D$4,AAN_1b_ES,A19,FALSE) | F19: Q | G19: =VLOOKUP($D$4,AAN_1b_ES,A43,FALSE) | I19: Raaja | J19: =VLOOKUP($D$4,AAN_1b_ES,A62,FALSE)
... A21: 15 | C21: g | D21: =VLOOKUP($D$4,AAN_1b_ES,A21,FALSE) | F21: L | G21: =VLOOKUP($D$4,AAN_1b_ES,A45,FALSE) | I21: Tiitorfik | J21: =VLOOKUP($D$4,AAN_1b_ES,A64,FALSE)
A22: 16 | C22: r | D22: =VLOOKUP($D$4,AAN_1b_ES,A22,FALSE) | F22: A | G22: =VLOOKUP($D$4,AAN_1b_ES,A46,FALSE) | I22: Suliassat | J22: 14
A23: 17 | C23: h | D23: =VLOOKUP($D$4,AAN_1b_ES,A23,FALSE) | F23: G | G23: =VLOOKUP($D$4,AAN_1b_ES,A47,FALSE) | I23: Eqqortumik akisat | J23: =VLOOKUP(D4,AAN_1b_ES,61,FALSE) -> 0
A24: 18 | C24: q | D24: =VLOOKUP($D$4,AAN_1b_ES,A24,FALSE) | F24: N | G24: =VLOOKUP($D$4,AAN_1b_ES,A48,FALSE)
A25: 19 | C25: ll | D25: =VLOOKUP($D$4,AAN_1b_ES,A25,FALSE) | F25: R | G25: =VLOOKUP($D$4,AAN_1b_ES,A49,FALSE)
A26: 20 | C26: e | D26: =VLOOKUP($D$4,AAN_1b_ES,A26,FALSE) | F26: O | G26: =VLOOKUP($D$4,AAN_1b_ES,A50,FALSE)
A27: 21 | C27: ng | D27: =VLOOKUP($D$4,AAN_1b_ES,A27,FALSE) | F27: Suliassat | G27: 19
A28: 22 | C28: p | D28: =VLOOKUP($D$4,AAN_1b_ES,A28,FALSE) | F28: Eqqortumik akisat | G28: =VLOOKUP(D4,AAN_1b_ES,60,FALSE) -> 0
A29: 23 | C29: m | D29: =VLOOKUP($D$4,AAN_1b_ES,A29,FALSE)
A30: 24 | C30: o | D30: =VLOOKUP($D$4,AAN_1b_ES,A30,FALSE)
A31: 25 | C31: t (d) | D31: =VLOOKUP($D$4,AAN_1b_ES,A31,FALSE)
A32: 26 | C32: Suliassat | D32: 24
A33: 27 | C33: Eqqortumik akisat | D33: =VLOOKUP($D$4,AAN_1b_ES,59,FALSE) -> 0
A34: 28
A35: 29 | C35: Ilitsersuut
A36: 30 | C36: Tungujortut: Eqqortumik akisat
A37: 31 | C37: Qaqortut immersukkat: Kukkusumik akisat
A38: 32 | C38: Qaqortut imaqanngitsut: Akineqanngitsut
A39: 33 | C39: X: Naqinneq mumillugu (spejlvendt) allataq, ass. Qx
A40: 34 | C40: Ugyldige: Akissut atorsinnaanngitsoq, ass. marlunnik x-iligaq
A41: 35
A42: 36
A43: 37
...

Sheet Slut 1.kl. -Klasse
P1: R | Q1: r | R1: S | S1: s | T1: K | U1: k | V1: V | W1: v | X1: U | Y1: u | Z1: P | AA1: p | AB1: M | AC1: m | AD1: I | AE1: i | AF1: Q | AG1: q | AH1: H | AI1: h | AJ1: F | AK1: f | AL1: T | AM1: t | AN1: E | AO1: e | AP1: L | AQ1: l | AR1: G | AS1: g | AT1: N | AU1: n | AV1: J | AW1: j | AX1: O | AY1: o | AZ1: A | BA1: a | BB1: Ma | BC1: Pu | BD1: Ni | BE1: Aq | BF1: Uu | BG1: Ua | BH1: Toq | BI1: Nut | BJ1: Sak | BK1: Miu | BL1: Laa | BM1: Isa | BN1: Ara | BO1: Puli | BP1: Alli | BQ1: Ikka | BR1: Ammi | BS1: Ulu | BT1: Iga | BU1: Niu | BV1: Siku | BW1: Oqaq | BX1: Appa | BY1: Illu | BZ1: Savik | CA1: Tikeq | CB1: Arsaq | CC1: Orpik | CD1: Tuttu | CE1: Immuk | CF1: Assak | CG1: Kaagi | CH1: Aaveq | CI1: Umiaq | CJ1: Akiseq | CK1: Aasiak | CL1: Saagut | CM1: Qorfik | CN1: Kulloq | CO1: Atuagaq | CP1: Inuusaq | CQ1: Aqisseq
O2: Opgave | P2: Naqinnernik allanneq | BB2: Oqaasiusanik allanneq | BS2: Oqaatsinik atuarneq
C3: Distraktor | BB3: 1 | BC3: 1 | BD3: 1 | BE3: 1 | BF3: 1 | BG3: 1 | BH3: 1 | BI3: 1 | BJ3: 1 | BK3: 1 | BL3: 1 | BM3: 1 | BN3: 1 | BO3: 1 | BP3: 1 | BQ3: 1 | BR3: 1 | BS3: 4 | BT3: 1 | BU3: 3 | BV3: 4 | BW3: 2 | BX3: 1 | BY3: 3 | BZ3: 2 | CA3: 4 | CB3: 3 | CC3: 1 | CD3: 2 | CE3: 3 | CF3: 4 | CG3: 2 | CH3: 4 | CI3: 1 | CJ3: 3 | CK3: 2 | CL3: 4 | CM3: 3 | CN3: 1 | CO3: 4 | CP3: 2 | CQ3: 1
C4: afstemning | P4: =SUM(P5:P11) -> 0 | Q4: =SUM(Q5:Q11) -> 0 | R4: =SUM(R5:R11) -> 0 | S4: =SUM(S5:S11) -> 0 | T4: =SUM(T5:T11) -> 0 | U4: =SUM(U5:U11) -> 0 | V4: =SUM(V5:V11) -> 0 | W4: =SUM(W5:W11) -> 0 | ... AJ4: =SUM(AJ5:AJ11) -> 0 | AK4: =SUM(AK6:AK11) -> 0 | AL4: =SUM(AL6:AL11) -> 0 | AM4: =SUM(AM6:AM11) -> 0 | AN4: =SUM(AN6:AN11) -> 0 | AO4: =SUM(AO6:AO11) -> 0 | AP4: =SUM(AP6:AP11) -> 0 | AQ4: =SUM(AQ5:AQ11) -> 0 | AR4: =SUM(AR5:AR11) -> 0 | AS4: =SUM(AS5:AS11) -> 0 | AT4: =SUM(AT5:AT11) -> 0 | AU4: =SUM(AU5:AU11) -> 0 | AV4: =SUM(AV5:AV11) -> 0 | AW4: =SUM(AW5:AW11) -> 0 | AX4: =SUM(AX5:AX11) -> 0 | ... BK4: =SUM(BK5:BK11) -> 0 | BL4: =SUM(BL6:BL11) -> 0 | BM4: =SUM(BM6:BM11) -> 0 | BN4: =SUM(BN6:BN11) -> 0 | BO4: =SUM(BO6:BO11) -> 0 | BP4: =SUM(BP6:BP11) -> 0 | BQ4: =SUM(BQ6:BQ11) -> 0 | BR4: =SUM(BR6:BR11) -> 0 | BS4: =SUM(BS6:BS11) -> 0 | ... CQ4: =SUM(CQ6:CQ11) -> 0
C5: 0 | P5: =COUNTIF('Skole scoring'!B34:B59,0) -> 0 | Q5: =COUNTIF('Skole scoring'!C34:C59,0) -> 0 | R5: =COUNTIF('Skole scoring'!D34:D59,0) -> 0 | S5: =COUNTIF('Skole scoring'!E34:E59,0) -> 0 | T5: =COUNTIF('Skole scoring'!F34:F59,0) -> 0 | U5: =COUNTIF('Skole scoring'!G34:G59,0) -> 0 | V5: =COUNTIF('Skole scoring'!H34:H59,0) -> 0 | W5: =COUNTIF('Skole scoring'!I34:I59,0) -> 0 | ... BR5: =COUNTIF('Skole scoring'!BD34:BD59,0) -> 0
C6: 1 | P6: =COUNTIF(P$21:P$46,P1) -> 0 | Q6: =COUNTIF(Q$21:Q$46,Q1) -> 0 | R6: =COUNTIF(R$21:R$46,R1) -> 0 | S6: =COUNTIF(S$21:S$46,S1) -> 0 | T6: =COUNTIF(T$21:T$46,T1) -> 0 | U6: =COUNTIF(U$21:U$46,U1) -> 0 | V6: =COUNTIF(V$21:V$46,V1) -> 0 | W6: =COUNTIF(W$21:W$46,W1) -> 0 | ... BK6: =COUNTIF(BK$21:BK$46,BK1) -> 0 | BL6: =COUNTIF(BL$21:BL$46,1) -> 0 | BM6: =COUNTIF(BM$21:BM$46,1) -> 0 | BN6: =COUNTIF(BN$21:BN$46,1) -> 0 | BO6: =COUNTIF(BO$21:BO$46,1) -> 0 | BP6: =COUNTIF(BP$21:BP$46,1) -> 0 | BQ6: =COUNTIF(BQ$21:BQ$46,1) -> 0 | BR6: =COUNTIF(BR$21:BR$46,1) -> 0 | BS6: =COUNTIF(BS$21:BS$46,1) -> 0 | ... CQ6: =COUNTIF(CQ$21:CQ$46,1) -> 0
C7: 2 | BS7: =COUNTIF(BS$21:BS$46,2) -> 0 | BT7: =COUNTIF(BT$21:BT$46,2) -> 0 | BU7: =COUNTIF(BU$21:BU$46,2) -> 0 | BV7: =COUNTIF(BV$21:BV$46,2) -> 0 | BW7: =COUNTIF(BW$21:BW$46,2) -> 0 | BX7: =COUNTIF(BX$21:BX$46,2) -> 0 | BY7: =COUNTIF(BY$21:BY$46,2) -> 0 | BZ7: =COUNTIF(BZ$21:BZ$46,2) -> 0 | ... CQ7: =COUNTIF(CQ$21:CQ$46,2) -> 0
C8: 3 | BS8: =COUNTIF(BS$21:BS$46,3) -> 0 | BT8: =COUNTIF(BT$21:BT$46,3) -> 0 | BU8: =COUNTIF(BU$21:BU$46,3) -> 0 | BV8: =COUNTIF(BV$21:BV$46,3) -> 0 | BW8: =COUNTIF(BW$21:BW$46,3) -> 0 | BX8: =COUNTIF(BX$21:BX$46,3) -> 0 | BY8: =COUNTIF(BY$21:BY$46,3) -> 0 | BZ8: =COUNTIF(BZ$21:BZ$46,3) -> 0 | ... CQ8: =COUNTIF(CQ$21:CQ$46,3) -> 0
C9: 4 | BS9: =COUNTIF(BS$21:BS$46,4) -> 0 | BT9: =COUNTIF(BT$21:BT$46,4) -> 0 | BU9: =COUNTIF(BU$21:BU$46,4) -> 0 | BV9: =COUNTIF(BV$21:BV$46,4) -> 0 | BW9: =COUNTIF(BW$21:BW$46,4) -> 0 | BX9: =COUNTIF(BX$21:BX$46,4) -> 0 | BY9: =COUNTIF(BY$21:BY$46,4) -> 0 | BZ9: =COUNTIF(BZ$21:BZ$46,4) -> 0 | ... CQ9: =COUNTIF(CQ$21:CQ$46,4) -> 0
C10: Ugyldige | P10: =COUNTIF(P21:P46,5) -> 0 | Q10: =COUNTIF(Q21:Q46,5) -> 0 | R10: =COUNTIF(R21:R46,5) -> 0 | S10: =COUNTIF(S21:S46,5) -> 0 | T10: =COUNTIF(T21:T46,5) -> 0 | U10: =COUNTIF(U21:U46,5) -> 0 | V10: =COUNTIF(V21:V46,5) -> 0 | W10: =COUNTIF(W21:W46,5) -> 0 | ... CQ10: =COUNTIF(CQ21:CQ46,5) -> 0
C11: Blanke | P11: =COUNTA($B$21:$B$46)-SUM(P5:P10) -> 0 | Q11: =COUNTA($B$21:$B$46)-SUM(Q5:Q10) -> 0 | R11: =COUNTA($B$21:$B$46)-SUM(R5:R10) -> 0 | S11: =COUNTA($B$21:$B$46)-SUM(S5:S10) -> 0 | T11: =COUNTA($B$21:$B$46)-SUM(T5:T10) -> 0 | U11: =COUNTA($B$21:$B$46)-SUM(U5:U10) -> 0 | V11: =COUNTA($B$21:$B$46)-SUM(V5:V10) -> 0 | W11: =COUNTA($B$21:$B$46)-SUM(W5:W10) -> 0 | ... CQ11: =COUNTA($B$21:$B$46)-SUM(CQ5:CQ10) -> 0
C12: 0 | P12: =+P5/P4 -> #DIV/0! | Q12: =+Q5/Q4 -> #DIV/0! | R12: =+R5/R4 -> #DIV/0! | S12: =+S5/S4 -> #DIV/0! | T12: =+T5/T4 -> #DIV/0! | U12: =+U5/U4 -> #DIV/0! | V12: =+V5/V4 -> #DIV/0! | W12: =+W5/W4 -> #DIV/0! | ... CQ12: =+CQ5/CQ4 -> #DIV/0!
C13: 1 | P13: =+P6/P$4 -> #DIV/0! | Q13: =+Q6/Q$4 -> #DIV/0! | R13: =+R6/R$4 -> #DIV/0! | S13: =+S6/S$4 -> #DIV/0! | T13: =+T6/T$4 -> #DIV/0! | U13: =+U6/U$4 -> #DIV/0! | V13: =+V6/V$4 -> #DIV/0! | W13: =+W6/W$4 -> #DIV/0! | ... CQ13: =+CQ6/CQ$4 -> #DIV/0!
C14: 2 | BS14: =+BS7/BS$4 -> #DIV/0! | BT14: =+BT7/BT$4 -> #DIV/0! | BU14: =+BU7/BU$4 -> #DIV/0! | BV14: =+BV7/BV$4 -> #DIV/0! | BW14: =+BW7/BW$4 -> #DIV/0! | BX14: =+BX7/BX$4 -> #DIV/0! | BY14: =+BY7/BY$4 -> #DIV/0! | BZ14: =+BZ7/BZ$4 -> #DIV/0! | ... CQ14: =+CQ7/CQ$4 -> #DIV/0!
C15: 3 | BS15: =+BS8/BS$4 -> #DIV/0! | BT15: =+BT8/BT$4 -> #DIV/0! | BU15: =+BU8/BU$4 -> #DIV/0! | BV15: =+BV8/BV$4 -> #DIV/0! | BW15: =+BW8/BW$4 -> #DIV/0! | BX15: =+BX8/BX$4 -> #DIV/0! | BY15: =+BY8/BY$4 -> #DIV/0! | BZ15: =+BZ8/BZ$4 -> #DIV/0! | ... CQ15: =+CQ8/CQ$4 -> #DIV/0!
C16: 4 | BS16: =+BS9/BS$4 -> #DIV/0! | BT16: =+BT9/BT$4 -> #DIV/0! | BU16: =+BU9/BU$4 -> #DIV/0! | BV16: =+BV9/BV$4 -> #DIV/0! | BW16: =+BW9/BW$4 -> #DIV/0! | BX16: =+BX9/BX$4 -> #DIV/0! | BY16: =+BY9/BY$4 -> #DIV/0! | BZ16: =+BZ9/BZ$4 -> #DIV/0! | ... CQ16: =+CQ9/CQ$4 -> #DIV/0!
C17: Ugyldige | P17: =+P10/P4 -> #DIV/0! | Q17: =+Q10/Q4 -> #DIV/0! | R17: =+R10/R4 -> #DIV/0! | S17: =+S10/S4 -> #DIV/0! | T17: =+T10/T4 -> #DIV/0! | U17: =+U10/U4 -> #DIV/0! | V17: =+V10/V4 -> #DIV/0! | W17: =+W10/W4 -> #DIV/0! | ... CQ17: =+CQ10/CQ4 -> #DIV/0!
C18: Blanke | P18: =+P11/P4 -> #DIV/0! | Q18: =+Q11/Q4 -> #DIV/0! | R18: =+R11/R4 -> #DIV/0! | S18: =+S11/S4 -> #DIV/0! | T18: =+T11/T4 -> #DIV/0! | U18: =+U11/U4 -> #DIV/0! | V18: =+V11/V4 -> #DIV/0! | W18: =+W11/W4 -> #DIV/0! | ... CQ18: =+CQ11/CQ4 -> #DIV/0!
C19: Rigtige | P19: =P13 -> #DIV/0! | Q19: =Q13 -> #DIV/0! | R19: =R13 -> #DIV/0! | S19: =S13 -> #DIV/0! | T19: =T13 -> #DIV/0! | U19: =U13 -> #DIV/0! | V19: =V13 -> #DIV/0! | W19: =W13 -> #DIV/0! | ... BR19: =BR13 -> #DIV/0! | BS19: =BS16 -> #DIV/0! | BT19: =BT13 -> #DIV/0! | BU19: =BU15 -> #DIV/0! | BV19: =BV16 -> #DIV/0! | BW19: =BW14 -> #DIV/0! | BX19: =BX13 -> #DIV/0! | BY19: =BY15 -> #DIV/0! | BZ19: =BZ14 -> #DIV/0! | CA19: =CA16 -> #DIV/0! | CB19: =CB15 -> #DIV/0! | CC19: =CC13 -> #DIV/0! | CD19: =CD14 -> #DIV/0! | CE19: =CE15 -> #DIV/0! | CF19: =CF16 -> #DIV/0! | CG19: =CG14 -> #DIV/0! | CH19: =CH16 -> #DIV/0! | CI19: =CI13 -> #DIV/0! | CJ19: =CJ15 -> #DIV/0! | CK19: =CK14 -> #DIV/0! | CL19: =CL16 -> #DIV/0! | CM19: =CM15 -> #DIV/0! | CN19: =CN13 -> #DIV/0! | CO19: =CO16 -> #DIV/0! | CP19: =CP14 -> #DIV/0! | CQ19: =CQ13 -> #DIV/0!
A20: Antal | B20: Navn | C20: CPR-nr | D20: køn (d/p) | E20: Nr | F20: Skole | G20: Adresse | H20: Postnr | I20: By | J20: Telefon | K20: Kommune | L20: by/bygd | M20: klasse | N20: Ikke mødt (kode) | O20: Indtaster | P20: 1 | Q20: 2 | R20: 3 | S20: 4 | T20: 5 | U20: 6 | V20: 7 | W20: 8 | X20: 9 | Y20: 10 | Z20: 11 | AA20: 12 | AB20: 13 | AC20: 14 | AD20: 15 | AE20: 16 | AF20: 17 | AG20: 18 | AH20: 19 | AI20: 20 | AJ20: 21 | AK20: 22 | AL20: 23 | AM20: 24 | AN20: 25 | AO20: 26 | AP20: 27 | AQ20: 28 | AR20: 29 | AS20: 30 | AT20: 31 | AU20: 32 | AV20: 33 | AW20: 34 | AX20: 35 | AY20: 36 | AZ20: 37 | BA20: 38 | BB20: 1 | BC20: 2 | BD20: 3 | BE20: 4 | BF20: 5 | BG20: 6 | BH20: 7 | BI20: 8 | BJ20: 9 | BK20: 10 | BL20: 11 | BM20: 12 | BN20: 13 | BO20: 14 | BP20: 15 | BQ20: 16 | BR20: 17 | BS20: 1 | BT20: 2 | BU20: 3 | BV20: 4 | BW20: 5 | BX20: 6 | BY20: 7 | BZ20: 8 | CA20: 9 | CB20: 10 | CC20: 11 | CD20: 12 | CE20: 13 | CF20: 14 | CG20: 15 | CH20: 16 | CI20: 17 | CJ20: 18 | CK20: 19 | CL20: 20 | CM20: 21 | CN20: 22 | CO20: 23 | CP20: 24 | CQ20: 25 | CR20: Besvarede | CS20: ikke-besvarede | CT20: rigtige | CU20: forkerte | CV20: Ugyldige
A21: =IF(ISBLANK(B21)," ",IF(ISBLANK(N21),1," ")) | F21: =IF(ISBLANK($E$21),"",VLOOKUP($E$21,Skoleliste!$A:$H,2,FALSE)) | G21: =IF(ISBLANK($E$21),"",VLOOKUP($E$21,Skoleliste!$A:$H,3,FALSE)) | H21: =IF(ISBLANK($E$21),"",VLOOKUP($E$21,Skoleliste!$A:$H,4,FALSE)) | I21: =IF(ISBLANK($E$21),"",VLOOKUP($E$21,Skoleliste!$A:$H,5,FALSE)) | J21: =IF(ISBLANK($E$21),"",VLOOKUP($E$21,Skoleliste!$A:$H,6,FALSE)) | K21: =IF(ISBLANK($E$21),"",VLOOKUP($E$21,Skoleliste!$A:$H,7,FALSE)) | L21: =IF(ISBLANK($E$21),"",VLOOKUP($E$21,Skoleliste!$A:$H,8,FALSE)) | CR21: =IF(ISBLANK(B21)," ",COUNTA(P21:CQ21)) | CS21: =IF(ISBLANK(B21)," ",(COUNTA($P$20:$CQ$20)-CR21)) | CT21: =IF(ISBLANK(B21)," ",'Skole scoring'!CD34) | CU21: =IF(ISBLANK(B21)," ",(CR21)-(CT21)-CV21) | CV21: =IF(ISBLANK(B21)," ",COUNTIF(P21:CQ21,5))
A22: =IF(ISBLANK(B22)," ",IF(ISBLANK(N22),1," ")) | E22: =IF(ISBLANK(E21)," ",E21) | F22: =IF(ISBLANK($E$21),"",VLOOKUP($E$21,Skoleliste!$A:$H,2,FALSE)) | G22: =IF(ISBLANK($E$21),"",VLOOKUP($E$21,Skoleliste!$A:$H,3,FALSE)) | H22: =IF(ISBLANK($E$21),"",VLOOKUP($E$21,Skoleliste!$A:$H,4,FALSE)) | I22: =IF(ISBLANK($E$21),"",VLOOKUP($E$21,Skoleliste!$A:$H,5,FALSE)) | J22: =IF(ISBLANK($E$21),"",VLOOKUP($E$21,Skoleliste!$A:$H,6,FALSE)) | K22: =IF(ISBLANK($E$21),"",VLOOKUP($E$21,Skoleliste!$A:$H,7,FALSE)) | L22: =IF(ISBLANK($E$21),"",VLOOKUP($E$21,Skoleliste!$A:$H,8,FALSE)) | M22: =IF(ISBLANK(M21)," ",M21) | O22: =IF(ISBLANK(O21)," ",O21) | CR22: =IF(ISBLANK(B22)," ",COUNTA(P22:CQ22)) | CS22: =IF(ISBLANK(B22)," ",(COUNTA($P$20:$CQ$20)-CR22)) | CT22: =IF(ISBLANK(B22)," ",'Skole scoring'!CD35) | CU22: =IF(ISBLANK(B22)," ",(CR22)-(CT22)-CV22) | CV22: =IF(ISBLANK(B22)," ",COUNTIF(P22:CQ22,5))
A23: =IF(ISBLANK(B23)," ",IF(ISBLANK(N23),1," ")) | E23: =IF(ISBLANK(E22)," ",E22) | F23: =IF(ISBLANK($E$21),"",VLOOKUP($E$21,Skoleliste!$A:$H,2,FALSE)) | G23: =IF(ISBLANK($E$21),"",VLOOKUP($E$21,Skoleliste!$A:$H,3,FALSE)) | H23: =IF(ISBLANK($E$21),"",VLOOKUP($E$21,Skoleliste!$A:$H,4,FALSE)) | I23: =IF(ISBLANK($E$21),"",VLOOKUP($E$21,Skoleliste!$A:$H,5,FALSE)) | J23: =IF(ISBLANK($E$21),"",VLOOKUP($E$21,Skoleliste!$A:$H,6,FALSE)) | K23: =IF(ISBLANK($E$21),"",VLOOKUP($E$21,Skoleliste!$A:$H,7,FALSE)) | L23: =IF(ISBLANK($E$21),"",VLOOKUP($E$21,Skoleliste!$A:$H,8,FALSE)) | M23: =IF(ISBLANK(M22)," ",M22) | O23: =IF(ISBLANK(O22)," ",O22) | CR23: =IF(ISBLANK(B23)," ",COUNTA(P23:CQ23)) | CS23: =IF(ISBLANK(B23)," ",(COUNTA($P$20:$CQ$20)-CR23)) | CT23: =IF(ISBLANK(B23)," ",'Skole scoring'!CD36) | CU23: =IF(ISBLANK(B23)," ",(CR23)-(CT23)-CV23) | CV23: =IF(ISBLANK(B23)," ",COUNTIF(P23:CQ23,5))
A24: =IF(ISBLANK(B24)," ",IF(ISBLANK(N24),1," ")) | E24: =IF(ISBLANK(E23)," ",E23) | F24: =IF(ISBLANK($E$21),"",VLOOKUP($E$21,Skoleliste!$A:$H,2,FALSE)) | G24: =IF(ISBLANK($E$21),"",VLOOKUP($E$21,Skoleliste!$A:$H,3,FALSE)) | H24: =IF(ISBLANK($E$21),"",VLOOKUP($E$21,Skoleliste!$A:$H,4,FALSE)) | I24: =IF(ISBLANK($E$21),"",VLOOKUP($E$21,Skoleliste!$A:$H,5,FALSE)) | J24: =IF(ISBLANK($E$21),"",VLOOKUP($E$21,Skoleliste!$A:$H,6,FALSE)) | K24: =IF(ISBLANK($E$21),"",VLOOKUP($E$21,Skoleliste!$A:$H,7,FALSE)) | L24: =IF(ISBLANK($E$21),"",VLOOKUP($E$21,Skoleliste!$A:$H,8,FALSE)) | M24: =IF(ISBLANK(M23)," ",M23) | O24: =IF(ISBLANK(O23)," ",O23) | CR24: =IF(ISBLANK(B24)," ",COUNTA(P24:CQ24)) | CS24: =IF(ISBLANK(B24)," ",(COUNTA($P$20:$CQ$20)-CR24)) | CT24: =IF(ISBLANK(B24)," ",'Skole scoring'!CD37) | CU24: =IF(ISBLANK(B24)," ",(CR24)-(CT24)-CV24) | CV24: =IF(ISBLANK(B24)," ",COUNTIF(P24:CQ24,5))
A25: =IF(ISBLANK(B25)," ",IF(ISBLANK(N25),1," ")) | E25: =IF(ISBLANK(E24)," ",E24) | F25: =IF(ISBLANK($E$21),"",VLOOKUP($E$21,Skoleliste!$A:$H,2,FALSE)) | G25: =IF(ISBLANK($E$21),"",VLOOKUP($E$21,Skoleliste!$A:$H,3,FALSE)) | H25: =IF(ISBLANK($E$21),"",VLOOKUP($E$21,Skoleliste!$A:$H,4,FALSE)) | I25: =IF(ISBLANK($E$21),"",VLOOKUP($E$21,Skoleliste!$A:$H,5,FALSE)) | J25: =IF(ISBLANK($E$21),"",VLOOKUP($E$21,Skoleliste!$A:$H,6,FALSE)) | K25: =IF(ISBLANK($E$21),"",VLOOKUP($E$21,Skoleliste!$A:$H,7,FALSE)) | L25: =IF(ISBLANK($E$21),"",VLOOKUP($E$21,Skoleliste!$A:$H,8,FALSE)) | M25: =IF(ISBLANK(M24)," ",M24) | O25: =IF(ISBLANK(O24)," ",O24) | CR25: =IF(ISBLANK(B25)," ",COUNTA(P25:CQ25)) | CS25: =IF(ISBLANK(B25)," ",(COUNTA($P$20:$CQ$20)-CR25)) | CT25: =IF(ISBLANK(B25)," ",'Skole scoring'!CD38) | CU25: =IF(ISBLANK(B25)," ",(CR25)-(CT25)-CV25) | CV25: =IF(ISBLANK(B25)," ",COUNTIF(P25:CQ25,5))
A26: =IF(ISBLANK(B26)," ",IF(ISBLANK(N26),1," ")) | E26: =IF(ISBLANK(E25)," ",E25) | F26: =IF(ISBLANK($E$21),"",VLOOKUP($E$21,Skoleliste!$A:$H,2,FALSE)) | G26: =IF(ISBLANK($E$21),"",VLOOKUP($E$21,Skoleliste!$A:$H,3,FALSE)) | H26: =IF(ISBLANK($E$21),"",VLOOKUP($E$21,Skoleliste!$A:$H,4,FALSE)) | I26: =IF(ISBLANK($E$21),"",VLOOKUP($E$21,Skoleliste!$A:$H,5,FALSE)) | J26: =IF(ISBLANK($E$21),"",VLOOKUP($E$21,Skoleliste!$A:$H,6,FALSE)) | K26: =IF(ISBLANK($E$21),"",VLOOKUP($E$21,Skoleliste!$A:$H,7,FALSE)) | L26: =IF(ISBLANK($E$21),"",VLOOKUP($E$21,Skoleliste!$A:$H,8,FALSE)) | M26: =IF(ISBLANK(M25)," ",M25) | O26: =IF(ISBLANK(O25)," ",O25) | CR26: =IF(ISBLANK(B26)," ",COUNTA(P26:CQ26)) | CS26: =IF(ISBLANK(B26)," ",(COUNTA($P$20:$CQ$20)-CR26)) | CT26: =IF(ISBLANK(B26)," ",'Skole scoring'!CD39) | CU26: =IF(ISBLANK(B26)," ",(CR26)-(CT26)-CV26) | CV26: =IF(ISBLANK(B26)," ",COUNTIF(P26:CQ26,5))
A27: =IF(ISBLANK(B27)," ",IF(ISBLANK(N27),1," ")) | E27: =IF(ISBLANK(E26)," ",E26) | F27: =IF(ISBLANK($E$21),"",VLOOKUP($E$21,Skoleliste!$A:$H,2,FALSE)) | G27: =IF(ISBLANK($E$21),"",VLOOKUP($E$21,Skoleliste!$A:$H,3,FALSE)) | H27: =IF(ISBLANK($E$21),"",VLOOKUP($E$21,Skoleliste!$A:$H,4,FALSE)) | I27: =IF(ISBLANK($E$21),"",VLOOKUP($E$21,Skoleliste!$A:$H,5,FALSE)) | J27: =IF(ISBLANK($E$21),"",VLOOKUP($E$21,Skoleliste!$A:$H,6,FALSE)) | K27: =IF(ISBLANK($E$21),"",VLOOKUP($E$21,Skoleliste!$A:$H,7,FALSE)) | L27: =IF(ISBLANK($E$21),"",VLOOKUP($E$21,Skoleliste!$A:$H,8,FALSE)) | M27: =IF(ISBLANK(M26)," ",M26) | O27: =IF(ISBLANK(O26)," ",O26) | CR27: =IF(ISBLANK(B27)," ",COUNTA(P27:CQ27)) | CS27: =IF(ISBLANK(B27)," ",(COUNTA($P$20:$CQ$20)-CR27)) | CT27: =IF(ISBLANK(B27)," ",'Skole scoring'!CD40) | CU27: =IF(ISBLANK(B27)," ",(CR27)-(CT27)-CV27) | CV27: =IF(ISBLANK(B27)," ",COUNTIF(P27:CQ27,5))
A28: =IF(ISBLANK(B28)," ",IF(ISBLANK(N28),1," ")) | E28: =IF(ISBLANK(E27)," ",E27) | F28: =IF(ISBLANK($E$21),"",VLOOKUP($E$21,Skoleliste!$A:$H,2,FALSE)) | G28: =IF(ISBLANK($E$21),"",VLOOKUP($E$21,Skoleliste!$A:$H,3,FALSE)) | H28: =IF(ISBLANK($E$21),"",VLOOKUP($E$21,Skoleliste!$A:$H,4,FALSE)) | I28: =IF(ISBLANK($E$21),"",VLOOKUP($E$21,Skoleliste!$A:$H,5,FALSE)) | J28: =IF(ISBLANK($E$21),"",VLOOKUP($E$21,Skoleliste!$A:$H,6,FALSE)) | K28: =IF(ISBLANK($E$21),"",VLOOKUP($E$21,Skoleliste!$A:$H,7,FALSE)) | L28: =IF(ISBLANK($E$21),"",VLOOKUP($E$21,Skoleliste!$A:$H,8,FALSE)) | M28: =IF(ISBLANK(M27)," ",M27) | O28: =IF(ISBLANK(O27)," ",O27) | CR28: =IF(ISBLANK(B28)," ",COUNTA(P28:CQ28)) | CS28: =IF(ISBLANK(B28)," ",(COUNTA($P$20:$CQ$20)-CR28)) | CT28: =IF(ISBLANK(B28)," ",'Skole scoring'!CD41) | CU28: =IF(ISBLANK(B28)," ",(CR28)-(CT28)-CV28) | CV28: =IF(ISBLANK(B28)," ",COUNTIF(P28:CQ28,5))
A29: =IF(ISBLANK(B29)," ",IF(ISBLANK(N29),1," ")) | E29: =IF(ISBLANK(E28)," ",E28) | F29: =IF(ISBLANK($E$21),"",VLOOKUP($E$21,Skoleliste!$A:$H,2,FALSE)) | G29: =IF(ISBLANK($E$21),"",VLOOKUP($E$21,Skoleliste!$A:$H,3,FALSE)) | H29: =IF(ISBLANK($E$21),"",VLOOKUP($E$21,Skoleliste!$A:$H,4,FALSE)) | I29: =IF(ISBLANK($E$21),"",VLOOKUP($E$21,Skoleliste!$A:$H,5,FALSE)) | J29: =IF(ISBLANK($E$21),"",VLOOKUP($E$21,Skoleliste!$A:$H,6,FALSE)) | K29: =IF(ISBLANK($E$21),"",VLOOKUP($E$21,Skoleliste!$A:$H,7,FALSE)) | L29: =IF(ISBLANK($E$21),"",VLOOKUP($E$21,Skoleliste!$A:$H,8,FALSE)) | M29: =IF(ISBLANK(M28)," ",M28) | O29: =IF(ISBLANK(O28)," ",O28) | CR29: =IF(ISBLANK(B29)," ",COUNTA(P29:CQ29)) | CS29: =IF(ISBLANK(B29)," ",(COUNTA($P$20:$CQ$20)-CR29)) | CT29: =IF(ISBLANK(B29)," ",'Skole scoring'!CD42) | CU29: =IF(ISBLANK(B29)," ",(CR29)-(CT29)-CV29) | CV29: =IF(ISBLANK(B29)," ",COUNTIF(P29:CQ29,5))
A30: =IF(ISBLANK(B30)," ",IF(ISBLANK(N30),1," ")) | E30: =IF(ISBLANK(E29)," ",E29) | F30: =IF(ISBLANK($E$21),"",VLOOKUP($E$21,Skoleliste!$A:$H,2,FALSE)) | G30: =IF(ISBLANK($E$21),"",VLOOKUP($E$21,Skoleliste!$A:$H,3,FALSE)) | H30: =IF(ISBLANK($E$21),"",VLOOKUP($E$21,Skoleliste!$A:$H,4,FALSE)) | I30: =IF(ISBLANK($E$21),"",VLOOKUP($E$21,Skoleliste!$A:$H,5,FALSE)) | J30: =IF(ISBLANK($E$21),"",VLOOKUP($E$21,Skoleliste!$A:$H,6,FALSE)) | K30: =IF(ISBLANK($E$21),"",VLOOKUP($E$21,Skoleliste!$A:$H,7,FALSE)) | L30: =IF(ISBLANK($E$21),"",VLOOKUP($E$21,Skoleliste!$A:$H,8,FALSE)) | M30: =IF(ISBLANK(M29)," ",M29) | O30: =IF(ISBLANK(O29)," ",O29) | CR30: =IF(ISBLANK(B30)," ",COUNTA(P30:CQ30)) | CS30: =IF(ISBLANK(B30)," ",(COUNTA($P$20:$CQ$20)-CR30)) | CT30: =IF(ISBLANK(B30)," ",'Skole scoring'!CD43) | CU30: =IF(ISBLANK(B30)," ",(CR30)-(CT30)-CV30) | CV30: =IF(ISBLANK(B30)," ",COUNTIF(P30:CQ30,5))
