Workbook
Name AAN_1b_ES: ElevScoreData!$B$3:$BK$30
Name AAN_1c_ES: ElevScoreData!$B$34:$CH$61
Name AAN_2b_ES: ElevScoreData!$B$65:$CJ$92
Name AAN_2c_ES: ElevScoreData!$B$96:$FV$123
Name AAN_3b_ES: ElevScoreData!$B$127:$FV$154
Name AAN_3c_ES: ElevScoreData!$B$158:$FV$185
Name Aap_Naam_2c3b3c: ElevScoreData!$CL$49:$CM$53
Name Aappi5: '[1]elev scoring skole 5'!$A$66:$AX$93
Name Assit_Atii_2b: ElevScoreData!$CL$31:$ET$35
Name Assit_Atii_2c3b3c: ElevScoreData!$CL$40:$GH$44
Name Grøn: 'Skole scoring'!$BL$6
Name Gul: 'Skole scoring'!$BL$4:$BL$5
Name GulA: 'Skole scoring'!$BL$4
Name GulB: 'Skole scoring'!$BL$5
Name Komposit1b: 'Skole scoring'!$BH$4:$BH$29
Name Komposit1c: 'Skole scoring'!$CE$34:$CE$59
Name Komposit2b: 'Skole scoring'!$CC$64:$CC$89
Name Komposit2c: 'Skole scoring'!$FO$94:$FO$119
Name Komposit3b: 'Skole scoring'!$FO$124:$FO$149
Name Komposit3c: 'Skole scoring'!$FO$154:$FO$179
Name Naqinn_Allan1: '[2]elev scoring skole 1'!$A$33:$U$59
Name Naqinn_Mscore1: '[2]elev scoring skole 1'!$A$4:$Z$30
Name Naqinn_Nipaat_1b: ElevScoreData!$CL$4:$DJ$9
Name Naqinnerit_Nipaat1: '[2]elev scoring skole 1'!$A$4:$Y$30
Name Oqaas_Allan1: '[3]elev scoring skole 1'!$A$33:$S$59
Name Oqaats_Allan1: '[4]elev scoring skole 1'!$A$4:$T$30
Name Oqaats_Allan5: '[1]elev scoring skole 5'!$A$4:$V$30
Name Oqaats_Atuarn1: '[3]elev scoring skole 1'!$A$63:$AA$89
Name Oqaats_Atuarn5: '[1]elev scoring skole 5'!$A$33:$DB$60
Name Oqaats_Nipi_1c: ElevScoreData!$CL$21:$DK$26
Name Oqaatsimi_Nipi1: '[2]elev scoring skole 1'!$A$63:$P$89
Name Ordets_Førstelyd_1b: ElevScoreData!$CL$13:$CZ$17
Name Rød: 'Skole scoring'!$BL$3
Name Tot_Sco1: '[2]elev scoring skole 1'!$A$92:$B$118
Name Tot_Score1: '[3]elev scoring skole 1'!$A$92:$B$118

Sheet Skoleliste
A1: Nr | B1: Skole | C1: Adresse | D1: Postnr | E1: By | F1: Telefon | G1: Kommune | H1: By/bygd
A2: 890101 | B2: Nanortallip Atuarfia | C2: Postboks 168 | D2: 3922 | E2: Nanortalik | F2: +299 613325 | G2: Kujalleq | H2: By
A3: 890102 | B3: Atuarfik Erinaq | C3: Narsamijit | D3: 3922 | E3: Nanortalik | F3: +299 618525 | G3: Kujalleq | H3: Bygd
A4: 890103 | B4: Jaajap Atuarfia | C4: Aappilattoq | D4: 3922 | E4: Nanortalik | F4: +299 617625 | G4: Kujalleq | H4: Bygd
A5: 890104 | B5: Malakip Atuarfia | C5: Tasiusaq | D5: 3922 | E5: Nanortalik | F5: +299 618825 | G5: Kujalleq | H5: Bygd
A6: 890105 | B6: Isak Lundip Atuarfia | C6: Ammassivik | D6: 3922 | E6: Nanortalik | F6: +299 617320 | G6: Kujalleq | H6: Bygd | AF6: 0 | AG6: 0 | AH6: 0 | AI6: 0 | AJ6: 0 | AK6: 0 | AL6: 0 | AM6: 0 | AN6: 0 | AO6: 0 | AP6: 0 | AQ6: 0 | AR6: 0 | AS6: 0 | AT6: 0 | AU6: 0 | AV6: 0 | AW6: 0 | AX6: 0 | AY6: 0 | AZ6: 0 | BA6: 0 | BB6: 0 | BC6: 0 | BD6: 0 | BE6: 0 | BF6: 0 | BG6: 0 | BH6: 0 | BI6: 0 | BJ6: 0 | BK6: 0 | BL6: 0 | BM6: 0 | BN6: 0 | BO6: 0 | BP6: 0 | BQ6: 0 | BR6: 0 | BS6: 0 | BT6: 0 | BU6: 0 | BV6: 0 | BW6: 0 | BX6: 0 | BY6: 0 | BZ6: 0 | CA6: 0 | CB6: 0 | CC6: 0 | CD6: 0 | CE6: 0 | CF6: 0 | CG6: 0 | CH6: 0 | CI6: 0 | CJ6: 0 | CK6: 0 | CL6: 0 | CM6: 0
A7: 890108 | B7: Atuarfik "Anders Nielsen" | C7: Postbox 572 | D7: 3919 | E7: Alluitsup Paa | F7: +299 619033 | G7: Kujalleq | H7: Bygd | AF7: 0 | AG7: 0 | AH7: 0 | AI7: 0 | AJ7: 0 | AK7: 0 | AL7: 0 | AM7: 0 | AN7: 0 | AO7: 0 | AP7: 0 | AQ7: 0 | AR7: 0 | AS7: 0 | AT7: 0 | AU7: 0 | AV7: 0 | AW7: 0 | AX7: 0 | AY7: 0 | AZ7: 0 | BA7: 0 | BB7: 0 | BC7: 0 | BD7: 0 | BE7: 0 | BF7: 0 | BG7: 0 | BH7: 0 | BI7: 0 | BJ7: 0 | BK7: 0 | BL7: 0 | BM7: 0 | BN7: 0 | BO7: 0 | BP7: 0 | BQ7: 0 | BR7: 0 | BS7: 0 | BT7: 0 | BU7: 0 | BV7: 0 | BW7: 0 | BX7: 0 | BY7: 0 | BZ7: 0 | CA7: 0 | CB7: 0 | CC7: 0 | CD7: 0 | CE7: 0 | CF7: 0 | CG7: 0 | CH7: 0 | CI7: 0 | CJ7: 0 | CK7: 0 | CL7: 0 | CM7: 0
A8: 890201 | B8: Tasersuup Atuarfia | C8: Postboks 177 | D8: 3920 | E8: Qaqortoq | F8: +299 642140 | G8: Kujalleq | H8: By | AF8: 0 | AG8: 0 | AH8: 0 | AI8: 0 | AJ8: 0 | AK8: 0 | AL8: 0 | AM8: 0 | AN8: 0 | AO8: 0 | AP8: 0 | AQ8: 0 | AR8: 0 | AS8: 0 | AT8: 0 | AU8: 0 | AV8: 0 | AW8: 0 | AX8: 0 | AY8: 0 | AZ8: 0 | BA8: 0 | BB8: 0 | BC8: 0 | BD8: 0 | BE8: 0 | BF8: 0 | BG8: 0 | BH8: 0 | BI8: 0 | BJ8: 0 | BK8: 0 | BL8: 0 | BM8: 0 | BN8: 0 | BO8: 0 | BP8: 0 | BQ8: 0 | BR8: 0 | BS8: 0 | BT8: 0 | BU8: 0 | BV8: 0 | BW8: 0 | BX8: 0 | BY8: 0 | BZ8: 0 | CA8: 0 | CB8: 0 | CC8: 0 | CD8: 0 | CE8: 0 | CF8: 0 | CG8: 0 | CH8: 0 | CI8: 0 | CJ8: 0 | CK8: 0 | CL8: 0 | CM8: 0
A9: 890203 | B9: Daanialiup Atuarfia | C9: Eqalugaarsuit | D9: 3920 | E9: Qaqortoq | F9: +299 649740 | G9: Kujalleq | H9: Bygd | AF9: 0 | AG9: 0 | AH9: 0 | AI9: 0 | AJ9: 0 | AK9: 0 | AL9: 0 | AM9: 0 | AN9: 0 | AO9: 0 | AP9: 0 | AQ9: 0 | AR9: 0 | AS9: 0 | AT9: 0 | AU9: 0 | AV9: 0 | AW9: 0 | AX9: 0 | AY9: 0 | AZ9: 0 | BA9: 0 | BB9: 0 | BC9: 0 | BD9: 0 | BE9: 0 | BF9: 0 | BG9: 0 | BH9: 0 | BI9: 0 | BJ9: 0 | BK9: 0 | BL9: 0 | BM9: 0 | BN9: 0 | BO9: 0 | BP9: 0 | BQ9: 0 | BR9: 0 | BS9: 0 | BT9: 0 | BU9: 0 | BV9: 0 | BW9: 0 | BX9: 0 | BY9: 0 | BZ9: 0 | CA9: 0 | CB9: 0 | CC9: 0 | CD9: 0 | CE9: 0 | CF9: 0 | CG9: 0 | CH9: 0 | CI9: 0 | CJ9: 0 | CK9: 0 | CL9: 0 | CM9: 0
A10: 890301 | B10: Narsap Atuarfia | C10: Postkoks 39 | D10: 3921 | E10: Narsaq | F10: +299 661233 | G10: Kujalleq | H10: By
A11: 890302 | B11: Ottooqqap Atuarfia | C11: Qassiarsuk | D11: 3921 | E11: Narsaq | F11: +299 665023 | G11: Kujalleq | H11: Bygd | AF11: 26 | AG11: 26 | AH11: 26 | AI11: 26 | AJ11: 26 | AK11: 26 | AL11: 26 | AM11: 26 | AN11: 26 | AO11: 26 | AP11: 26 | AQ11: 26 | AR11: 26 | AS11: 26 | AT11: 26 | AU11: 26 | AV11: 26 | AW11: 26 | AX11: 26 | AY11: 26 | AZ11: 26 | BA11: 26 | BB11: 26 | BC11: 26 | BD11: 26 | BE11: 26 | BF11: 26 | BG11: 26 | BH11: 26 | BI11: 26 | BJ11: 26 | BK11: 26 | BL11: 26 | BM11: 26 | BN11: 26 | BO11: 26 | BP11: 26 | BQ11: 26 | BR11: 26 | BS11: 26 | BT11: 26 | BU11: 26 | BV11: 26 | BW11: 26 | BX11: 26 | BY11: 26 | BZ11: 26 | CA11: 26 | CB11: 26 | CC11: 26 | CD11: 26 | CE11: 26 | CF11: 26 | CG11: 26 | CH11: 26 | CI11: 26 | CJ11: 26 | CK11: 26 | CL11: 26 | CM11: 26
A12: 890303 | B12: Igalikup Atuarfia | C12: Igaliku | D12: 3921 | E12: Narsaq | F12: +299 666140 | G12: Kujalleq | H12: Bygd
A13: 890304 | B13: Atuarfik Napaartoq | C13: Postboks 34 | D13: 3923 | E13: Narsarsuaq | F13: +299 665333 | G13: Kujalleq | H13: Bygd
A14: 890501 | B14: Atuarfik Tuisaq | C14: Postboks 99 | D14: 3940 | E14: Paamiut | F14: +299 681143 | G14: Sermersooq | H14: By
A15: 890502 | B15: Arsuup Atuarfia | C15: Arsuk | D15: 3940 | E15: Paamiut | F15: +299 685043 | G15: Sermersooq | H15: Bygd
A16: 890601 | B16: Atuarfik Samuel Kleinschmidt (ASK) | C16: Postbox 1027 | D16: 3900 | E16: Nuuk | F16: +299 366220 | G16: Sermersooq | H16: By
A17: 890602 | B17: Ukaliusaq (USK) | C17: Postboks 109 | D17: 3900 | E17: Nuuk | F17: +299 366250 | G17: Sermersooq | H17: By
A18: 890604 | B18: Qeqertarsuatsiaat | C18: Qeqertarsuatsiaat | D18: 3900 | E18: Nuuk | F18: +299 359001 | G18: Sermersooq | H18: Bygd
A19: 890605 | B19: Nuussuup Atuarfia | C19: Postboks 5329 | D19: 3905 | E19: Nuussuaq | F19: +299 366400 | G19: Sermersooq | H19: By
A20: 890606 | B20: Kangillinnguit Atuarfiat | C20: Postboks 7504 | D20: 3905 | E20: Nuussuaq | F20: +299 366420 | G20: Sermersooq | H20: By
A21: 890607 | B21: Kapisillip Atuarfia | C21: Kapisillit | D21: 3900 | E21: Nuuk | F21: +299 359602 | G21: Sermersooq | H21: Bygd
A22: 890608 | B22: Atuarfik Hans Lynge | C22: Postboks 1010 | D22: 3905 | E22: Nussuaq | F22: +299 366452 | G22: Sermersooq | H22: By
A23: 890707 | B23: Atuarfik Kilaaseeraq | C23: Postboks 101 | D23: 3912 | E23: Maniitsoq | F23: +299 813122 | G23: Qeqqata | H23: By
A24: 890709 | B24: Napasup atuarfia | C24: Napasoq | D24: 3912 | E24: Maniitsoq | F24: +299 818636 | G24: Qeqqata | H24: Bygd
A25: 890710 | B25: Atammiup atuarfia | C25: Atammik | D25: 3912 | E25: Maniitsoq | F25: +299 818533 | G25: Qeqqata | H25: Bygd
A26: 890711 | B26: Kangaamiut atuarfiat | C26: Kangaamiut | D26: 3912 | E26: Maniitsoq | F26: +299 819433 | G26: Qeqqata | H26: Bygd
A27: 890801 | B27: Minngortuunnguup Atuarfia | C27: Postboks 1010 | D27: 3911 | E27: Sisimiut | F27: +299 864188 | G27: Qeqqata | H27: By
A28: 890802 | B28: Nalunnguarfiup Atuarfia | C28: Postboks 1011 | D28: 3911 | E28: Sisimiut | F28: +299 864388 | G28: Qeqqata | H28: By
A29: 890803 | B29: Itillip Atuarfia | C29: Itilleq | D29: 3911 | E29: Sisimiut | F29: +299 869610 | G29: Qeqqata | H29: Bygd
A30: 890804 | B30: Sarfannguup Atuarfia | C30: Sarfannguaq | D30: 3911 | E30: Sisimiut | F30: +299 869510 | G30: Qeqqata | H30: Bygd
A31: 890805 | B31: Atuarfik Qilalugaq | C31: Postboks 470 | D31: 3911 | E31: Sisimiut | F31: +299 866188 | G31: Qeqqata | H31: Bygd
A32: 890806 | B32: Qinnguata Atuarfia | C32: Postboks 1001 | D32: 3910 | E32: Kangerlussuaq | F32: +299 841027 | G32: Qeqqata | H32: Bygd
A33: 890901 | B33: Kangaatsiap Atuarfia | C33: Postboks 560 | D33: 3955 | E33: Kangaatsiaq | F33: +299 871016 | G33: Qaasuitsup | H33: By
A34: 890902 | B34: Attup Atuarfia | C34: Attu | D34: 3950 | E34: Aasiaat | F34: +299 873407 | G34: Qaasuitsup | H34: Bygd
A35: 890903 | B35: Iginniarfiup Atuarfia | C35: Iginniarfik | D35: 3950 | E35: Aasiaat | F35: +299 874833 | G35: Qaasuitsup | H35: Bygd
A36: 890904 | B36: Qaqqannguup Atuarfia | C36: Ikerasarssuk | D36: 3950 | E36: Aasiaat | F36: +299 873933 | G36: Qaasuitsup | H36: Bygd
A37: 890905 | B37: Atuarfik Kristian Lundblad | C37: Niaqornaarsuk | D37: 3950 | E37: Aasiaat | F37: +299 874351 | G37: Qaasuitsup | H37: Bygd
A38: 891001 | B38: Gammeqarfik | C38: Postboks 28 | D38: 3950 | E38: Aasiaat | F38: +299 892333 | G38: Qaasuitsup | H38: By
A39: 891002 | B39: Aadap Atuarfia | C39: Akunnaaq | D39: 3950 | E39: Aasiaat | F39: +299 899633 | G39: Qaasuitsup | H39: Bygd
A40: 891003 | B40: Ole Reimerip Atuarfia | C40: Kitsisuarsuit | D40: 3950 | E40: Aasiaat | F40: +299 899733 | G40: Qaasuitsup | H40: Bygd
A41: 891004 | B41: Ivilikasiup Atuarfia | C41: Ikamiut | D41: 3950 | E41: Aasiaat | F41: +299 915933 | G41: Qaasuitsup | H41: Bygd
A42: 891101 | B42: Juunarsip Atuarfia | C42: Postboks 117 | D42: 3951 | E42: Qasigiannguit | F42: +299 914634 | G42: Qaasuitsup | H42: By
A43: 891201 | B43: Atuarfik Mathias Storch | C43: Postboks 517 | D43: 3952 | E43: Ilulissat | F43: +299 943344 | G43: Qaasuitsup | H43: By
A44: 891202 | B44: Atuarfik Jørgen Brønlund | C44: Postboks 220 | D44: 3952 | E44: Ilulissat | F44: +299 947686 | G44: Qaasuitsup | H44: By
... A69: 891701 | B69: Avanersuup Atuarfia | C69: Postboks 96 | D69: 3971 | E69: Qaanaaq | F69: +299 972818 | G69: Qaasuitsup | H69: By
A70: 891702 | B70: Piitaaqqap Atuarfia | C70: Savissivik | D70: 3970 | E70: Pituffik | F70: +299 974533 | G70: Qaasuitsup | H70: Bygd
A71: 891704 | B71: Qeqertat Atuarfiat | C71: Qeqertat | D71: 3971 | E71: Qaanaaq | F71: +299 975958 | G71: Qaasuitsup | H71: Bygd
A72: 891705 | B72: Siorapaluup Atuarfia | C72: Siorapaluk | D72: 3971 | E72: Qaanaaq | F72: +299 975733 | G72: Qaasuitsup | H72: Bygd
A73: 891801 | B73: Tasiilami Alivarpik | C73: Postboks114 | D73: 3913 | E73: Tasiilaq | F73: +299 981272 | G73: Sermersooq | H73: By
A74: 891802 | B74: Isortup Alivarpia | C74: Isortoq | D74: 3913 | E74: Tasiilaq | F74: +299 985672 | G74: Sermersooq | H74: Bygd
A75: 891803 | B75: Tiniteqilaap Alivarpik | C75: Tinitiqilaaq | D75: 3913 | E75: Tasiilaq | F75: +299 986373 | G75: Sermersooq | H75: Bygd
A76: 891804 | B76: Kulusumi Alivarpi | C76: Kulusuk | D76: 3913 | E76: Tasiilaq | F76: +299 986379 | G76: Sermersooq | H76: Bygd
A77: 891805 | B77: Sermiligaap Alivarpia | C77: Sermiligaaq | D77: 3913 | E77: Tasiilaq | F77: +299 985572 | G77: Sermersooq | H77: Bygd
A78: 891807 | B78: Kuummiini Alivarpi | C78: Kuummiut | D78: 3913 | E78: Tasiilaq | F78: +299 984172 | G78: Sermersooq | H78: Bygd
A79: 891901 | B79: Ejnar Mikkelsenila Aluarpia | C79: Postboks 504 | D79: 3980 | E79: Ittoqqortoormiit | F79: +299 991033 | G79: Sermersooq | H79: By
A80: 890270 | B80: Sulisartut Højskole | C80: Boks 132 | D80: 3920 | E80: Qaqortoq | F80: +299 642466 | G80: Højskole | H80: By
A81: 890870 | B81: Knud Rasmussenip Højskolia | C81: Boks 1008 | D81: 3911 | E81: Sisimiut | F81: +299 864032 | G81: Højskole | H81: By
A82: 890760 | B82: Maniitsup Efterskolia | C82: Box 503 | D82: 3912 | E82: Maniitsoq | F82: +299 581612 | G82: Efterskole | H82: By
A83: 891160 | B83: Efterskole Villads Villadsen | C83: Box 120 | D83: 3951 | E83: Qasigiannguit | F83: +299 911300 | G83: Efterskole | H83: By
A84: 890650 | B84: Nuuk Internationale Friskole | C84: Postboks 1226 | D84: 3900 | E84: Nuuk | F84: +299 314514 | G84: Privatskole | H84: By
A85: 890850 | B85: Friskolen, Ilimmarfiaraq | C85: Postboks 214 | D85: 3911 | E85: Sisimiut | F85: +299 863070 | G85: Privatskole | H85: By
A86: 890190 | B86: Piareersarfik Nanortalik | C86: Boks 100 | D86: 3922 | E86: Nanortalik | F86: +299 613599 | G86: Piareersarfik | H86: By
A87: 890290 | B87: Piareersarfik Qaqortoq | C87: Boks 522 | D87: 3920 | E87: Qaqortoq | F87: +299 662199 | G87: Piareersarfik | H87: By
A88: 890390 | B88: Piareersarfik Narsaq | C88: Boks 168 | D88: 3921 | E88: Narsaq | F88: +299 661350 | G88: Piareersarfik | H88: By
A89: 890590 | B89: Piareersarfik Paamiut | C89: Boks 213 | D89: 3940 | E89: Paamiut | F89: +299 681595 | G89: Piareersarfik | H89: By
A90: 890690 | B90: Piareersarfik - Nuuk | C90: Boks 550 | D90: 3900 | E90: Nuuk | F90: +299 349700 | G90: Piareersarfik | H90: By
A91: 890790 | B91: Piareersarfik Maniitsoq | C91: Boks 202 | D91: 3912 | E91: Maniitsoq | F91: +299 813748 | G91: Piareersarfik | H91: By
A92: 890890 | B92: Piareersarfik Sisimiut | C92: Boks 349 | D92: 3911 | E92: Sisimiut | F92: +299 702100 | G92: Piareersarfik | H92: By
A93: 890990 | B93: Piareersarfik Kangaatsiaq | C93: Boks 530 | D93: 3955 | E93: Kangaatsiaq | F93: +299 871048 | G93: Piareersarfik | H93: By
A94: 891090 | B94: Piarersarfik Aasiaat | C94: Boks 82 | D94: 3950 | E94: Aasiaat | F94: +299 894600 | G94: Piareersarfik | H94: By
A95: 891190 | B95: Piareersarfik Qasigiannguit | C95: Boks 111 | D95: 3951 | E95: Qasigiannguit | F95: +299 911522 | G95: Piareersarfik | H95: By
A96: 891290 | B96: Piareersarfik Ilulissat - Sillit | C96: Boks 1003 | D96: 3952 | E96: Ilulissat | F96: +299 947671 | G96: Piareersarfik | H96: By
A97: 891490 | B97: Piareersarfik Qeqertarsuaq | C97: Boks 142 | D97: 3953 | E97: Qeqertarsuaq | F97: +299 921575 | G97: Piareersarfik | H97: By
A98: 891590 | B98: Piareersarfik Uummannaq | C98: Boks 20 | D98: 3961 | E98: Uummannaq | F98: +299 951555 | G98: Piareersarfik | H98: By
A99: 891690 | B99: Piareersarfik Upernavik | C99: Boks 84 | D99: 3962 | E99: Upernavik | F99: +299 964816 | G99: Piareersarfik | H99: By
A100: 891790 | B100: Piareersarfik Qaanaaq | C100: Boks 90 | D100: 3971 | E100: Qaanaaq | F100: +299 971077 | G100: Piareersarfik | H100: By
A101: 891890 | B101: Piareersarfik Tasiilaq | C101: Boks 98 | D101: 3913 | E101: Tasiilaq | F101: +299 981310 | G101: Piareersarfik | H101: By
A102: 891990 | B102: Piareersarfik Ittoqqortoormiit | C102: Boks 23 | D102: 3980 | E102: Ittoqqortoormiit | F102: +299 991012 | G102: Piareersarfik | H102: By
A103: 890001 | B103: Inerisaavik | C103: Boks 110 | D103: 3900 | E103: Nuuk | F103: +299 349889 | G103: Amtscenter | H103: By

Sheet klassernes udvikling
B3: Naqinnerit Nipaat | C3: Naqinnernik Allanneq | D3: Oqaatsimi Nipi Siulleq | E3: Samlet
B4: =ElevScoreData!BH32 -> #DIV/0! | C4: =ElevScoreData!BI32 -> #DIV/0! | D4: =ElevScoreData!BJ32 -> #DIV/0! | E4: =ElevScoreData!BK32 -> #DIV/0!
B7: Naqinnernik allanneq | C7: Oqaasiusanik allanneq | D7: Oqaatsinik atuarneq | E7: Samlet
B8: =ElevScoreData!CE63 -> #DIV/0! | C8: =ElevScoreData!CF63 -> #DIV/0! | D8: =ElevScoreData!CG63 -> #DIV/0! | E8: =ElevScoreData!CH63 -> #DIV/0!
B11: Oqaatsinik allanneq | C11: Oqaatsinik atuarneq | D11: Samlet
B12: =ElevScoreData!CC94 -> #DIV/0! | C12: =ElevScoreData!CD94 -> #DIV/0! | D12: =ElevScoreData!CE94 -> #DIV/0!
B15: Oqaatsinik allanneq | C15: Oqaatsinik atuarneq | D15: Oqaaseqatigiinnik atuarneq | E15: Samlet
B16: =ElevScoreData!FO125 -> #DIV/0! | C16: =ElevScoreData!FP125 -> #DIV/0! | D16: =ElevScoreData!FQ125 -> #DIV/0! | E16: =ElevScoreData!FR125 -> #DIV/0!
B19: Oqaatsinik allanneq | C19: Oqaatsinik atuarneq | D19: Oqaaseqatigiinnik atuarneq | E19: Samlet
B20: =ElevScoreData!FO156 -> #DIV/0! | C20: =ElevScoreData!FP156 -> #DIV/0! | D20: =ElevScoreData!FQ156 -> #DIV/0! | E20: =ElevScoreData!FR156 -> #DIV/0!
B23: Oqaatsinik allanneq | C23: Oqaatsinik atuarneq | D23: Oqaaseqatigiinnik atuarneq | E23: Samlet
B24: =ElevScoreData!FO187 -> #DIV/0! | C24: =ElevScoreData!FP187 -> #DIV/0! | D24: =ElevScoreData!FQ187 -> #DIV/0! | E24: =ElevScoreData!FR187 -> #DIV/0!

Sheet Midt 1.kl. -Klasse
P1: f | Q1: a | R1: v | S1: rr | T1: i | U1: gg | V1: s | W1: t | X1: l | Y1: n | Z1: k | AA1: j | AB1: u | AC1: g | AD1: r | AE1: h | AF1: q | AG1: ll | AH1: e | AI1: ng | AJ1: p | AK1: m | AL1: o | AM1: t (d) | AN1: J | AO1: S | AP1: K | AQ1: V | AR1: U | AS1: P | AT1: M | AU1: I | AV1: T | AW1: H | AX1: F | AY1: Q | AZ1: E | BA1: L | BB1: A | BC1: G | BD1: N | BE1: R | BF1: O | BG1: Siku | BH1: Puugutaq | BI1: Ulloriaq | BJ1: Tuttu | BK1: Nanoq | BL1: Aqerluusaq | BM1: Qajaq | BN1: Kulloq | BO1: Inneq | BP1: Mannik | BQ1: Errorsivik | BR1: Raaja | BS1: Orpik | BT1: Tiitorfik
O2: Opgave | P2: Naqinnerit Nipaat | AN2: Naqinnernik allanneq | BG2: Oqaatsimi nipi siulleq
C3: Distraktor | P3: 1 | Q3: 4 | R3: 3 | S3: 2 | T3: 3 | U3: 4 | V3: 1 | W3: 2 | X3: 2 | Y3: 4 | Z3: 1 | AA3: 3 | AB3: 2 | AC3: 4 | AD3: 1 | AE3: 3 | AF3: 2 | AG3: 1 | AH3: 4 | AI3: 2 | AJ3: 3 | AK3: 4 | AL3: 1 | AM3: 3 | AN3: 1 | AO3: 1 | AP3: 1 | AQ3: 1 | AR3: 1 | AS3: 1 | AT3: 1 | AU3: 1 | AV3: 1 | AW3: 1 | AX3: 1 | AY3: 1 | AZ3: 1 | BA3: 1 | BB3: 1 | BC3: 1 | BD3: 1 | BE3: 1 | BF3: 1 | BG3: 4 | BH3: 2 | BI3: 3 | BJ3: 2 | BK3: 4 | BL3: 1 | BM3: 3 | BN3: 4 | BO3: 3 | BP3: 3 | BQ3: 1 | BR3: 4 | BS3: 2 | BT3: 1
C4: afstemning | P4: =SUM(P5:P11) -> 0 | Q4: =SUM(Q5:Q11) -> 0 | R4: =SUM(R5:R11) -> 0 | S4: =SUM(S5:S11) -> 0 | T4: =SUM(T5:T11) -> 0 | U4: =SUM(U5:U11) -> 0 | V4: =SUM(V5:V11) -> 0 | W4: =SUM(W5:W11) -> 0 | ... AG4: =SUM(AG5:AG11) -> 0 | AH4: =SUM(AH6:AH11) -> 0 | AI4: =SUM(AI6:AI11) -> 0 | AJ4: =SUM(AJ6:AJ11) -> 0 | AK4: =SUM(AK6:AK11) -> 0 | AL4: =SUM(AL6:AL11) -> 0 | AM4: =SUM(AM6:AM11) -> 0 | AN4: =SUM(AN5:AN11) -> 0 | AO4: =SUM(AO5:AO11) -> 0 | AP4: =SUM(AP5:AP11) -> 0 | AQ4: =SUM(AQ5:AQ11) -> 0 | AR4: =SUM(AR5:AR11) -> 0 | AS4: =SUM(AS5:AS11) -> 0 | AT4: =SUM(AT5:AT11) -> 0 | AU4: =SUM(AU5:AU11) -> 0 | ... BF4: =SUM(BF5:BF11) -> 0 | BG4: =SUM(BG6:BG11) -> 0 | BH4: =SUM(BH6:BH11) -> 0 | BI4: =SUM(BI6:BI11) -> 0 | BJ4: =SUM(BJ6:BJ11) -> 0 | BK4: =SUM(BK6:BK11) -> 0 | BL4: =SUM(BL6:BL11) -> 0 | BM4: =SUM(BM6:BM11) -> 0 | BN4: =SUM(BN6:BN11) -> 0 | ... BT4: =SUM(BT6:BT11) -> 0
C5: 0 | AN5: =COUNTIF('Skole scoring'!Z4:Z29,0) -> 0 | AO5: =COUNTIF('Skole scoring'!AA4:AA29,0) -> 0 | AP5: =COUNTIF('Skole scoring'!AB4:AB29,0) -> 0 | AQ5: =COUNTIF('Skole scoring'!AC4:AC29,0) -> 0 | AR5: =COUNTIF('Skole scoring'!AD4:AD29,0) -> 0 | AS5: =COUNTIF('Skole scoring'!AE4:AE29,0) -> 0 | AT5: =COUNTIF('Skole scoring'!AF4:AF29,0) -> 0 | AU5: =COUNTIF('Skole scoring'!AG4:AG29,0) -> 0 | ... BF5: =COUNTIF('Skole scoring'!AR4:AR29,0) -> 0
C6: 1 | P6: =COUNTIF(P$21:P$46,1) -> 0 | Q6: =COUNTIF(Q$21:Q$46,1) -> 0 | R6: =COUNTIF(R$21:R$46,1) -> 0 | S6: =COUNTIF(S$21:S$46,1) -> 0 | T6: =COUNTIF(T$21:T$46,1) -> 0 | U6: =COUNTIF(U$21:U$46,1) -> 0 | V6: =COUNTIF(V$21:V$46,1) -> 0 | W6: =COUNTIF(W$21:W$46,1) -> 0 | ... AM6: =COUNTIF(AM$21:AM$46,1) -> 0 | AN6: =COUNTIF(AN$21:AN$46,AN1) -> 0 | AO6: =COUNTIF(AO$21:AO$46,AO1) -> 0 | AP6: =COUNTIF(AP$21:AP$46,AP1) -> 0 | AQ6: =COUNTIF(AQ$21:AQ$46,AQ1) -> 0 | AR6: =COUNTIF(AR$21:AR$46,AR1) -> 0 | AS6: =COUNTIF(AS$21:AS$46,AS1) -> 0 | AT6: =COUNTIF(AT$21:AT$46,AT1) -> 0 | AU6: =COUNTIF(AU$21:AU$46,AU1) -> 0 | ... BF6: =COUNTIF(BF$21:BF$46,BF1) -> 0 | BG6: =COUNTIF(BG$21:BG$46,1) -> 0 | BH6: =COUNTIF(BH$21:BH$46,1) -> 0 | BI6: =COUNTIF(BI$21:BI$46,1) -> 0 | BJ6: =COUNTIF(BJ$21:BJ$46,1) -> 0 | BK6: =COUNTIF(BK$21:BK$46,1) -> 0 | BL6: =COUNTIF(BL$21:BL$46,1) -> 0 | BM6: =COUNTIF(BM$21:BM$46,1) -> 0 | BN6: =COUNTIF(BN$21:BN$46,1) -> 0 | ... BT6: =COUNTIF(BT$21:BT$46,1) -> 0
C7: 2 | P7: =COUNTIF(P$21:P$46,2) -> 0 | Q7: =COUNTIF(Q$21:Q$46,2) -> 0 | R7: =COUNTIF(R$21:R$46,2) -> 0 | S7: =COUNTIF(S$21:S$46,2) -> 0 | T7: =COUNTIF(T$21:T$46,2) -> 0 | U7: =COUNTIF(U$21:U$46,2) -> 0 | V7: =COUNTIF(V$21:V$46,2) -> 0 | W7: =COUNTIF(W$21:W$46,2) -> 0 | ... AM7: =COUNTIF(AM$21:AM$46,2) -> 0 | BG7: =COUNTIF(BG$21:BG$46,2) -> 0 | BH7: =COUNTIF(BH$21:BH$46,2) -> 0 | BI7: =COUNTIF(BI$21:BI$46,2) -> 0 | BJ7: =COUNTIF(BJ$21:BJ$46,2) -> 0 | BK7: =COUNTIF(BK$21:BK$46,2) -> 0 | BL7: =COUNTIF(BL$21:BL$46,2) -> 0 | BM7: =COUNTIF(BM$21:BM$46,2) -> 0 | BN7: =COUNTIF(BN$21:BN$46,2) -> 0 | ... BT7: =COUNTIF(BT$21:BT$46,2) -> 0
C8: 3 | P8: =COUNTIF(P$21:P$46,3) -> 0 | Q8: =COUNTIF(Q$21:Q$46,3) -> 0 | R8: =COUNTIF(R$21:R$46,3) -> 0 | S8: =COUNTIF(S$21:S$46,3) -> 0 | T8: =COUNTIF(T$21:T$46,3) -> 0 | U8: =COUNTIF(U$21:U$46,3) -> 0 | V8: =COUNTIF(V$21:V$46,3) -> 0 | W8: =COUNTIF(W$21:W$46,3) -> 0 | ... AM8: =COUNTIF(AM$21:AM$46,3) -> 0 | BG8: =COUNTIF(BG$21:BG$46,3) -> 0 | BH8: =COUNTIF(BH$21:BH$46,3) -> 0 | BI8: =COUNTIF(BI$21:BI$46,3) -> 0 | BJ8: =COUNTIF(BJ$21:BJ$46,3) -> 0 | BK8: =COUNTIF(BK$21:BK$46,3) -> 0 | BL8: =COUNTIF(BL$21:BL$46,3) -> 0 | BM8: =COUNTIF(BM$21:BM$46,3) -> 0 | BN8: =COUNTIF(BN$21:BN$46,3) -> 0 | ... BT8: =COUNTIF(BT$21:BT$46,3) -> 0
C9: 4 | P9: =COUNTIF(P$21:P$46,4) -> 0 | Q9: =COUNTIF(Q$21:Q$46,4) -> 0 | R9: =COUNTIF(R$21:R$46,4) -> 0 | S9: =COUNTIF(S$21:S$46,4) -> 0 | T9: =COUNTIF(T$21:T$46,4) -> 0 | U9: =COUNTIF(U$21:U$46,4) -> 0 | V9: =COUNTIF(V$21:V$46,4) -> 0 | W9: =COUNTIF(W$21:W$46,4) -> 0 | ... AM9: =COUNTIF(AM$21:AM$46,4) -> 0 | BG9: =COUNTIF(BG$21:BG$46,4) -> 0 | BH9: =COUNTIF(BH$21:BH$46,4) -> 0 | BI9: =COUNTIF(BI$21:BI$46,4) -> 0 | BJ9: =COUNTIF(BJ$21:BJ$46,4) -> 0 | BK9: =COUNTIF(BK$21:BK$46,4) -> 0 | BL9: =COUNTIF(BL$21:BL$46,4) -> 0 | BM9: =COUNTIF(BM$21:BM$46,4) -> 0 | BN9: =COUNTIF(BN$21:BN$46,4) -> 0 | ... BT9: =COUNTIF(BT$21:BT$46,4) -> 0
C10: Ugyldige | P10: =COUNTIF(P21:P46,"=5") -> 0 | Q10: =COUNTIF(Q21:Q46,"=5") -> 0 | R10: =COUNTIF(R21:R46,"=5") -> 0 | S10: =COUNTIF(S21:S46,"=5") -> 0 | T10: =COUNTIF(T21:T46,"=5") -> 0 | U10: =COUNTIF(U21:U46,"=5") -> 0 | V10: =COUNTIF(V21:V46,"=5") -> 0 | W10: =COUNTIF(W21:W46,"=5") -> 0 | ... BT10: =COUNTIF(BT21:BT46,"=5") -> 0
C11: Blanke | P11: =COUNTA($B$21:$B$46)-SUM(P5:P10) -> 0 | Q11: =COUNTA($B$21:$B$46)-SUM(Q5:Q10) -> 0 | R11: =COUNTA($B$21:$B$46)-SUM(R5:R10) -> 0 | S11: =COUNTA($B$21:$B$46)-SUM(S5:S10) -> 0 | T11: =COUNTA($B$21:$B$46)-SUM(T5:T10) -> 0 | U11: =COUNTA($B$21:$B$46)-SUM(U5:U10) -> 0 | V11: =COUNTA($B$21:$B$46)-SUM(V5:V10) -> 0 | W11: =COUNTA($B$21:$B$46)-SUM(W5:W10) -> 0 | ... BT11: =COUNTA($B$21:$B$46)-SUM(BT5:BT10) -> 0
C12: 0 | P12: =+P5/P4 -> #DIV/0! | Q12: =+Q5/Q4 -> #DIV/0! | R12: =+R5/R4 -> #DIV/0! | S12: =+S5/S4 -> #DIV/0! | T12: =+T5/T4 -> #DIV/0! | U12: =+U5/U4 -> #DIV/0! | V12: =+V5/V4 -> #DIV/0! | W12: =+W5/W4 -> #DIV/0! | ... BT12: =+BT5/BT4 -> #DIV/0!
C13: 1 | P13: =+P6/P$4 -> #DIV/0! | Q13: =+Q6/Q$4 -> #DIV/0! | R13: =+R6/R$4 -> #DIV/0! | S13: =+S6/S$4 -> #DIV/0! | T13: =+T6/T$4 -> #DIV/0! | U13: =+U6/U$4 -> #DIV/0! | V13: =+V6/V$4 -> #DIV/0! | W13: =+W6/W$4 -> #DIV/0! | ... BT13: =+BT6/BT$4 -> #DIV/0!
C14: 2 | P14: =+P7/P$4 -> #DIV/0! | Q14: =+Q7/Q$4 -> #DIV/0! | R14: =+R7/R$4 -> #DIV/0! | S14: =+S7/S$4 -> #DIV/0! | T14: =+T7/T$4 -> #DIV/0! | U14: =+U7/U$4 -> #DIV/0! | V14: =+V7/V$4 -> #DIV/0! | W14: =+W7/W$4 -> #DIV/0! | ... BT14: =+BT7/BT$4 -> #DIV/0!
C15: 3 | P15: =+P8/P$4 -> #DIV/0! | Q15: =+Q8/Q$4 -> #DIV/0! | R15: =+R8/R$4 -> #DIV/0! | S15: =+S8/S$4 -> #DIV/0! | T15: =+T8/T$4 -> #DIV/0! | U15: =+U8/U$4 -> #DIV/0! | V15: =+V8/V$4 -> #DIV/0! | W15: =+W8/W$4 -> #DIV/0! | ... BT15: =+BT8/BT$4 -> #DIV/0!
C16: 4 | P16: =+P9/P$4 -> #DIV/0! | Q16: =+Q9/Q$4 -> #DIV/0! | R16: =+R9/R$4 -> #DIV/0! | S16: =+S9/S$4 -> #DIV/0! | T16: =+T9/T$4 -> #DIV/0! | U16: =+U9/U$4 -> #DIV/0! | V16: =+V9/V$4 -> #DIV/0! | W16: =+W9/W$4 -> #DIV/0! | ... BT16: =+BT9/BT$4 -> #DIV/0!
C17: Ugyldige | P17: =+P10/P4 -> #DIV/0! | Q17: =+Q10/Q4 -> #DIV/0! | R17: =+R10/R4 -> #DIV/0! | S17: =+S10/S4 -> #DIV/0! | T17: =+T10/T4 -> #DIV/0! | U17: =+U10/U4 -> #DIV/0! | V17: =+V10/V4 -> #DIV/0! | W17: =+W10/W4 -> #DIV/0! | ... BT17: =+BT10/BT4 -> #DIV/0!
C18: Blanke | P18: =+P11/P4 -> #DIV/0! | Q18: =+Q11/Q4 -> #DIV/0! | R18: =+R11/R4 -> #DIV/0! | S18: =+S11/S4 -> #DIV/0! | T18: =+T11/T4 -> #DIV/0! | U18: =+U11/U4 -> #DIV/0! | V18: =+V11/V4 -> #DIV/0! | W18: =+W11/W4 -> #DIV/0! | ... BT18: =+BT11/BT4 -> #DIV/0!
C19: Rigtige | P19: =P13 -> #DIV/0! | Q19: =Q16 -> #DIV/0! | R19: =R15 -> #DIV/0! | S19: =S14 -> #DIV/0! | T19: =T15 -> #DIV/0! | U19: =U16 -> #DIV/0! | V19: =V13 -> #DIV/0! | W19: =W14 -> #DIV/0! | X19: =X14 -> #DIV/0! | Y19: =Y16 -> #DIV/0! | Z19: =Z13 -> #DIV/0! | AA19: =AA15 -> #DIV/0! | AB19: =AB14 -> #DIV/0! | AC19: =AC16 -> #DIV/0! | AD19: =AD13 -> #DIV/0! | AE19: =AE15 -> #DIV/0! | AF19: =AF14 -> #DIV/0! | AG19: =AG13 -> #DIV/0! | AH19: =AH16 -> #DIV/0! | AI19: =AI14 -> #DIV/0! | AJ19: =AJ15 -> #DIV/0! | AK19: =AK16 -> #DIV/0! | AL19: =AL13 -> #DIV/0! | AM19: =AM15 -> #DIV/0! | AN19: =AN13 -> #DIV/0! | AO19: =AO13 -> #DIV/0! | AP19: =AP13 -> #DIV/0! | AQ19: =AQ13 -> #DIV/0! | AR19: =AR13 -> #DIV/0! | AS19: =AS13 -> #DIV/0! | AT19: =AT13 -> #DIV/0! | AU19: =AU13 -> #DIV/0! | ... BF19: =BF13 -> #DIV/0! | BG19: =BG16 -> #DIV/0! | BH19: =BH14 -> #DIV/0! | BI19: =BI15 -> #DIV/0! | BJ19: =BJ14 -> #DIV/0! | BK19: =BK16 -> #DIV/0! | BL19: =BL13 -> #DIV/0! | BM19: =BM15 -> #DIV/0! | BN19: =BN16 -> #DIV/0! | BO19: =BO15 -> #DIV/0! | BP19: =BP15 -> #DIV/0! | BQ19: =BQ13 -> #DIV/0! | BR19: =BR16 -> #DIV/0! | BS19: =BS14 -> #DIV/0! | BT19: =BT13 -> #DIV/0!
A20: Antal | B20: Navn | C20: CPR-nr | D20: køn (d/p) | E20: Nr | F20: Skole | G20: Adresse | H20: Postnr | I20: By | J20: Telefon | K20: Kommune | L20: by/bygd | M20: klasse | N20: Ikke mødt (kode) | O20: Indtaster | P20: 1 | Q20: 2 | R20: 3 | S20: 4 | T20: 5 | U20: 6 | V20: 7 | W20: 8 | X20: 9 | Y20: 10 | Z20: 11 | AA20: 12 | AB20: 13 | AC20: 14 | AD20: 15 | AE20: 16 | AF20: 17 | AG20: 18 | AH20: 19 | AI20: 20 | AJ20: 21 | AK20: 22 | AL20: 23 | AM20: 24 | AN20: 1 | AO20: 2 | AP20: 3 | AQ20: 4 | AR20: 5 | AS20: 6 | AT20: 7 | AU20: 8 | AV20: 9 | AW20: 10 | AX20: 11 | AY20: 12 | AZ20: 13 | BA20: 14 | BB20: 15 | BC20: 16 | BD20: 17 | BE20: 18 | BF20: 19 | BG20: 1 | BH20: 2 | BI20: 3 | BJ20: 4 | BK20: 5 | BL20: 6 | BM20: 7 | BN20: 8 | BO20: 9 | BP20: 10 | BQ20: 11 | BR20: 12 | BS20: 13 | BT20: 14 | BU20: Besvarede | BV20: ikke-besvarede | BW20: rigtige | BX20: forkerte | BY20: Ugyldige
A21: =IF(ISBLANK(B21)," ",IF(ISBLANK(N21),1," ")) | F21: =IF(ISBLANK($E$21),"",VLOOKUP($E$21,Skoleliste!$A:$H,2,FALSE)) | G21: =IF(ISBLANK($E$21),"",VLOOKUP($E$21,Skoleliste!$A:$H,3,FALSE)) | H21: =IF(ISBLANK($E$21),"",VLOOKUP($E$21,Skoleliste!$A:$H,4,FALSE)) | I21: =IF(ISBLANK($E$21),"",VLOOKUP($E$21,Skoleliste!$A:$H,5,FALSE)) | J21: =IF(ISBLANK($E$21),"",VLOOKUP($E$21,Skoleliste!$A:$H,6,FALSE)) | K21: =IF(ISBLANK($E$21),"",VLOOKUP($E$21,Skoleliste!$A:$H,7,FALSE)) | L21: =IF(ISBLANK($E$21),"",VLOOKUP($E$21,Skoleliste!$A:$H,8,FALSE)) | BU21: =IF(ISBLANK(B21)," ",COUNTA(P21:BT21)) | BV21: =IF(ISBLANK(B21)," ",(COUNTA($P$20:$BT$20)-BU21)) | BW21: =IF(ISBLANK(B21)," ",'Skole scoring'!BG4) | BX21: =IF(ISBLANK(B21)," ",(BU21)-(BW21)-BY21) | BY21: =IF(ISBLANK(B21)," ",COUNTIF(P21:BT21,5))
A22: =IF(ISBLANK(B22)," ",IF(ISBLANK(N22),1," ")) | E22: =IF(ISBLANK(E21)," ",E21) | F22: =IF(ISBLANK($E$21),"",VLOOKUP($E$21,Skoleliste!$A:$H,2,FALSE)) | G22: =IF(ISBLANK($E$21),"",VLOOKUP($E$21,Skoleliste!$A:$H,3,FALSE)) | H22: =IF(ISBLANK($E$21),"",VLOOKUP($E$21,Skoleliste!$A:$H,4,FALSE)) | I22: =IF(ISBLANK($E$21),"",VLOOKUP($E$21,Skoleliste!$A:$H,5,FALSE)) | J22: =IF(ISBLANK($E$21),"",VLOOKUP($E$21,Skoleliste!$A:$H,6,FALSE)) | K22: =IF(ISBLANK($E$21),"",VLOOKUP($E$21,Skoleliste!$A:$H,7,FALSE)) | L22: =IF(ISBLANK($E$21),"",VLOOKUP($E$21,Skoleliste!$A:$H,8,FALSE)) | M22: =IF(ISBLANK(M21)," ",M21) | N22: =IF(ISBLANK(N21)," ",N21) | O22: =IF(ISBLANK(O21)," ",O21) | BU22: =IF(ISBLANK(B22)," ",COUNTA(P22:BT22)) | BV22: =IF(ISBLANK(B22)," ",(COUNTA($P$20:$BT$20)-BU22)) | BW22: =IF(ISBLANK(B22)," ",'Skole scoring'!BG5) | BX22: =IF(ISBLANK(B22)," ",(BU22)-(BW22)-BY22) | BY22: =IF(ISBLANK(B22)," ",COUNTIF(P22:BT22,5))
A23: =IF(ISBLANK(B23)," ",IF(ISBLANK(N23),1," ")) | E23: =IF(ISBLANK(E22)," ",E22) | F23: =IF(ISBLANK($E$21),"",VLOOKUP($E$21,Skoleliste!$A:$H,2,FALSE)) | G23: =IF(ISBLANK($E$21),"",VLOOKUP($E$21,Skoleliste!$A:$H,3,FALSE)) | H23: =IF(ISBLANK($E$21),"",VLOOKUP($E$21,Skoleliste!$A:$H,4,FALSE)) | I23: =IF(ISBLANK($E$21),"",VLOOKUP($E$21,Skoleliste!$A:$H,5,FALSE)) | J23: =IF(ISBLANK($E$21),"",VLOOKUP($E$21,Skoleliste!$A:$H,6,FALSE)) | K23: =IF(ISBLANK($E$21),"",VLOOKUP($E$21,Skoleliste!$A:$H,7,FALSE)) | L23: =IF(ISBLANK($E$21),"",VLOOKUP($E$21,Skoleliste!$A:$H,8,FALSE)) | M23: =IF(ISBLANK(M22)," ",M22) | O23: =IF(ISBLANK(O22)," ",O22) | BU23: =IF(ISBLANK(B23)," ",COUNTA(P23:BT23)) | BV23: =IF(ISBLANK(B23)," ",(COUNTA($P$20:$BT$20)-BU23)) | BW23: =IF(ISBLANK(B23)," ",'Skole scoring'!BG6) | BX23: =IF(ISBLANK(B23)," ",(BU23)-(BW23)-BY23) | BY23: =IF(ISBLANK(B23)," ",COUNTIF(P23:BT23,5))
A24: =IF(ISBLANK(B24)," ",IF(ISBLANK(N24),1," ")) | E24: =IF(ISBLANK(E23)," ",E23) | F24: =IF(ISBLANK($E$21),"",VLOOKUP($E$21,Skoleliste!$A:$H,2,FALSE)) | G24: =IF(ISBLANK($E$21),"",VLOOKUP($E$21,Skoleliste!$A:$H,3,FALSE)) | H24: =IF(ISBLANK($E$21),"",VLOOKUP($E$21,Skoleliste!$A:$H,4,FALSE)) | I24: =IF(ISBLANK($E$21),"",VLOOKUP($E$21,Skoleliste!$A:$H,5,FALSE)) | J24: =IF(ISBLANK($E$21),"",VLOOKUP($E$21,Skoleliste!$A:$H,6,FALSE)) | K24: =IF(ISBLANK($E$21),"",VLOOKUP($E$21,Skoleliste!$A:$H,7,FALSE)) | L24: =IF(ISBLANK($E$21),"",VLOOKUP($E$21,Skoleliste!$A:$H,8,FALSE)) | M24: =IF(ISBLANK(M23)," ",M23) | O24: =IF(ISBLANK(O23)," ",O23) | BU24: =IF(ISBLANK(B24)," ",COUNTA(P24:BT24)) | BV24: =IF(ISBLANK(B24)," ",(COUNTA($P$20:$BT$20)-BU24)) | BW24: =IF(ISBLANK(B24)," ",'Skole scoring'!BG7) | BX24: =IF(ISBLANK(B24)," ",(BU24)-(BW24)-BY24) | BY24: =IF(ISBLANK(B24)," ",COUNTIF(P24:BT24,5))
A25: =IF(ISBLANK(B25)," ",IF(ISBLANK(N25),1," ")) | E25: =IF(ISBLANK(E24)," ",E24) | F25: =IF(ISBLANK($E$21),"",VLOOKUP($E$21,Skoleliste!$A:$H,2,FALSE)) | G25: =IF(ISBLANK($E$21),"",VLOOKUP($E$21,Skoleliste!$A:$H,3,FALSE)) | H25: =IF(ISBLANK($E$21),"",VLOOKUP($E$21,Skoleliste!$A:$H,4,FALSE)) | I25: =IF(ISBLANK($E$21),"",VLOOKUP($E$21,Skoleliste!$A:$H,5,FALSE)) | J25: =IF(ISBLANK($E$21),"",VLOOKUP($E$21,Skoleliste!$A:$H,6,FALSE)) | K25: =IF(ISBLANK($E$21),"",VLOOKUP($E$21,Skoleliste!$A:$H,7,FALSE)) | L25: =IF(ISBLANK($E$21),"",VLOOKUP($E$21,Skoleliste!$A:$H,8,FALSE)) | M25: =IF(ISBLANK(M24)," ",M24) | O25: =IF(ISBLANK(O24)," ",O24) | BU25: =IF(ISBLANK(B25)," ",COUNTA(P25:BT25)) | BV25: =IF(ISBLANK(B25)," ",(COUNTA($P$20:$BT$20)-BU25)) | BW25: =IF(ISBLANK(B25)," ",'Skole scoring'!BG8) | BX25: =IF(ISBLANK(B25)," ",(BU25)-(BW25)-BY25) | BY25: =IF(ISBLANK(B25)," ",COUNTIF(P25:BT25,5))
A26: =IF(ISBLANK(B26)," ",IF(ISBLANK(N26),1," ")) | E26: =IF(ISBLANK(E25)," ",E25) | F26: =IF(ISBLANK($E$21),"",VLOOKUP($E$21,Skoleliste!$A:$H,2,FALSE)) | G26: =IF(ISBLANK($E$21),"",VLOOKUP($E$21,Skoleliste!$A:$H,3,FALSE)) | H26: =IF(ISBLANK($E$21),"",VLOOKUP($E$21,Skoleliste!$A:$H,4,FALSE)) | I26: =IF(ISBLANK($E$21),"",VLOOKUP($E$21,Skoleliste!$A:$H,5,FALSE)) | J26: =IF(ISBLANK($E$21),"",VLOOKUP($E$21,Skoleliste!$A:$H,6,FALSE)) | K26: =IF(ISBLANK($E$21),"",VLOOKUP($E$21,Skoleliste!$A:$H,7,FALSE)) | L26: =IF(ISBLANK($E$21),"",VLOOKUP($E$21,Skoleliste!$A:$H,8,FALSE)) | M26: =IF(ISBLANK(M25)," ",M25) | O26: =IF(ISBLANK(O25)," ",O25) | BU26: =IF(ISBLANK(B26)," ",COUNTA(P26:BT26)) | BV26: =IF(ISBLANK(B26)," ",(COUNTA($P$20:$BT$20)-BU26)) | BW26: =IF(ISBLANK(B26)," ",'Skole scoring'!BG9) | BX26: =IF(ISBLANK(B26)," ",(BU26)-(BW26)-BY26) | BY26: =IF(ISBLANK(B26)," ",COUNTIF(P26:BT26,5))
A27: =IF(ISBLANK(B27)," ",IF(ISBLANK(N27),1," ")) | E27: =IF(ISBLANK(E26)," ",E26) | F27: =IF(ISBLANK($E$21),"",VLOOKUP($E$21,Skoleliste!$A:$H,2,FALSE)) | G27: =IF(ISBLANK($E$21),"",VLOOKUP($E$21,Skoleliste!$A:$H,3,FALSE)) | H27: =IF(ISBLANK($E$21),"",VLOOKUP($E$21,Skoleliste!$A:$H,4,FALSE)) | I27: =IF(ISBLANK($E$21),"",VLOOKUP($E$21,Skoleliste!$A:$H,5,FALSE)) | J27: =IF(ISBLANK($E$21),"",VLOOKUP($E$21,Skoleliste!$A:$H,6,FALSE)) | K27: =IF(ISBLANK($E$21),"",VLOOKUP($E$21,Skoleliste!$A:$H,7,FALSE)) | L27: =IF(ISBLANK($E$21),"",VLOOKUP($E$21,Skoleliste!$A:$H,8,FALSE)) | M27: =IF(ISBLANK(M26)," ",M26) | O27: =IF(ISBLANK(O26)," ",O26) | BU27: =IF(ISBLANK(B27)," ",COUNTA(P27:BT27)) | BV27: =IF(ISBLANK(B27)," ",(COUNTA($P$20:$BT$20)-BU27)) | BW27: =IF(ISBLANK(B27)," ",'Skole scoring'!BG10) | BX27: =IF(ISBLANK(B27)," ",(BU27)-(BW27)-BY27) | BY27: =IF(ISBLANK(B27)," ",COUNTIF(P27:BT27,5))
A28: =IF(ISBLANK(B28)," ",IF(ISBLANK(N28),1," ")) | E28: =IF(ISBLANK(E27)," ",E27) | F28: =IF(ISBLANK($E$21),"",VLOOKUP($E$21,Skoleliste!$A:$H,2,FALSE)) | G28: =IF(ISBLANK($E$21),"",VLOOKUP($E$21,Skoleliste!$A:$H,3,FALSE)) | H28: =IF(ISBLANK($E$21),"",VLOOKUP($E$21,Skoleliste!$A:$H,4,FALSE)) | I28: =IF(ISBLANK($E$21),"",VLOOKUP($E$21,Skoleliste!$A:$H,5,FALSE)) | J28: =IF(ISBLANK($E$21),"",VLOOKUP($E$21,Skoleliste!$A:$H,6,FALSE)) | K28: =IF(ISBLANK($E$21),"",VLOOKUP($E$21,Skoleliste!$A:$H,7,FALSE)) | L28: =IF(ISBLANK($E$21),"",VLOOKUP($E$21,Skoleliste!$A:$H,8,FALSE)) | M28: =IF(ISBLANK(M27)," ",M27) | O28: =IF(ISBLANK(O27)," ",O27) | BU28: =IF(ISBLANK(B28)," ",COUNTA(P28:BT28)) | BV28: =IF(ISBLANK(B28)," ",(COUNTA($P$20:$BT$20)-BU28)) | BW28: =IF(ISBLANK(B28)," ",'Skole scoring'!BG11) | BX28: =IF(ISBLANK(B28)," ",(BU28)-(BW28)-BY28) | BY28: =IF(ISBLANK(B28)," ",COUNTIF(P28:BT28,5))
A29: =IF(ISBLANK(B29)," ",IF(ISBLANK(N29),1," ")) | E29: =IF(ISBLANK(E28)," ",E28) | F29: =IF(ISBLANK($E$21),"",VLOOKUP($E$21,Skoleliste!$A:$H,2,FALSE)) | G29: =IF(ISBLANK($E$21),"",VLOOKUP($E$21,Skoleliste!$A:$H,3,FALSE)) | H29: =IF(ISBLANK($E$21),"",VLOOKUP($E$21,Skoleliste!$A:$H,4,FALSE)) | I29: =IF(ISBLANK($E$21),"",VLOOKUP($E$21,Skoleliste!$A:$H,5,FALSE)) | J29: =IF(ISBLANK($E$21),"",VLOOKUP($E$21,Skoleliste!$A:$H,6,FALSE)) | K29: =IF(ISBLANK($E$21),"",VLOOKUP($E$21,Skoleliste!$A:$H,7,FALSE)) | L29: =IF(ISBLANK($E$21),"",VLOOKUP($E$21,Skoleliste!$A:$H,8,FALSE)) | M29: =IF(ISBLANK(M28)," ",M28) | O29: =IF(ISBLANK(O28)," ",O28) | BU29: =IF(ISBLANK(B29)," ",COUNTA(P29:BT29)) | BV29: =IF(ISBLANK(B29)," ",(COUNTA($P$20:$BT$20)-BU29)) | BW29: =IF(ISBLANK(B29)," ",'Skole scoring'!BG12) | BX29: =IF(ISBLANK(B29)," ",(BU29)-(BW29)-BY29) | BY29: =IF(ISBLANK(B29)," ",COUNTIF(P29:BT29,5))
A30: =IF(ISBLANK(B30)," ",IF(ISBLANK(N30),1," ")) | E30: =IF(ISBLANK(E29)," ",E29) | F30: =IF(ISBLANK($E$21),"",VLOOKUP($E$21,Skoleliste!$A:$H,2,FALSE)) | G30: =IF(ISBLANK($E$21),"",VLOOKUP($E$21,Skoleliste!$A:$H,3,FALSE)) | H30: =IF(ISBLANK($E$21),"",VLOOKUP($E$21,Skoleliste!$A:$H,4,FALSE)) | I30: =IF(ISBLANK($E$21),"",VLOOKUP($E$21,Skoleliste!$A:$H,5,FALSE)) | J30: =IF(ISBLANK($E$21),"",VLOOKUP($E$21,Skoleliste!$A:$H,6,FALSE)) | K30: =IF(ISBLANK($E$21),"",VLOOKUP($E$21,Skoleliste!$A:$H,7,FALSE)) | L30: =IF(ISBLANK($E$21),"",VLOOKUP($E$21,Skoleliste!$A:$H,8,FALSE)) | M30: =IF(ISBLANK(M29)," ",M29) | O30: =IF(ISBLANK(O29)," ",O29) | BU30: =IF(ISBLANK(B30)," ",COUNTA(P30:BT30)) | BV30: =IF(ISBLANK(B30)," ",(COUNTA($P$20:$BT$20)-BU30)) | BW30: =IF(ISBLANK(B30)," ",'Skole scoring'!BG13) | BX30: =IF(ISBLANK(B30)," ",(BU30)-(BW30)-BY30) | BY30: =IF(ISBLANK(B30)," ",COUNTIF(P30:BT30,5))
A31: =IF(ISBLANK(B31)," ",IF(ISBLANK(N31),1," ")) | E31: =IF(ISBLANK(E30)," ",E30) | F31: =IF(ISBLANK($E$21),"",VLOOKUP($E$21,Skoleliste!$A:$H,2,FALSE)) | G31: =IF(ISBLANK($E$21),"",VLOOKUP($E$21,Skoleliste!$A:$H,3,FALSE)) | H31: =IF(ISBLANK($E$21),"",VLOOKUP($E$21,Skoleliste!$A:$H,4,FALSE)) | I31: =IF(ISBLANK($E$21),"",VLOOKUP($E$21,Skoleliste!$A:$H,5,FALSE)) | J31: =IF(ISBLANK($E$21),"",VLOOKUP($E$21,Skoleliste!$A:$H,6,FALSE)) | K31: =IF(ISBLANK($E$21),"",VLOOKUP($E$21,Skoleliste!$A:$H,7,FALSE)) | L31: =IF(ISBLANK($E$21),"",VLOOKUP($E$21,Skoleliste!$A:$H,8,FALSE)) | M31: =IF(ISBLANK(M30)," ",M30) | O31: =IF(ISBLANK(O30)," ",O30) | BU31: =IF(ISBLANK(B31)," ",COUNTA(P31:BT31)) | BV31: =IF(ISBLANK(B31)," ",(COUNTA($P$20:$BT$20)-BU31)) | BW31: =IF(ISBLANK(B31)," ",'Skole scoring'!BG14) | BX31: =IF(ISBLANK(B31)," ",(BU31)-(BW31)-BY31) | BY31: =IF(ISBLANK(B31)," ",COUNTIF(P31:BT31,5))
A32: =IF(ISBLANK(B32)," ",IF(ISBLANK(N32),1," ")) | E32: =IF(ISBLANK(E31)," ",E31) | F32: =IF(ISBLANK($E$21),"",VLOOKUP($E$21,Skoleliste!$A:$H,2,FALSE)) | G32: =IF(ISBLANK($E$21),"",VLOOKUP($E$21,Skoleliste!$A:$H,3,FALSE)) | H32: =IF(ISBLANK($E$21),"",VLOOKUP($E$21,Skoleliste!$A:$H,4,FALSE)) | I32: =IF(ISBLANK($E$21),"",VLOOKUP($E$21,Skoleliste!$A:$H,5,FALSE)) | J32: =IF(ISBLANK($E$21),"",VLOOKUP($E$21,Skoleliste!$A:$H,6,FALSE)) | K32: =IF(ISBLANK($E$21),"",VLOOKUP($E$21,Skoleliste!$A:$H,7,FALSE)) | L32: =IF(ISBLANK($E$21),"",VLOOKUP($E$21,Skoleliste!$A:$H,8,FALSE)) | M32: =IF(ISBLANK(M31)," ",M31) | O32: =IF(ISBLANK(O31)," ",O31) | BU32: =IF(ISBLANK(B32)," ",COUNTA(P32:BT32)) | BV32: =IF(ISBLANK(B32)," ",(COUNTA($P$20:$BT$20)-BU32)) | BW32: =IF(ISBLANK(B32)," ",'Skole scoring'!BG15) | BX32: =IF(ISBLANK(B32)," ",(BU32)-(BW32)-BY32) | BY32: =IF(ISBLANK(B32)," ",COUNTIF(P32:BT32,5))
A33: =IF(ISBLANK(B33)," ",IF(ISBLANK(N33),1," ")) | E33: =IF(ISBLANK(E32)," ",E32) | F33: =IF(ISBLANK($E$21),"",VLOOKUP($E$21,Skoleliste!$A:$H,2,FALSE)) | G33: =IF(ISBLANK($E$21),"",VLOOKUP($E$21,Skoleliste!$A:$H,3,FALSE)) | H33: =IF(ISBLANK($E$21),"",VLOOKUP($E$21,Skoleliste!$A:$H,4,FALSE)) | I33: =IF(ISBLANK($E$21),"",VLOOKUP($E$21,Skoleliste!$A:$H,5,FALSE)) | J33: =IF(ISBLANK($E$21),"",VLOOKUP($E$21,Skoleliste!$A:$H,6,FALSE)) | K33: =IF(ISBLANK($E$21),"",VLOOKUP($E$21,Skoleliste!$A:$H,7,FALSE)) | L33: =IF(ISBLANK($E$21),"",VLOOKUP($E$21,Skoleliste!$A:$H,8,FALSE)) | M33: =IF(ISBLANK(M32)," ",M32) | O33: =IF(ISBLANK(O32)," ",O32) | BU33: =IF(ISBLANK(B33)," ",COUNTA(P33:BT33)) | BV33: =IF(ISBLANK(B33)," ",(COUNTA($P$20:$BT$20)-BU33)) | BW33: =IF(ISBLANK(B33)," ",'Skole scoring'!BG16) | BX33: =IF(ISBLANK(B33)," ",(BU33)-(BW33)-BY33) | BY33: =IF(ISBLANK(B33)," ",COUNTIF(P33:BT33,5))
A34: =IF(ISBLANK(B34)," ",IF(ISBLANK(N34),1," ")) | E34: =IF(ISBLANK(E33)," ",E33) | F34: =IF(ISBLANK($E$21),"",VLOOKUP($E$21,Skoleliste!$A:$H,2,FALSE)) | G34: =IF(ISBLANK($E$21),"",VLOOKUP($E$21,Skoleliste!$A:$H,3,FALSE)) | H34: =IF(ISBLANK($E$21),"",VLOOKUP($E$21,Skoleliste!$A:$H,4,FALSE)) | I34: =IF(ISBLANK($E$21),"",VLOOKUP($E$21,Skoleliste!$A:$H,5,FALSE)) | J34: =IF(ISBLANK($E$21),"",VLOOKUP($E$21,Skoleliste!$A:$H,6,FALSE)) | K34: =IF(ISBLANK($E$21),"",VLOOKUP($E$21,Skoleliste!$A:$H,7,FALSE)) | L34: =IF(ISBLANK($E$21),"",VLOOKUP($E$21,Skoleliste!$A:$H,8,FALSE)) | M34: =IF(ISBLANK(M33)," ",M33) | O34: =IF(ISBLANK(O33)," ",O33) | BU34: =IF(ISBLANK(B34)," ",COUNTA(P34:BT34)) | BV34: =IF(ISBLANK(B34)," ",(COUNTA($P$20:$BT$20)-BU34)) | BW34: =IF(ISBLANK(B34)," ",'Skole scoring'!BG17) | BX34: =IF(ISBLANK(B34)," ",(BU34)-(BW34)-BY34) | BY34: =IF(ISBLANK(B34)," ",COUNTIF(P34:BT34,5))
... A46: =IF(ISBLANK(B46)," ",IF(ISBLANK(N46),1," ")) | E46: =IF(ISBLANK(E45)," ",E45) | F46: =IF(ISBLANK($E$21),"",VLOOKUP($E$21,Skoleliste!$A:$H,2,FALSE)) | G46: =IF(ISBLANK($E$21),"",VLOOKUP($E$21,Skoleliste!$A:$H,3,FALSE)) | H46: =IF(ISBLANK($E$21),"",VLOOKUP($E$21,Skoleliste!$A:$H,4,FALSE)) | I46: =IF(ISBLANK($E$21),"",VLOOKUP($E$21,Skoleliste!$A:$H,5,FALSE)) | J46: =IF(ISBLANK($E$21),"",VLOOKUP($E$21,Skoleliste!$A:$H,6,FALSE)) | K46: =IF(ISBLANK($E$21),"",VLOOKUP($E$21,Skoleliste!$A:$H,7,FALSE)) | L46: =IF(ISBLANK($E$21),"",VLOOKUP($E$21,Skoleliste!$A:$H,8,FALSE)) | M46: =IF(ISBLANK(M45)," ",M45) | O46: =IF(ISBLANK(O45)," ",O45) | BU46: =IF(ISBLANK(B46)," ",COUNTA(P46:BT46)) | BV46: =IF(ISBLANK(B46)," ",(COUNTA($P$20:$BT$20)-BU46)) | BW46: =IF(ISBLANK(B46)," ",'Skole scoring'!BG29) | BX46: =IF(ISBLANK(B46)," ",(BU46)-(BW46)-BY46) | BY46: =IF(ISBLANK(B46)," ",COUNTIF(P46:BT46,5))

Sheet Resultater M1
C4: =IF(COUNTIF('Skole scoring'!BH4,Grøn),'Midt 1.kl. -Klasse'!B21,"") | D4: =IF(COUNTIFS('Skole scoring'!BH4,GulA,'Skole scoring'!BH4,GulB),'Midt 1.kl. -Klasse'!B21,"") | E4: =IF(COUNTIF('Skole scoring'!BH4,Rød),'Midt 1.kl. -Klasse'!B21,"")
C5: =IF(COUNTIF('Skole scoring'!BH5,Grøn),'Midt 1.kl. -Klasse'!B22,"") | D5: =IF(COUNTIFS('Skole scoring'!BH5,GulA,'Skole scoring'!BH5,GulB),'Midt 1.kl. -Klasse'!B22,"") | E5: =IF(COUNTIF('Skole scoring'!BH5,Rød),'Midt 1.kl. -Klasse'!B22,"")
C6: =IF(COUNTIF('Skole scoring'!BH6,Grøn),'Midt 1.kl. -Klasse'!B23,"") | D6: =IF(COUNTIFS('Skole scoring'!BH6,GulA,'Skole scoring'!BH6,GulB),'Midt 1.kl. -Klasse'!B23,"") | E6: =IF(COUNTIF('Skole scoring'!BH6,Rød),'Midt 1.kl. -Klasse'!B23,"")
C7: =IF(COUNTIF('Skole scoring'!BH7,Grøn),'Midt 1.kl. -Klasse'!B24,"") | D7: =IF(COUNTIFS('Skole scoring'!BH7,GulA,'Skole scoring'!BH7,GulB),'Midt 1.kl. -Klasse'!B24,"") | E7: =IF(COUNTIF('Skole scoring'!BH7,Rød),'Midt 1.kl. -Klasse'!B24,"")
C8: =IF(COUNTIF('Skole scoring'!BH8,Grøn),'Midt 1.kl. -Klasse'!B25,"") | D8: =IF(COUNTIFS('Skole scoring'!BH8,GulA,'Skole scoring'!BH8,GulB),'Midt 1.kl. -Klasse'!B25,"") | E8: =IF(COUNTIF('Skole scoring'!BH8,Rød),'Midt 1.kl. -Klasse'!B25,"")
C9: =IF(COUNTIF('Skole scoring'!BH9,Grøn),'Midt 1.kl. -Klasse'!B26,"") | D9: =IF(COUNTIFS('Skole scoring'!BH9,GulA,'Skole scoring'!BH9,GulB),'Midt 1.kl. -Klasse'!B26,"") | E9: =IF(COUNTIF('Skole scoring'!BH9,Rød),'Midt 1.kl. -Klasse'!B26,"")
C10: =IF(COUNTIF('Skole scoring'!BH10,Grøn),'Midt 1.kl. -Klasse'!B27,"") | D10: =IF(COUNTIFS('Skole scoring'!BH10,GulA,'Skole scoring'!BH10,GulB),'Midt 1.kl. -Klasse'!B27,"") | E10: =IF(COUNTIF('Skole scoring'!BH10,Rød),'Midt 1.kl. -Klasse'!B27,"")
C11: =IF(COUNTIF('Skole scoring'!BH11,Grøn),'Midt 1.kl. -Klasse'!B28,"") | D11: =IF(COUNTIFS('Skole scoring'!BH11,GulA,'Skole scoring'!BH11,GulB),'Midt 1.kl. -Klasse'!B28,"") | E11: =IF(COUNTIF('Skole scoring'!BH11,Rød),'Midt 1.kl. -Klasse'!B28,"")
C12: =IF(COUNTIF('Skole scoring'!BH12,Grøn),'Midt 1.kl. -Klasse'!B29,"") | D12: =IF(COUNTIFS('Skole scoring'!BH12,GulA,'Skole scoring'!BH12,GulB),'Midt 1.kl. -Klasse'!B29,"") | E12: =IF(COUNTIF('Skole scoring'!BH12,Rød),'Midt 1.kl. -Klasse'!B29,"")
C13: =IF(COUNTIF('Skole scoring'!BH13,Grøn),'Midt 1.kl. -Klasse'!B30,"") | D13: =IF(COUNTIFS('Skole scoring'!BH13,GulA,'Skole scoring'!BH13,GulB),'Midt 1.kl. -Klasse'!B30,"") | E13: =IF(COUNTIF('Skole scoring'!BH13,Rød),'Midt 1.kl. -Klasse'!B30,"")
C14: =IF(COUNTIF('Skole scoring'!BH14,Grøn),'Midt 1.kl. -Klasse'!B31,"") | D14: =IF(COUNTIFS('Skole scoring'!BH14,GulA,'Skole scoring'!BH14,GulB),'Midt 1.kl. -Klasse'!B31,"") | E14: =IF(COUNTIF('Skole scoring'!BH14,Rød),'Midt 1.kl. -Klasse'!B31,"")
C15: =IF(COUNTIF('Skole scoring'!BH15,Grøn),'Midt 1.kl. -Klasse'!B32,"") | D15: =IF(COUNTIFS('Skole scoring'!BH15,GulA,'Skole scoring'!BH15,GulB),'Midt 1.kl. -Klasse'!B32,"") | E15: =IF(COUNTIF('Skole scoring'!BH15,Rød),'Midt 1.kl. -Klasse'!B32,"")
... C29: =IF(COUNTIF('Skole scoring'!BH29,Grøn),'Midt 1.kl. -Klasse'!B46,"") | D29: =IF(COUNTIFS('Skole scoring'!BH29,GulA,'Skole scoring'!BH29,GulB),'Midt 1.kl. -Klasse'!B46,"") | E29: =IF(COUNTIF('Skole scoring'!BH29,Rød),'Midt 1.kl. -Klasse'!B46,"")

Sheet Elev Score M1
C2: Atuartup killiffia
F3: Suliassat katillugit | G3: 57
C4: Ateq | F4: Eqqortumik akisat | G4: =VLOOKUP($D$4,AAN_1b_ES,62,FALSE) -> 0
C6: Naqinnerit nipaat | F6: Naqinnernik allanneq | I6: Oqaatsimi nipi siulleq
C7: Misiligutaasut | D7: Akissut | F7: Misiligutaasut | G7: Akissut | I7: Misiligutaasut | J7: Akissut
A8: 2 | C8: f | D8: =VLOOKUP($D$4,AAN_1b_ES,A8,FALSE) | F8: J | G8: =VLOOKUP($D$4,AAN_1b_ES,A32,FALSE) | I8: Siku | J8: =VLOOKUP($D$4,AAN_1b_ES,A51,FALSE)
A9: 3 | C9: a | D9: =VLOOKUP($D$4,AAN_1b_ES,A9,FALSE) | F9: S | G9: =VLOOKUP($D$4,AAN_1b_ES,A33,FALSE) | I9: Puugutaq | J9: =VLOOKUP($D$4,AAN_1b_ES,A52,FALSE)
A10: 4 | C10: v | D10: =VLOOKUP($D$4,AAN_1b_ES,A10,FALSE) | F10: K | G10: =VLOOKUP($D$4,AAN_1b_ES,A34,FALSE) | I10: Ulloriaq | J10: =VLOOKUP($D$4,AAN_1b_ES,A53,FALSE)
A11: 5 | C11: rr | D11: =VLOOKUP($D$4,AAN_1b_ES,A11,FALSE) | F11: V | G11: =VLOOKUP($D$4,AAN_1b_ES,A35,FALSE) | I11: Tuttu | J11: =VLOOKUP($D$4,AAN_1b_ES,A54,FALSE)
A12: 6 | C12: i | D12: =VLOOKUP($D$4,AAN_1b_ES,A12,FALSE) | F12: U | G12: =VLOOKUP($D$4,AAN_1b_ES,A36,FALSE) | I12: Nanoq | J12: =VLOOKUP($D$4,AAN_1b_ES,A55,FALSE)
A13: 7 | C13: gg | D13: =VLOOKUP($D$4,AAN_1b_ES,A13,FALSE) | F13: P | G13: =VLOOKUP($D$4,AAN_1b_ES,A37,FALSE) | I13: Aqerluusaq | J13: =VLOOKUP($D$4,AAN_1b_ES,A56,FALSE)
A14: 8 | C14: s | D14: =VLOOKUP($D$4,AAN_1b_ES,A14,FALSE) | F14: M | G14: =VLOOKUP($D$4,AAN_1b_ES,A38,FALSE) | I14: Qajaq | J14: =VLOOKUP($D$4,AAN_1b_ES,A57,FALSE)
A15: 9 | C15: t | D15: =VLOOKUP($D$4,AAN_1b_ES,A15,FALSE) | F15: I | G15: =VLOOKUP($D$4,AAN_1b_ES,A39,FALSE) | I15: Kulloq | J15: =VLOOKUP($D$4,AAN_1b_ES,A58,FALSE)
A16: 10 | C16: l | D16: =VLOOKUP($D$4,AAN_1b_ES,A16,FALSE) | F16: T | G16: =VLOOKUP($D$4,AAN_1b_ES,A40,FALSE) | I16: Inneq | J16: =VLOOKUP($D$4,AAN_1b_ES,A59,FALSE)
A17: 11 | C17: n | D17: =VLOOKUP($D$4,AAN_1b_ES,A17,FALSE) | F17: H | G17: =VLOOKUP($D$4,AAN_1b_ES,A41,FALSE) | I17: Mannik | J17: =VLOOKUP($D$4,AAN_1b_ES,A60,FALSE)
A18: 12 | C18: k | D18: =VLOOKUP($D$4,AAN_1b_ES,A18,FALSE) | F18: F | G18: =VLOOKUP($D$4,AAN_1b_ES,A42,FALSE) | I18: Errorsivik | J18: =VLOOKUP($D$4,AAN_1b_ES,A61,FALSE)
A19: 13 | C19: j | D19: =VLOOKUP($D$4,AAN_1b_ES,A19,FALSE) | F19: Q | G19: =VLOOKUP($D$4,AAN_1b_ES,A43,FALSE) | I19: Raaja | J19: =VLOOKUP($D$4,AAN_1b_ES,A62,FALSE)
... A21: 15 | C21: g | D21: =VLOOKUP($D$4,AAN_1b_ES,A21,FALSE) | F21: L | G21: =VLOOKUP($D$4,AAN_1b_ES,A45,FALSE) | I21: Tiitorfik | J21: =VLOOKUP($D$4,AAN_1b_ES,A64,FALSE)
A22: 16 | C22: r | D22: =VLOOKUP($D$4,AAN_1b_ES,A22,FALSE) | F22: A | G22: =VLOOKUP($D$4,AAN_1b_ES,A46,FALSE) | I22: Suliassat | J22: 14
A23: 17 | C23: h | D23: =VLOOKUP($D$4,AAN_1b_ES,A23,FALSE) | F23: G | G23: =VLOOKUP($D$4,AAN_1b_ES,A47,FALSE) | I23: Eqqortumik akisat | J23: =VLOOKUP(D4,AAN_1b_ES,61,FALSE) -> 0
A24: 18 | C24: q | D24: =VLOOKUP($D$4,AAN_1b_ES,A24,FALSE) | F24: N | G24: =VLOOKUP($D$4,AAN_1b_ES,A48,FALSE)
A25: 19 | C25: ll | D25: =VLOOKUP($D$4,AAN_1b_ES,A25,FALSE) | F25: R | G25: =VLOOKUP($D$4,AAN_1b_ES,A49,FALSE)
A26: 20 | C26: e | D26: =VLOOKUP($D$4,AAN_1b_ES,A26,FALSE) | F26: O | G26: =VLOOKUP($D$4,AAN_1b_ES,A50,FALSE)
A27: 21 | C27: ng | D27: =VLOOKUP($D$4,AAN_1b_ES,A27,FALSE) | F27: Suliassat | G27: 19
A28: 22 | C28: p | D28: =VLOOKUP($D$4,AAN_1b_ES,A28,FALSE) | F28: Eqqortumik akisat | G28: =VLOOKUP(D4,AAN_1b_ES,60,FALSE) -> 0
A29: 23 | C29: m | D29: =VLOOKUP($D$4,AAN_1b_ES,A29,FALSE)
A30: 24 | C30: o | D30: =VLOOKUP($D$4,AAN_1b_ES,A30,FALSE)
A31: 25 | C31: t (d) | D31: =VLOOKUP($D$4,AAN_1b_ES,A31,FALSE)
A32: 26 | C32: Suliassat | D32: 24
A33: 27 | C33: Eqqortumik akisat | D33: =VLOOKUP($D$4,AAN_1b_ES,59,FALSE) -> 0
A34: 28
A35: 29 | C35: Ilitsersuut
A36: 30 | C36: Tungujortut: Eqqortumik akisat
A37: 31 | C37: Qaqortut immersukkat: Kukkusumik akisat
A38: 32 | C38: Qaqortut imaqanngitsut: Akineqanngitsut
A39: 33 | C39: X: Naqinneq mumillugu (spejlvendt) allataq, ass. Qx
A40: 34 | C40: Ugyldige: Akissut atorsinnaanngitsoq, ass. marlunnik x-iligaq
A41: 35
A42: 36
A43: 37
A44: 38
A45: 39
A46: 40
A47: 41
A48: 42
A49: 43
A50: 44
A51: 45
A52: 46
... A67: 61

Sheet Slut 1.kl. -Klasse
P1: R | Q1: r | R1: S | S1: s | T1: K | U1: k | V1: V | W1: v | X1: U | Y1: u | Z1: P | AA1: p | AB1: M | AC1: m | AD1: I | AE1: i | AF1: Q | AG1: q | AH1: H | AI1: h | AJ1: F | AK1: f | AL1: T | AM1: t | AN1: E | AO1: e | AP1: L | AQ1: l | AR1: G | AS1: g | AT1: N | AU1: n | AV1: J | AW1: j | AX1: O | AY1: o | AZ1: A | BA1: a | BB1: Ma | BC1: Pu | BD1: Ni | BE1: Aq | BF1: Uu | BG1: Ua | BH1: Toq | BI1: Nut | BJ1: Sak | BK1: Miu | BL1: Laa | BM1: Isa | BN1: Ara | BO1: Puli | BP1: Alli | BQ1: Ikka | BR1: Ammi | BS1: Ulu | BT1: Iga | BU1: Niu | BV1: Siku | BW1: Oqaq | BX1: Appa | BY1: Illu | BZ1: Savik | CA1: Tikeq | CB1: Arsaq | CC1: Orpik | CD1: Tuttu | CE1: Immuk | CF1: Assak | CG1: Kaagi | CH1: Aaveq | CI1: Umiaq | CJ1: Akiseq | CK1: Aasiak | CL1: Saagut | CM1: Qorfik | CN1: Kulloq | CO1: Atuagaq | CP1: Inuusaq | CQ1: Aqisseq
O2: Opgave | P2: Naqinnernik allanneq | BB2: Oqaasiusanik allanneq | BS2: Oqaatsinik atuarneq
C3: Distraktor | BB3: 1 | BC3: 1 | BD3: 1 | BE3: 1 | BF3: 1 | BG3: 1 | BH3: 1 | BI3: 1 | BJ3: 1 | BK3: 1 | BL3: 1 | BM3: 1 | BN3: 1 | BO3: 1 | BP3: 1 | BQ3: 1 | BR3: 1 | BS3: 4 | BT3: 1 | BU3: 3 | BV3: 4 | BW3: 2 | BX3: 1 | BY3: 3 | BZ3: 2 | CA3: 4 | CB3: 3 | CC3: 1 | CD3: 2 | CE3: 3 | CF3: 4 | CG3: 2 | CH3: 4 | CI3: 1 | CJ3: 3 | CK3: 2 | CL3: 4 | CM3: 3 | CN3: 1 | CO3: 4 | CP3: 2 | CQ3: 1
C4: afstemning | P4: =SUM(P5:P11) -> 0 | Q4: =SUM(Q5:Q11) -> 0 | R4: =SUM(R5:R11) -> 0 | S4: =SUM(S5:S11) -> 0 | T4: =SUM(T5:T11) -> 0 | U4: =SUM(U5:U11) -> 0 | V4: =SUM(V5:V11) -> 0 | W4: =SUM(W5:W11) -> 0 | ... AJ4: =SUM(AJ5:AJ11) -> 0 | AK4: =SUM(AK6:AK11) -> 0 | AL4: =SUM(AL6:AL11) -> 0 | AM4: =SUM(AM6:AM11) -> 0 | AN4: =SUM(AN6:AN11) -> 0 | AO4: =SUM(AO6:AO11) -> 0 | AP4: =SUM(AP6:AP11) -> 0 | AQ4: =SUM(AQ5:AQ11) -> 0 | AR4: =SUM(AR5:AR11) -> 0 | AS4: =SUM(AS5:AS11) -> 0 | AT4: =SUM(AT5:AT11) -> 0 | AU4: =SUM(AU5:AU11) -> 0 | AV4: =SUM(AV5:AV11) -> 0 | AW4: =SUM(AW5:AW11) -> 0 | AX4: =SUM(AX5:AX11) -> 0 | ... BK4: =SUM(BK5:BK11) -> 0 | BL4: =SUM(BL6:BL11) -> 0 | BM4: =SUM(BM6:BM11) -> 0 | BN4: =SUM(BN6:BN11) -> 0 | BO4: =SUM(BO6:BO11) -> 0 | BP4: =SUM(BP6:BP11) -> 0 | BQ4: =SUM(BQ6:BQ11) -> 0 | BR4: =SUM(BR6:BR11) -> 0 | BS4: =SUM(BS6:BS11) -> 0 | ... CQ4: =SUM(CQ6:CQ11) -> 0
C5: 0 | P5: =COUNTIF('Skole scoring'!B34:B59,0) -> 0 | Q5: =COUNTIF('Skole scoring'!C34:C59,0) -> 0 | R5: =COUNTIF('Skole scoring'!D34:D59,0) -> 0 | S5: =COUNTIF('Skole scoring'!E34:E59,0) -> 0 | T5: =COUNTIF('Skole scoring'!F34:F59,0) -> 0 | U5: =COUNTIF('Skole scoring'!G34:G59,0) -> 0 | V5: =COUNTIF('Skole scoring'!H34:H59,0) -> 0 | W5: =COUNTIF('Skole scoring'!I34:I59,0) -> 0 | ... BR5: =COUNTIF('Skole scoring'!BD34:BD59,0) -> 0
C6: 1 | P6: =COUNTIF(P$21:P$46,P1) -> 0 | Q6: =COUNTIF(Q$21:Q$46,Q1) -> 0 | R6: =COUNTIF(R$21:R$46,R1) -> 0 | S6: =COUNTIF(S$21:S$46,S1) -> 0 | T6: =COUNTIF(T$21:T$46,T1) -> 0 | U6: =COUNTIF(U$21:U$46,U1) -> 0 | V6: =COUNTIF(V$21:V$46,V1) -> 0 | W6: =COUNTIF(W$21:W$46,W1) -> 0 | ... BK6: =COUNTIF(BK$21:BK$46,BK1) -> 0 | BL6: =COUNTIF(BL$21:BL$46,1) -> 0 | BM6: =COUNTIF(BM$21:BM$46,1) -> 0 | BN6: =COUNTIF(BN$21:BN$46,1) -> 0 | BO6: =COUNTIF(BO$21:BO$46,1) -> 0 | BP6: =COUNTIF(BP$21:BP$46,1) -> 0 | BQ6: =COUNTIF(BQ$21:BQ$46,1) -> 0 | BR6: =COUNTIF(BR$21:BR$46,1) -> 0 | BS6: =COUNTIF(BS$21:BS$46,1) -> 0 | ... CQ6: =COUNTIF(CQ$21:CQ$46,1) -> 0
C7: 2 | BS7: =COUNTIF(BS$21:BS$46,2) -> 0 | BT7: =COUNTIF(BT$21:BT$46,2) -> 0 | BU7: =COUNTIF(BU$21:BU$46,2) -> 0 | BV7: =COUNTIF(BV$21:BV$46,2) -> 0 | BW7: =COUNTIF(BW$21:BW$46,2) -> 0 | BX7: =COUNTIF(BX$21:BX$46,2) -> 0 | BY7: =COUNTIF(BY$21:BY$46,2) -> 0 | BZ7: =COUNTIF(BZ$21:BZ$46,2) -> 0 | ... CQ7: =COUNTIF(CQ$21:CQ$46,2) -> 0
C8: 3 | BS8: =COUNTIF(BS$21:BS$46,3) -> 0 | BT8: =COUNTIF(BT$21:BT$46,3) -> 0 | BU8: =COUNTIF(BU$21:BU$46,3) -> 0 | BV8: =COUNTIF(BV$21:BV$46,3) -> 0 | BW8: =COUNTIF(BW$21:BW$46,3) -> 0 | BX8: =COUNTIF(BX$21:BX$46,3) -> 0 | BY8: =COUNTIF(BY$21:BY$46,3) -> 0 | BZ8: =COUNTIF(BZ$21:BZ$46,3) -> 0 | ... CQ8: =COUNTIF(CQ$21:CQ$46,3) -> 0
C9: 4 | BS9: =COUNTIF(BS$21:BS$46,4) -> 0 | BT9: =COUNTIF(BT$21:BT$46,4) -> 0 | BU9: =COUNTIF(BU$21:BU$46,4) -> 0 | BV9: =COUNTIF(BV$21:BV$46,4) -> 0 | BW9: =COUNTIF(BW$21:BW$46,4) -> 0 | BX9: =COUNTIF(BX$21:BX$46,4) -> 0 | BY9: =COUNTIF(BY$21:BY$46,4) -> 0 | BZ9: =COUNTIF(BZ$21:BZ$46,4) -> 0 | ... CQ9: =COUNTIF(CQ$21:CQ$46,4) -> 0
C10: Ugyldige | P10: =COUNTIF(P21:P46,5) -> 0 | Q10: =COUNTIF(Q21:Q46,5) -> 0 | R10: =COUNTIF(R21:R46,5) -> 0 | S10: =COUNTIF(S21:S46,5) -> 0 | T10: =COUNTIF(T21:T46,5) -> 0 | U10: =COUNTIF(U21:U46,5) -> 0 | V10: =COUNTIF(V21:V46,5) -> 0 | W10: =COUNTIF(W21:W46,5) -> 0 | ... CQ10: =COUNTIF(CQ21:CQ46,5) -> 0
C11: Blanke | P11: =COUNTA($B$21:$B$46)-SUM(P5:P10) -> 0 | Q11: =COUNTA($B$21:$B$46)-SUM(Q5:Q10) -> 0 | R11: =COUNTA($B$21:$B$46)-SUM(R5:R10) -> 0 | S11: =COUNTA($B$21:$B$46)-SUM(S5:S10) -> 0 | T11: =COUNTA($B$21:$B$46)-SUM(T5:T10) -> 0 | U11: =COUNTA($B$21:$B$46)-SUM(U5:U10) -> 0 | V11: =COUNTA($B$21:$B$46)-SUM(V5:V10) -> 0 | W11: =COUNTA($B$21:$B$46)-SUM(W5:W10) -> 0 | ... CQ11: =COUNTA($B$21:$B$46)-SUM(CQ5:CQ10) -> 0
C12: 0 | P12: =+P5/P4 -> #DIV/0! | Q12: =+Q5/Q4 -> #DIV/0! | R12: =+R5/R4 -> #DIV/0! | S12: =+S5/S4 -> #DIV/0! | T12: =+T5/T4 -> #DIV/0! | U12: =+U5/U4 -> #DIV/0! | V12: =+V5/V4 -> #DIV/0! | W12: =+W5/W4 -> #DIV/0! | ... CQ12: =+CQ5/CQ4 -> #DIV/0!
C13: 1 | P13: =+P6/P$4 -> #DIV/0! | Q13: =+Q6/Q$4 -> #DIV/0! | R13: =+R6/R$4 -> #DIV/0! | S13: =+S6/S$4 -> #DIV/0! | T13: =+T6/T$4 -> #DIV/0! | U13: =+U6/U$4 -> #DIV/0! | V13: =+V6/V$4 -> #DIV/0! | W13: =+W6/W$4 -> #DIV/0! | ... CQ13: =+CQ6/CQ$4 -> #DIV/0!
C14: 2 | BS14: =+BS7/BS$4 -> #DIV/0! | BT14: =+BT7/BT$4 -> #DIV/0! | BU14: =+BU7/BU$4 -> #DIV/0! | BV14: =+BV7/BV$4 -> #DIV/0! | BW14: =+BW7/BW$4 -> #DIV/0! | BX14: =+BX7/BX$4 -> #DIV/0! | BY14: =+BY7/BY$4 -> #DIV/0! | BZ14: =+BZ7/BZ$4 -> #DIV/0! | ... CQ14: =+CQ7/CQ$4 -> #DIV/0!
C15: 3 | BS15: =+BS8/BS$4 -> #DIV/0! | BT15: =+BT8/BT$4 -> #DIV/0! | BU15: =+BU8/BU$4 -> #DIV/0! | BV15: =+BV8/BV$4 -> #DIV/0! | BW15: =+BW8/BW$4 -> #DIV/0! | BX15: =+BX8/BX$4 -> #DIV/0! | BY15: =+BY8/BY$4 -> #DIV/0! | BZ15: =+BZ8/BZ$4 -> #DIV/0! | ... CQ15: =+CQ8/CQ$4 -> #DIV/0!
C16: 4 | BS16: =+BS9/BS$4 -> #DIV/0! | BT16: =+BT9/BT$4 -> #DIV/0! | BU16: =+BU9/BU$4 -> #DIV/0! | BV16: =+BV9/BV$4 -> #DIV/0! | BW16: =+BW9/BW$4 -> #DIV/0! | BX16: =+BX9/BX$4 -> #DIV/0! | BY16: =+BY9/BY$4 -> #DIV/0! | BZ16: =+BZ9/BZ$4 -> #DIV/0! | ... CQ16: =+CQ9/CQ$4 -> #DIV/0!
C17: Ugyldige | P17: =+P10/P4 -> #DIV/0! | Q17: =+Q10/Q4 -> #DIV/0! | R17: =+R10/R4 -> #DIV/0! | S17: =+S10/S4 -> #DIV/0! | T17: =+T10/T4 -> #DIV/0! | U17: =+U10/U4 -> #DIV/0! | V17: =+V10/V4 -> #DIV/0! | W17: =+W10/W4 -> #DIV/0! | ... CQ17: =+CQ10/CQ4 -> #DIV/0!
C18: Blanke | P18: =+P11/P4 -> #DIV/0! | Q18: =+Q11/Q4 -> #DIV/0! | R18: =+R11/R4 -> #DIV/0! | S18: =+S11/S4 -> #DIV/0! | T18: =+T11/T4 -> #DIV/0! | U18: =+U11/U4 -> #DIV/0! | V18: =+V11/V4 -> #DIV/0! | W18: =+W11/W4 -> #DIV/0! | ... CQ18: =+CQ11/CQ4 -> #DIV/0!
C19: Rigtige | P19: =P13 -> #DIV/0! | Q19: =Q13 -> #DIV/0! | R19: =R13 -> #DIV/0! | S19: =S13 -> #DIV/0! | T19: =T13 -> #DIV/0! | U19: =U13 -> #DIV/0! | V19: =V13 -> #DIV/0! | W19: =W13 -> #DIV/0! | ... BR19: =BR13 -> #DIV/0! | BS19: =BS16 -> #DIV/0! | BT19: =BT13 -> #DIV/0! | BU19: =BU15 -> #DIV/0! | BV19: =BV16 -> #DIV/0! | BW19: =BW14 -> #DIV/0! | BX19: =BX13 -> #DIV/0! | BY19: =BY15 -> #DIV/0! | BZ19: =BZ14 -> #DIV/0! | CA19: =CA16 -> #DIV/0! | CB19: =CB15 -> #DIV/0! | CC19: =CC13 -> #DIV/0! | CD19: =CD14 -> #DIV/0! | CE19: =CE15 -> #DIV/0! | CF19: =CF16 -> #DIV/0! | CG19: =CG14 -> #DIV/0! | CH19: =CH16 -> #DIV/0! | CI19: =CI13 -> #DIV/0! | CJ19: =CJ15 -> #DIV/0! | CK19: =CK14 -> #DIV/0! | CL19: =CL16 -> #DIV/0! | CM19: =CM15 -> #DIV/0! | CN19: =CN13 -> #DIV/0! | CO19: =CO16 -> #DIV/0! | CP19: =CP14 -> #DIV/0! | CQ19: =CQ13 -> #DIV/0!
A20: Antal | B20: Navn | C20: CPR-nr | D20: køn (d/p) | E20: Nr | F20: Skole | G20: Adresse | H20: Postnr | I20: By | J20: Telefon | K20: Kommune | L20: by/bygd | M20: klasse | N20: Ikke mødt (kode) | O20: Indtaster | P20: 1 | Q20: 2 | R20: 3 | S20: 4 | T20: 5 | U20: 6 | V20: 7 | W20: 8 | X20: 9 | Y20: 10 | Z20: 11 | AA20: 12 | AB20: 13 | AC20: 14 | AD20: 15 | AE20: 16 | AF20: 17 | AG20: 18 | AH20: 19 | AI20: 20 | AJ20: 21 | AK20: 22 | AL20: 23 | AM20: 24 | AN20: 25 | AO20: 26 | AP20: 27 | AQ20: 28 | AR20: 29 | AS20: 30 | AT20: 31 | AU20: 32 | AV20: 33 | AW20: 34 | AX20: 35 | AY20: 36 | AZ20: 37 | BA20: 38 | BB20: 1 | BC20: 2 | BD20: 3 | BE20: 4 | BF20: 5 | BG20: 6 | BH20: 7 | BI20: 8 | BJ20: 9 | BK20: 10 | BL20: 11 | BM20: 12 | BN20: 13 | BO20: 14 | BP20: 15 | BQ20: 16 | BR20: 17 | BS20: 1 | BT20: 2 | BU20: 3 | BV20: 4 | BW20: 5 | BX20: 6 | BY20: 7 | BZ20: 8 | CA20: 9 | CB20: 10 | CC20: 11 | CD20: 12 | CE20: 13 | CF20: 14 | CG20: 15 | CH20: 16 | CI20: 17 | CJ20: 18 | CK20: 19 | CL20: 20 | CM20: 21 | CN20: 22 | CO20: 23 | CP20: 24 | CQ20: 25 | CR20: Besvarede | CS20: ikke-besvarede | CT20: rigtige | CU20: forkerte | CV20: Ugyldige
A21: =IF(ISBLANK(B21)," ",IF(ISBLANK(N21),1," ")) | F21: =IF(ISBLANK($E$21),"",VLOOKUP($E$21,Skoleliste!$A:$H,2,FALSE)) | G21: =IF(ISBLANK($E$21),"",VLOOKUP($E$21,Skoleliste!$A:$H,3,FALSE)) | H21: =IF(ISBLANK($E$21),"",VLOOKUP($E$21,Skoleliste!$A:$H,4,FALSE)) | I21: =IF(ISBLANK($E$21),"",VLOOKUP($E$21,Skoleliste!$A:$H,5,FALSE)) | J21: =IF(ISBLANK($E$21),"",VLOOKUP($E$21,Skoleliste!$A:$H,6,FALSE)) | K21: =IF(ISBLANK($E$21),"",VLOOKUP($E$21,Skoleliste!$A:$H,7,FALSE)) | L21: =IF(ISBLANK($E$21),"",VLOOKUP($E$21,Skoleliste!$A:$H,8,FALSE)) | CR21: =IF(ISBLANK(B21)," ",COUNTA(P21:CQ21)) | CS21: =IF(ISBLANK(B21)," ",(COUNTA($P$20:$CQ$20)-CR21)) | CT21: =IF(ISBLANK(B21)," ",'Skole scoring'!CD34) | CU21: =IF(ISBLANK(B21)," ",(CR21)-(CT21)-CV21) | CV21: =IF(ISBLANK(B21)," ",COUNTIF(P21:CQ21,5))
A22: =IF(ISBLANK(B22)," ",IF(ISBLANK(N22),1," ")) | E22: =IF(ISBLANK(E21)," ",E21) | F22: =IF(ISBLANK($E$21),"",VLOOKUP($E$21,Skoleliste!$A:$H,2,FALSE)) | G22: =IF(ISBLANK($E$21),"",VLOOKUP($E$21,Skoleliste!$A:$H,3,FALSE)) | H22: =IF(ISBLANK($E$21),"",VLOOKUP($E$21,Skoleliste!$A:$H,4,FALSE)) | I22: =IF(ISBLANK($E$21),"",VLOOKUP($E$21,Skoleliste!$A:$H,5,FALSE)) | J22: =IF(ISBLANK($E$21),"",VLOOKUP($E$21,Skoleliste!$A:$H,6,FALSE)) | K22: =IF(ISBLANK($E$21),"",VLOOKUP($E$21,Skoleliste!$A:$H,7,FALSE)) | L22: =IF(ISBLANK($E$21),"",VLOOKUP($E$21,Skoleliste!$A:$H,8,FALSE)) | M22: =IF(ISBLANK(M21)," ",M21) | O22: =IF(ISBLANK(O21)," ",O21) | CR22: =IF(ISBLANK(B22)," ",COUNTA(P22:CQ22)) | CS22: =IF(ISBLANK(B22)," ",(COUNTA($P$20:$CQ$20)-CR22)) | CT22: =IF(ISBLANK(B22)," ",'Skole scoring'!CD35) | CU22: =IF(ISBLANK(B22)," ",(CR22)-(CT22)-CV22) | CV22: =IF(ISBLANK(B22)," ",COUNTIF(P22:CQ22,5))
A23: =IF(ISBLANK(B23)," ",IF(ISBLANK(N23),1," ")) | E23: =IF(ISBLANK(E22)," ",E22) | F23: =IF(ISBLANK($E$21),"",VLOOKUP($E$21,Skoleliste!$A:$H,2,FALSE)) | G23: =IF(ISBLANK($E$21),"",VLOOKUP($E$21,Skoleliste!$A:$H,3,FALSE)) | H23: =IF(ISBLANK($E$21),"",VLOOKUP($E$21,Skoleliste!$A:$H,4,FALSE)) | I23: =IF(ISBLANK($E$21),"",VLOOKUP($E$21,Skoleliste!$A:$H,5,FALSE)) | J23: =IF(ISBLANK($E$21),"",VLOOKUP($E$21,Skoleliste!$A:$H,6,FALSE)) | K23: =IF(ISBLANK($E$21),"",VLOOKUP($E$21,Skoleliste!$A:$H,7,FALSE)) | L23: =IF(ISBLANK($E$21),"",VLOOKUP($E$21,Skoleliste!$A:$H,8,FALSE)) | M23: =IF(ISBLANK(M22)," ",M22) | O23: =IF(ISBLANK(O22)," ",O22) | CR23: =IF(ISBLANK(B23)," ",COUNTA(P23:CQ23)) | CS23: =IF(ISBLANK(B23)," ",(COUNTA($P$20:$CQ$20)-CR23)) | CT23: =IF(ISBLANK(B23)," ",'Skole scoring'!CD36) | CU23: =IF(ISBLANK(B23)," ",(CR23)-(CT23)-CV23) | CV23: =IF(ISBLANK(B23)," ",COUNTIF(P23:CQ23,5))
A24: =IF(ISBLANK(B24)," ",IF(ISBLANK(N24),1," ")) | E24: =IF(ISBLANK(E23)," ",E23) | F24: =IF(ISBLANK($E$21),"",VLOOKUP($E$21,Skoleliste!$A:$H,2,FALSE)) | G24: =IF(ISBLANK($E$21),"",VLOOKUP($E$21,Skoleliste!$A:$H,3,FALSE)) | H24: =IF(ISBLANK($E$21),"",VLOOKUP($E$21,Skoleliste!$A:$H,4,FALSE)) | I24: =IF(ISBLANK($E$21),"",VLOOKUP($E$21,Skoleliste!$A:$H,5,FALSE)) | J24: =IF(ISBLANK($E$21),"",VLOOKUP($E$21,Skoleliste!$A:$H,6,FALSE)) | K24: =IF(ISBLANK($E$21),"",VLOOKUP($E$21,Skoleliste!$A:$H,7,FALSE)) | L24: =IF(ISBLANK($E$21),"",VLOOKUP($E$21,Skoleliste!$A:$H,8,FALSE)) | M24: =IF(ISBLANK(M23)," ",M23) | O24: =IF(ISBLANK(O23)," ",O23) | CR24: =IF(ISBLANK(B24)," ",COUNTA(P24:CQ24)) | CS24: =IF(ISBLANK(B24)," ",(COUNTA($P$20:$CQ$20)-CR24)) | CT24: =IF(ISBLANK(B24)," ",'Skole scoring'!CD37) | CU24: =IF(ISBLANK(B24)," ",(CR24)-(CT24)-CV24) | CV24: =IF(ISBLANK(B24)," ",COUNTIF(P24:CQ24,5))
A25: =IF(ISBLANK(B25)," ",IF(ISBLANK(N25),1," ")) | E25: =IF(ISBLANK(E24)," ",E24) | F25: =IF(ISBLANK($E$21),"",VLOOKUP($E$21,Skoleliste!$A:$H,2,FALSE)) | G25: =IF(ISBLANK($E$21),"",VLOOKUP($E$21,Skoleliste!$A:$H,3,FALSE)) | H25: =IF(ISBLANK($E$21),"",VLOOKUP($E$21,Skoleliste!$A:$H,4,FALSE)) | I25: =IF(ISBLANK($E$21),"",VLOOKUP($E$21,Skoleliste!$A:$H,5,FALSE)) | J25: =IF(ISBLANK($E$21),"",VLOOKUP($E$21,Skoleliste!$A:$H,6,FALSE)) | K25: =IF(ISBLANK($E$21),"",VLOOKUP($E$21,Skoleliste!$A:$H,7,FALSE)) | L25: =IF(ISBLANK($E$21),"",VLOOKUP($E$21,Skoleliste!$A:$H,8,FALSE)) | M25: =IF(ISBLANK(M24)," ",M24) | O25: =IF(ISBLANK(O24)," ",O24) | CR25: =IF(ISBLANK(B25)," ",COUNTA(P25:CQ25)) | CS25: =IF(ISBLANK(B25)," ",(COUNTA($P$20:$CQ$20)-CR25)) | CT25: =IF(ISBLANK(B25)," ",'Skole scoring'!CD38) | CU25: =IF(ISBLANK(B25)," ",(CR25)-(CT25)-CV25) | CV25: =IF(ISBLANK(B25)," ",COUNTIF(P25:CQ25,5))
A26: =IF(ISBLANK(B26)," ",IF(ISBLANK(N26),1," ")) | E26: =IF(ISBLANK(E25)," ",E25) | F26: =IF(ISBLANK($E$21),"",VLOOKUP($E$21,Skoleliste!$A:$H,2,FALSE)) | G26: =IF(ISBLANK($E$21),"",VLOOKUP($E$21,Skoleliste!$A:$H,3,FALSE)) | H26: =IF(ISBLANK($E$21),"",VLOOKUP($E$21,Skoleliste!$A:$H,4,FALSE)) | I26: =IF(ISBLANK($E$21),"",VLOOKUP($E$21,Skoleliste!$A:$H,5,FALSE)) | J26: =IF(ISBLANK($E$21),"",VLOOKUP($E$21,Skoleliste!$A:$H,6,FALSE)) | K26: =IF(ISBLANK($E$21),"",VLOOKUP($E$21,Skoleliste!$A:$H,7,FALSE)) | L26: =IF(ISBLANK($E$21),"",VLOOKUP($E$21,Skoleliste!$A:$H,8,FALSE)) | M26: =IF(ISBLANK(M25)," ",M25) | O26: =IF(ISBLANK(O25)," ",O25) | CR26: =IF(ISBLANK(B26)," ",COUNTA(P26:CQ26)) | CS26: =IF(ISBLANK(B26)," ",(COUNTA($P$20:$CQ$20)-CR26)) | CT26: =IF(ISBLANK(B26)," ",'Skole scoring'!CD39) | CU26: =IF(ISBLANK(B26)," ",(CR26)-(CT26)-CV26) | CV26: =IF(ISBLANK(B26)," ",COUNTIF(P26:CQ26,5))
A27: =IF(ISBLANK(B27)," ",IF(ISBLANK(N27),1," ")) | E27: =IF(ISBLANK(E26)," ",E26) | F27: =IF(ISBLANK($E$21),"",VLOOKUP($E$21,Skoleliste!$A:$H,2,FALSE)) | G27: =IF(ISBLANK($E$21),"",VLOOKUP($E$21,Skoleliste!$A:$H,3,FALSE)) | H27: =IF(ISBLANK($E$21),"",VLOOKUP($E$21,Skoleliste!$A:$H,4,FALSE)) | I27: =IF(ISBLANK($E$21),"",VLOOKUP($E$21,Skoleliste!$A:$H,5,FALSE)) | J27: =IF(ISBLANK($E$21),"",VLOOKUP($E$21,Skoleliste!$A:$H,6,FALSE)) | K27: =IF(ISBLANK($E$21),"",VLOOKUP($E$21,Skoleliste!$A:$H,7,FALSE)) | L27: =IF(ISBLANK($E$21),"",VLOOKUP($E$21,Skoleliste!$A:$H,8,FALSE)) | M27: =IF(ISBLANK(M26)," ",M26) | O27: =IF(ISBLANK(O26)," ",O26) | CR27: =IF(ISBLANK(B27)," ",COUNTA(P27:CQ27)) | CS27: =IF(ISBLANK(B27)," ",(COUNTA($P$20:$CQ$20)-CR27)) | CT27: =IF(ISBLANK(B27)," ",'Skole scoring'!CD40) | CU27: =IF(ISBLANK(B27)," ",(CR27)-(CT27)-CV27) | CV27: =IF(ISBLANK(B27)," ",COUNTIF(P27:CQ27,5))
A28: =IF(ISBLANK(B28)," ",IF(ISBLANK(N28),1," ")) | E28: =IF(ISBLANK(E27)," ",E27) | F28: =IF(ISBLANK($E$21),"",VLOOKUP($E$21,Skoleliste!$A:$H,2,FALSE)) | G28: =IF(ISBLANK($E$21),"",VLOOKUP($E$21,Skoleliste!$A:$H,3,FALSE)) | H28: =IF(ISBLANK($E$21),"",VLOOKUP($E$21,Skoleliste!$A:$H,4,FALSE)) | I28: =IF(ISBLANK($E$21),"",VLOOKUP($E$21,Skoleliste!$A:$H,5,FALSE)) | J28: =IF(ISBLANK($E$21),"",VLOOKUP($E$21,Skoleliste!$A:$H,6,FALSE)) | K28: =IF(ISBLANK($E$21),"",VLOOKUP($E$21,Skoleliste!$A:$H,7,FALSE)) | L28: =IF(ISBLANK($E$21),"",VLOOKUP($E$21,Skoleliste!$A:$H,8,FALSE)) | M28: =IF(ISBLANK(M27)," ",M27) | O28: =IF(ISBLANK(O27)," ",O27) | CR28: =IF(ISBLANK(B28)," ",COUNTA(P28:CQ28)) | CS28: =IF(ISBLANK(B28)," ",(COUNTA($P$20:$CQ$20)-CR28)) | CT28: =IF(ISBLANK(B28)," ",'Skole scoring'!CD41) | CU28: =IF(ISBLANK(B28)," ",(CR28)-(CT28)-CV28) | CV28: =IF(ISBLANK(B28)," ",COUNTIF(P28:CQ28,5))
A29: =IF(ISBLANK(B29)," ",IF(ISBLANK(N29),1," ")) | E29: =IF(ISBLANK(E28)," ",E28) | F29: =IF(ISBLANK($E$21),"",VLOOKUP($E$21,Skoleliste!$A:$H,2,FALSE)) | G29: =IF(ISBLANK($E$21),"",VLOOKUP($E$21,Skoleliste!$A:$H,3,FALSE)) | H29: =IF(ISBLANK($E$21),"",VLOOKUP($E$21,Skoleliste!$A:$H,4,FALSE)) | I29: =IF(ISBLANK($E$21),"",VLOOKUP($E$21,Skoleliste!$A:$H,5,FALSE)) | J29: =IF(ISBLANK($E$21),"",VLOOKUP($E$21,Skoleliste!$A:$H,6,FALSE)) | K29: =IF(ISBLANK($E$21),"",VLOOKUP($E$21,Skoleliste!$A:$H,7,FALSE)) | L29: =IF(ISBLANK($E$21),"",VLOOKUP($E$21,Skoleliste!$A:$H,8,FALSE)) | M29: =IF(ISBLANK(M28)," ",M28) | O29: =IF(ISBLANK(O28)," ",O28) | CR29: =IF(ISBLANK(B29)," ",COUNTA(P29:CQ29)) | CS29: =IF(ISBLANK(B29)," ",(COUNTA($P$20:$CQ$20)-CR29)) | CT29: =IF(ISBLANK(B29)," ",'Skole scoring'!CD42) | CU29: =IF(ISBLANK(B29)," ",(CR29)-(CT29)-CV29) | CV29: =IF(ISBLANK(B29)," ",COUNTIF(P29:CQ29,5))
A30: =IF(ISBLANK(B30)," ",IF(ISBLANK(N30),1," ")) | E30: =IF(ISBLANK(E29)," ",E29) | F30: =IF(ISBLANK($E$21),"",VLOOKUP($E$21,Skoleliste!$A:$H,2,FALSE)) | G30: =IF(ISBLANK($E$21),"",VLOOKUP($E$21,Skoleliste!$A:$H,3,FALSE)) | H30: =IF(ISBLANK($E$21),"",VLOOKUP($E$21,Skoleliste!$A:$H,4,FALSE)) | I30: =IF(ISBLANK($E$21),"",VLOOKUP($E$21,Skoleliste!$A:$H,5,FALSE)) | J30: =IF(ISBLANK($E$21),"",VLOOKUP($E$21,Skoleliste!$A:$H,6,FALSE)) | K30: =IF(ISBLANK($E$21),"",VLOOKUP($E$21,Skoleliste!$A:$H,7,FALSE)) | L30: =IF(ISBLANK($E$21),"",VLOOKUP($E$21,Skoleliste!$A:$H,8,FALSE)) | M30: =IF(ISBLANK(M29)," ",M29) | O30: =IF(ISBLANK(O29)," ",O29) | CR30: =IF(ISBLANK(B30)," ",COUNTA(P30:CQ30)) | CS30: =IF(ISBLANK(B30)," ",(COUNTA($P$20:$CQ$20)-CR30)) | CT30: =IF(ISBLANK(B30)," ",'Skole scoring'!CD43) | CU30: =IF(ISBLANK(B30)," ",(CR30)-(CT30)-CV30) | CV30: =IF(ISBLANK(B30)," ",COUNTIF(P30:CQ30,5))
A31: =IF(ISBLANK(B31)," ",IF(ISBLANK(N31),1," ")) | E31: =IF(ISBLANK(E30)," ",E30) | F31: =IF(ISBLANK($E$21),"",VLOOKUP($E$21,Skoleliste!$A:$H,2,FALSE)) | G31: =IF(ISBLANK($E$21),"",VLOOKUP($E$21,Skoleliste!$A:$H,3,FALSE)) | H31: =IF(ISBLANK($E$21),"",VLOOKUP($E$21,Skoleliste!$A:$H,4,FALSE)) | I31: =IF(ISBLANK($E$21),"",VLOOKUP($E$21,Skoleliste!$A:$H,5,FALSE)) | J31: =IF(ISBLANK($E$21),"",VLOOKUP($E$21,Skoleliste!$A:$H,6,FALSE)) | K31: =IF(ISBLANK($E$21),"",VLOOKUP($E$21,Skoleliste!$A:$H,7,FALSE)) | L31: =IF(ISBLANK($E$21),"",VLOOKUP($E$21,Skoleliste!$A:$H,8,FALSE)) | M31: =IF(ISBLANK(M30)," ",M30) | O31: =IF(ISBLANK(O30)," ",O30) | CR31: =IF(ISBLANK(B31)," ",COUNTA(P31:CQ31)) | CS31: =IF(ISBLANK(B31)," ",(COUNTA($P$20:$CQ$20)-CR31)) | CT31: =IF(ISBLANK(B31)," ",'Skole scoring'!CD44) | CU31: =IF(ISBLANK(B31)," ",(CR31)-(CT31)-CV31) | CV31: =IF(ISBLANK(B31)," ",COUNTIF(P31:CQ31,5))
A32: =IF(ISBLANK(B32)," ",IF(ISBLANK(N32),1," ")) | E32: =IF(ISBLANK(E31)," ",E31) | F32: =IF(ISBLANK($E$21),"",VLOOKUP($E$21,Skoleliste!$A:$H,2,FALSE)) | G32: =IF(ISBLANK($E$21),"",VLOOKUP($E$21,Skoleliste!$A:$H,3,FALSE)) | H32: =IF(ISBLANK($E$21),"",VLOOKUP($E$21,Skoleliste!$A:$H,4,FALSE)) | I32: =IF(ISBLANK($E$21),"",VLOOKUP($E$21,Skoleliste!$A:$H,5,FALSE)) | J32: =IF(ISBLANK($E$21),"",VLOOKUP($E$21,Skoleliste!$A:$H,6,FALSE)) | K32: =IF(ISBLANK($E$21),"",VLOOKUP($E$21,Skoleliste!$A:$H,7,FALSE)) | L32: =IF(ISBLANK($E$21),"",VLOOKUP($E$21,Skoleliste!$A:$H,8,FALSE)) | M32: =IF(ISBLANK(M31)," ",M31) | O32: =IF(ISBLANK(O31)," ",O31) | CR32: =IF(ISBLANK(B32)," ",COUNTA(P32:CQ32)) | CS32: =IF(ISBLANK(B32)," ",(COUNTA($P$20:$CQ$20)-CR32)) | CT32: =IF(ISBLANK(B32)," ",'Skole scoring'!CD45) | CU32: =IF(ISBLANK(B32)," ",(CR32)-(CT32)-CV32) | CV32: =IF(ISBLANK(B32)," ",COUNTIF(P32:CQ32,5))
A33: =IF(ISBLANK(B33)," ",IF(ISBLANK(N33),1," ")) | E33: =IF(ISBLANK(E32)," ",E32) | F33: =IF(ISBLANK($E$21),"",VLOOKUP($E$21,Skoleliste!$A:$H,2,FALSE)) | G33: =IF(ISBLANK($E$21),"",VLOOKUP($E$21,Skoleliste!$A:$H,3,FALSE)) | H33: =IF(ISBLANK($E$21),"",VLOOKUP($E$21,Skoleliste!$A:$H,4,FALSE)) | I33: =IF(ISBLANK($E$21),"",VLOOKUP($E$21,Skoleliste!$A:$H,5,FALSE)) | J33: =IF(ISBLANK($E$21),"",VLOOKUP($E$21,Skoleliste!$A:$H,6,FALSE)) | K33: =IF(ISBLANK($E$21),"",VLOOKUP($E$21,Skoleliste!$A:$H,7,FALSE)) | L33: =IF(ISBLANK($E$21),"",VLOOKUP($E$21,Skoleliste!$A:$H,8,FALSE)) | M33: =IF(ISBLANK(M32)," ",M32) | O33: =IF(ISBLANK(O32)," ",O32) | CR33: =IF(ISBLANK(B33)," ",COUNTA(P33:CQ33)) | CS33: =IF(ISBLANK(B33)," ",(COUNTA($P$20:$CQ$20)-CR33)) | CT33: =IF(ISBLANK(B33)," ",'Skole scoring'!CD46) | CU33: =IF(ISBLANK(B33)," ",(CR33)-(CT33)-CV33) | CV33: =IF(ISBLANK(B33)," ",COUNTIF(P33:CQ33,5))
... A46: =IF(ISBLANK(B46)," ",IF(ISBLANK(N46),1," ")) | E46: =IF(ISBLANK(E45)," ",E45) | F46: =IF(ISBLANK($E$21),"",VLOOKUP($E$21,Skoleliste!$A:$H,2,FALSE)) | G46: =IF(ISBLANK($E$21),"",VLOOKUP($E$21,Skoleliste!$A:$H,3,FALSE)) | H46: =IF(ISBLANK($E$21),"",VLOOKUP($E$21,Skoleliste!$A:$H,4,FALSE)) | I46: =IF(ISBLANK($E$21),"",VLOOKUP($E$21,Skoleliste!$A:$H,5,FALSE)) | J46: =IF(ISBLANK($E$21),"",VLOOKUP($E$21,Skoleliste!$A:$H,6,FALSE)) | K46: =IF(ISBLANK($E$21),"",VLOOKUP($E$21,Skoleliste!$A:$H,7,FALSE)) | L46: =IF(ISBLANK($E$21),"",VLOOKUP($E$21,Skoleliste!$A:$H,8,FALSE)) | M46: =IF(ISBLANK(M45)," ",M45) | O46: =IF(ISBLANK(O45)," ",O45) | CR46: =IF(ISBLANK(B46)," ",COUNTA(P46:CQ46)) | CS46: =IF(ISBLANK(B46)," ",(COUNTA($P$20:$CQ$20)-CR46)) | CT46: =IF(ISBLANK(B46)," ",'Skole scoring'!CD59) | CU46: =IF(ISBLANK(B46)," ",(CR46)-(CT46)-CV46) | CV46: =IF(ISBLANK(B46)," ",COUNTIF(P46:CQ46,5))

Sheet Løsningssikkerhed
A1: Atuartoq | B1: Eqqortumik akisat | C1: 2 min | D1: 4 min | E1: 6 min | F1: Katill.
A2: ='Slut 1.kl. -Klasse'!B21 -> 0 | B2: =ElevScoreData!CG36 -> 0
A3: ='Slut 1.kl. -Klasse'!B22 -> 0 | B3: =ElevScoreData!CG37 -> 0
A4: ='Slut 1.kl. -Klasse'!B23 -> 0 | B4: =ElevScoreData!CG38 -> 0
A5: ='Slut 1.kl. -Klasse'!B24 -> 0 | B5: =ElevScoreData!CG39 -> 0
A6: ='Slut 1.kl. -Klasse'!B25 -> 0 | B6: =ElevScoreData!CG40 -> 0
A7: ='Slut 1.kl. -Klasse'!B26 -> 0 | B7: =ElevScoreData!CG41 -> 0
A8: ='Slut 1.kl. -Klasse'!B27 -> 0 | B8: =ElevScoreData!CG42 -> 0
A9: ='Slut 1.kl. -Klasse'!B28 -> 0 | B9: =ElevScoreData!CG43 -> 0
A10: ='Slut 1.kl. -Klasse'!B29 -> 0 | B10: =ElevScoreData!CG44 -> 0
A11: ='Slut 1.kl. -Klasse'!B30 -> 0 | B11: =ElevScoreData!CG45 -> 0
A12: ='Slut 1.kl. -Klasse'!B31 -> 0 | B12: =ElevScoreData!CG46 -> 0
A13: ='Slut 1.kl. -Klasse'!B32 -> 0 | B13: =ElevScoreData!CG47 -> 0
... A27: ='Slut 1.kl. -Klasse'!B46 -> 0 | B27: =ElevScoreData!CG61 -> 0

Sheet Resultater S1
C4: =IF(COUNTIF('Skole scoring'!CE34,Grøn),'Slut 1.kl. -Klasse'!B21,"") | D4: =IF(COUNTIFS('Skole scoring'!CE34,GulA,'Skole scoring'!CE34,GulB),'Slut 1.kl. -Klasse'!B21,"") | E4: =IF(COUNTIF('Skole scoring'!CE34,Rød),'Slut 1.kl. -Klasse'!B21,"")
C5: =IF(COUNTIF('Skole scoring'!CE35,Grøn),'Slut 1.kl. -Klasse'!B22,"") | D5: =IF(COUNTIFS('Skole scoring'!CE35,GulA,'Skole scoring'!CE35,GulB),'Slut 1.kl. -Klasse'!B22,"") | E5: =IF(COUNTIF('Skole scoring'!CE35,Rød),'Slut 1.kl. -Klasse'!B22,"")
C6: =IF(COUNTIF('Skole scoring'!CE36,Grøn),'Slut 1.kl. -Klasse'!B23,"") | D6: =IF(COUNTIFS('Skole scoring'!CE36,GulA,'Skole scoring'!CE36,GulB),'Slut 1.kl. -Klasse'!B23,"") | E6: =IF(COUNTIF('Skole scoring'!CE36,Rød),'Slut 1.kl. -Klasse'!B23,"")
C7: =IF(COUNTIF('Skole scoring'!CE37,Grøn),'Slut 1.kl. -Klasse'!B24,"") | D7: =IF(COUNTIFS('Skole scoring'!CE37,GulA,'Skole scoring'!CE37,GulB),'Slut 1.kl. -Klasse'!B24,"") | E7: =IF(COUNTIF('Skole scoring'!CE37,Rød),'Slut 1.kl. -Klasse'!B24,"")
C8: =IF(COUNTIF('Skole scoring'!CE38,Grøn),'Slut 1.kl. -Klasse'!B25,"") | D8: =IF(COUNTIFS('Skole scoring'!CE38,GulA,'Skole scoring'!CE38,GulB),'Slut 1.kl. -Klasse'!B25,"") | E8: =IF(COUNTIF('Skole scoring'!CE38,Rød),'Slut 1.kl. -Klasse'!B25,"")
C9: =IF(COUNTIF('Skole scoring'!CE39,Grøn),'Slut 1.kl. -Klasse'!B26,"") | D9: =IF(COUNTIFS('Skole scoring'!CE39,GulA,'Skole scoring'!CE39,GulB),'Slut 1.kl. -Klasse'!B26,"") | E9: =IF(COUNTIF('Skole scoring'!CE39,Rød),'Slut 1.kl. -Klasse'!B26,"")
C10: =IF(COUNTIF('Skole scoring'!CE40,Grøn),'Slut 1.kl. -Klasse'!B27,"") | D10: =IF(COUNTIFS('Skole scoring'!CE40,GulA,'Skole scoring'!CE40,GulB),'Slut 1.kl. -Klasse'!B27,"") | E10: =IF(COUNTIF('Skole scoring'!CE40,Rød),'Slut 1.kl. -Klasse'!B27,"")
C11: =IF(COUNTIF('Skole scoring'!CE41,Grøn),'Slut 1.kl. -Klasse'!B28,"") | D11: =IF(COUNTIFS('Skole scoring'!CE41,GulA,'Skole scoring'!CE41,GulB),'Slut 1.kl. -Klasse'!B28,"") | E11: =IF(COUNTIF('Skole scoring'!CE41,Rød),'Slut 1.kl. -Klasse'!B28,"")
C12: =IF(COUNTIF('Skole scoring'!CE42,Grøn),'Slut 1.kl. -Klasse'!B29,"") | D12: =IF(COUNTIFS('Skole scoring'!CE42,GulA,'Skole scoring'!CE42,GulB),'Slut 1.kl. -Klasse'!B29,"") | E12: =IF(COUNTIF('Skole scoring'!CE42,Rød),'Slut 1.kl. -Klasse'!B29,"")
C13: =IF(COUNTIF('Skole scoring'!CE43,Grøn),'Slut 1.kl. -Klasse'!B30,"") | D13: =IF(COUNTIFS('Skole scoring'!CE43,GulA,'Skole scoring'!CE43,GulB),'Slut 1.kl. -Klasse'!B30,"") | E13: =IF(COUNTIF('Skole scoring'!CE43,Rød),'Slut 1.kl. -Klasse'!B30,"")
C14: =IF(COUNTIF('Skole scoring'!CE44,Grøn),'Slut 1.kl. -Klasse'!B31,"") | D14: =IF(COUNTIFS('Skole scoring'!CE44,GulA,'Skole scoring'!CE44,GulB),'Slut 1.kl. -Klasse'!B31,"") | E14: =IF(COUNTIF('Skole scoring'!CE44,Rød),'Slut 1.kl. -Klasse'!B31,"")
C15: =IF(COUNTIF('Skole scoring'!CE45,Grøn),'Slut 1.kl. -Klasse'!B32,"") | D15: =IF(COUNTIFS('Skole scoring'!CE45,GulA,'Skole scoring'!CE45,GulB),'Slut 1.kl. -Klasse'!B32,"") | E15: =IF(COUNTIF('Skole scoring'!CE45,Rød),'Slut 1.kl. -Klasse'!B32,"")
... C29: =IF(COUNTIF('Skole scoring'!CE59,Grøn),'Slut 1.kl. -Klasse'!B46,"") | D29: =IF(COUNTIFS('Skole scoring'!CE59,GulA,'Skole scoring'!CE59,GulB),'Slut 1.kl. -Klasse'!B46,"") | E29: =IF(COUNTIF('Skole scoring'!CE59,Rød),'Slut 1.kl. -Klasse'!B46,"")

Sheet Elev Score S1
C2: Atuartup killiffia
F3: Suliassat katillugit | G3: 80
C4: Ateq | F4: Eqqortumik akisat | G4: =VLOOKUP($D$4,AAN_1c_ES,85,FALSE) -> 0
C6: Naqinnernik allanneq | F6: Oqaasiusanik allanneq | I6: Oqaatsinik atuarneq
C7: Misiligutaasut | D7: Akissut | F7: Misiligutaasut | G7: Akissut | I7: Misiligutaasut | J7: Akissut
A8: 2 | C8: R | D8: =VLOOKUP($D$4,AAN_1c_ES,A8,FALSE) | F8: Ma | G8: =VLOOKUP($D$4,AAN_1c_ES,A46,FALSE) | I8: Ulu | J8: =VLOOKUP($D$4,AAN_1c_ES,A63,FALSE)
A9: 3 | C9: r | D9: =VLOOKUP($D$4,AAN_1c_ES,A9,FALSE) | F9: Pu | G9: =VLOOKUP($D$4,AAN_1c_ES,A47,FALSE) | I9: Iga | J9: =VLOOKUP($D$4,AAN_1c_ES,A64,FALSE)
A10: 4 | C10: S | D10: =VLOOKUP($D$4,AAN_1c_ES,A10,FALSE) | F10: Ni | G10: =VLOOKUP($D$4,AAN_1c_ES,A48,FALSE) | I10: Niu | J10: =VLOOKUP($D$4,AAN_1c_ES,A65,FALSE)
A11: 5 | C11: s | D11: =VLOOKUP($D$4,AAN_1c_ES,A11,FALSE) | F11: Aq | G11: =VLOOKUP($D$4,AAN_1c_ES,A49,FALSE) | I11: Siku | J11: =VLOOKUP($D$4,AAN_1c_ES,A66,FALSE)
A12: 6 | C12: K | D12: =VLOOKUP($D$4,AAN_1c_ES,A12,FALSE) | F12: Uu | G12: =VLOOKUP($D$4,AAN_1c_ES,A50,FALSE) | I12: Oqaq | J12: =VLOOKUP($D$4,AAN_1c_ES,A67,FALSE)
A13: 7 | C13: k | D13: =VLOOKUP($D$4,AAN_1c_ES,A13,FALSE) | F13: Ua | G13: =VLOOKUP($D$4,AAN_1c_ES,A51,FALSE) | I13: Appa | J13: =VLOOKUP($D$4,AAN_1c_ES,A68,FALSE)
A14: 8 | C14: V | D14: =VLOOKUP($D$4,AAN_1c_ES,A14,FALSE) | F14: Toq | G14: =VLOOKUP($D$4,AAN_1c_ES,A52,FALSE) | I14: Illu | J14: =VLOOKUP($D$4,AAN_1c_ES,A69,FALSE)
A15: 9 | C15: v | D15: =VLOOKUP($D$4,AAN_1c_ES,A15,FALSE) | F15: Nut | G15: =VLOOKUP($D$4,AAN_1c_ES,A53,FALSE) | I15: Savik | J15: =VLOOKUP($D$4,AAN_1c_ES,A70,FALSE)
A16: 10 | C16: U | D16: =VLOOKUP($D$4,AAN_1c_ES,A16,FALSE) | F16: Sak | G16: =VLOOKUP($D$4,AAN_1c_ES,A54,FALSE) | I16: Tikeq | J16: =VLOOKUP($D$4,AAN_1c_ES,A71,FALSE)
A17: 11 | C17: u | D17: =VLOOKUP($D$4,AAN_1c_ES,A17,FALSE) | F17: Miu | G17: =VLOOKUP($D$4,AAN_1c_ES,A55,FALSE) | I17: Arsaq | J17: =VLOOKUP($D$4,AAN_1c_ES,A72,FALSE)
A18: 12 | C18: P | D18: =VLOOKUP($D$4,AAN_1c_ES,A18,FALSE) | F18: Laa | G18: =VLOOKUP($D$4,AAN_1c_ES,A56,FALSE) | I18: Orpik | J18: =VLOOKUP($D$4,AAN_1c_ES,A73,FALSE)
A19: 13 | C19: p | D19: =VLOOKUP($D$4,AAN_1c_ES,A19,FALSE) | F19: Isa | G19: =VLOOKUP($D$4,AAN_1c_ES,A57,FALSE) | I19: Tuttu | J19: =VLOOKUP($D$4,AAN_1c_ES,A74,FALSE)
... A24: 18 | C24: Q | D24: =VLOOKUP($D$4,AAN_1c_ES,A24,FALSE) | F24: Ammi | G24: =VLOOKUP($D$4,AAN_1c_ES,A62,FALSE) | I24: Umiaq | J24: =VLOOKUP($D$4,AAN_1c_ES,A79,FALSE)
A25: 19 | C25: q | D25: =VLOOKUP($D$4,AAN_1c_ES,A25,FALSE) | F25: Suliassat | G25: 17 | I25: Akiseq | J25: =VLOOKUP($D$4,AAN_1c_ES,A80,FALSE)
A26: 20 | C26: H | D26: =VLOOKUP($D$4,AAN_1c_ES,A26,FALSE) | F26: Eqqortumik akisat | G26: =VLOOKUP($D$4,AAN_1c_ES,83,FALSE) -> 0 | I26: Aasiak | J26: =VLOOKUP($D$4,AAN_1c_ES,A81,FALSE)
A27: 21 | C27: h | D27: =VLOOKUP($D$4,AAN_1c_ES,A27,FALSE) | I27: Saagut | J27: =VLOOKUP($D$4,AAN_1c_ES,A82,FALSE)
A28: 22 | C28: F | D28: =VLOOKUP($D$4,AAN_1c_ES,A28,FALSE) | I28: Qorfik | J28: =VLOOKUP($D$4,AAN_1c_ES,A83,FALSE)
A29: 23 | C29: f | D29: =VLOOKUP($D$4,AAN_1c_ES,A29,FALSE) | I29: Kulloq | J29: =VLOOKUP($D$4,AAN_1c_ES,A84,FALSE)
A30: 24 | C30: T | D30: =VLOOKUP($D$4,AAN_1c_ES,A30,FALSE) | I30: Atuagaq | J30: =VLOOKUP($D$4,AAN_1c_ES,A85,FALSE)
A31: 25 | C31: t | D31: =VLOOKUP($D$4,AAN_1c_ES,A31,FALSE) | I31: Inuusaq | J31: =VLOOKUP($D$4,AAN_1c_ES,A86,FALSE)
A32: 26 | C32: E | D32: =VLOOKUP($D$4,AAN_1c_ES,A32,FALSE) | I32: Aqisseq | J32: =VLOOKUP($D$4,AAN_1c_ES,A87,FALSE)
A33: 27 | C33: e | D33: =VLOOKUP($D$4,AAN_1c_ES,A33,FALSE) | I33: Suliassat | J33: 25
A34: 28 | C34: L | D34: =VLOOKUP($D$4,AAN_1c_ES,A34,FALSE) | I34: Eqqortumik akisat | J34: =VLOOKUP($D$4,AAN_1c_ES,84,FALSE) -> 0
A35: 29 | C35: l | D35: =VLOOKUP($D$4,AAN_1c_ES,A35,FALSE)
A36: 30 | C36: G | D36: =VLOOKUP($D$4,AAN_1c_ES,A36,FALSE)
A37: 31 | C37: g | D37: =VLOOKUP($D$4,AAN_1c_ES,A37,FALSE)
A38: 32 | C38: N | D38: =VLOOKUP($D$4,AAN_1c_ES,A38,FALSE)
A39: 33 | C39: n | D39: =VLOOKUP($D$4,AAN_1c_ES,A39,FALSE)
A40: 34 | C40: J | D40: =VLOOKUP($D$4,AAN_1c_ES,A40,FALSE)
A41: 35 | C41: j | D41: =VLOOKUP($D$4,AAN_1c_ES,A41,FALSE)
A42: 36 | C42: O | D42: =VLOOKUP($D$4,AAN_1c_ES,A42,FALSE)
A43: 37 | C43: o | D43: =VLOOKUP($D$4,AAN_1c_ES,A43,FALSE)
A44: 38 | C44: A | D44: =VLOOKUP($D$4,AAN_1c_ES,A44,FALSE)
A45: 39 | C45: a | D45: =VLOOKUP($D$4,AAN_1c_ES,A45,FALSE)
A46: 40 | C46: Suliassat | D46: 38
A47: 41 | C47: Eqqortumik akisat | D47: =VLOOKUP($D$4,AAN_1c_ES,82,FALSE) -> 0
A48: 42
A49: 43 | C49: Ilitsersuut
A50: 44 | C50: Tungujortut: Eqqortumik akisat
A51: 45 | C51: Qaqortut immersukkat: Kukkusumik akisat
A52: 46 | C52: Qaqortut imaqanngitsut: Akineqanngitsut
A53: 47 | C53: X: Naqinneq mumillugu (spejlvendt) allataq, ass. Qx
A54: 48 | C54: Ugyldige: Akissut atorsinnaanngitsoq, ass. marlunnik x-iligaq
A55: 49
A56: 50
A57: 51
A58: 52
A59: 53
A60: 54
A61: 55
A62: 56
A63: 57
A64: 58
A65: 59
A66: 60
... A87: 81

Sheet Midt 2.kl. -Klasse
P1: Ini | Q1: Niu | R1: Aja | S1: Ulu | T1: Siku | U1: Aput | V1: Kuuk | W1: Appa | X1: Nasaq | Y1: Tuttu | Z1: Arsaq | AA1: Puisi | AB1: Palasi | AC1: Kammak | AD1: Meeraq | AE1: Sorluk | AF1: Kiffaq | AG1: Siuteroq | AH1: iga | AI1: ulu | AJ1: qui | AK1: aak | AL1: matu | AM1: pana | AN1: ameq | AO1: illu | AP1: siut | AQ1: assi | AR1: kuuk | AS1: naat | AT1: pupik | AU1: suluk | AV1: kisaq | AW1: aquut | AX1: umiit | AY1: attat | AZ1: assak | BA1: aaveq | BB1: agiaq | BC1: angut | BD1: orpik | BE1: umiaq | BF1: qitsuk | BG1: meeraq | BH1: saagut | BI1: saaneq | BJ1: qimmeq | BK1: mannik | BL1: tarraq | BM1: qulleq | BN1: kikiak | BO1: palasi | BP1: pamioq | BQ1: nangeq | BR1: qarliit | BS1: qamutit | BT1: naraseq | BU1: alerseq | BV1: inuusaq | BW1: puuluki | BX1: iipilit | BY1: allarut | BZ1: aqisseq | CA1: kuanneq | CB1: igutsak | CC1: sialuit | CD1: uffarfik | CE1: ippernaq | CF1: allakkat | CG1: annoraaq | CH1: eqqaavik | CI1: illuigaq | CJ1: ammassak | CK1: issiavik | CL1: niviugak | CM1: nerrivik | CN1: ulloriaq | CO1: saaniluk
O2: Opgave | P2: Oqaatsinik allanneq | AH2: Oqaatsinik atuarneq
C3: Distraktor | P3: 1 | Q3: 1 | R3: 1 | S3: 1 | T3: 1 | U3: 1 | V3: 1 | W3: 1 | X3: 1 | Y3: 1 | Z3: 1 | AA3: 1 | AB3: 1 | AC3: 1 | AD3: 1 | AE3: 1 | AF3: 1 | AG3: 1 | AH3: 1 | AI3: 4 | AJ3: 3 | AK3: 4 | AL3: 1 | AM3: 2 | AN3: 1 | AO3: 2 | AP3: 2 | AQ3: 3 | AR3: 3 | AS3: 4 | AT3: 4 | AU3: 3 | AV3: 1 | AW3: 1 | AX3: 4 | AY3: 1 | AZ3: 2 | BA3: 1 | BB3: 3 | BC3: 4 | BD3: 3 | BE3: 3 | BF3: 4 | BG3: 2 | BH3: 1 | BI3: 4 | BJ3: 2 | BK3: 3 | BL3: 1 | BM3: 3 | BN3: 4 | BO3: 1 | BP3: 2 | BQ3: 3 | BR3: 2 | BS3: 4 | BT3: 3 | BU3: 4 | BV3: 1 | BW3: 2 | BX3: 2 | BY3: 2 | BZ3: 1 | CA3: 4 | CB3: 1 | CC3: 1 | CD3: 4 | CE3: 2 | CF3: 2 | CG3: 1 | CH3: 3 | CI3: 2 | CJ3: 2 | CK3: 4 | CL3: 1 | CM3: 3 | CN3: 4 | CO3: 3
C4: afstemning | P4: =SUM(P5:P11) -> 0 | Q4: =SUM(Q5:Q11) -> 0 | R4: =SUM(R5:R11) -> 0 | S4: =SUM(S5:S11) -> 0 | T4: =SUM(T5:T11) -> 0 | U4: =SUM(U5:U11) -> 0 | V4: =SUM(V5:V11) -> 0 | W4: =SUM(W5:W11) -> 0 | ... AG4: =SUM(AG5:AG11) -> 0 | AH4: =SUM(AH6:AH11) -> 0 | AI4: =SUM(AI6:AI11) -> 0 | AJ4: =SUM(AJ6:AJ11) -> 0 | AK4: =SUM(AK6:AK11) -> 0 | AL4: =SUM(AL6:AL11) -> 0 | AM4: =SUM(AM6:AM11) -> 0 | AN4: =SUM(AN6:AN11) -> 0 | AO4: =SUM(AO6:AO11) -> 0 | ... CO4: =SUM(CO6:CO11) -> 0
C5: 0 | P5: =COUNTIF('Skole scoring'!B64:B89,0) -> 0 | Q5: =COUNTIF('Skole scoring'!C64:C89,0) -> 0 | R5: =COUNTIF('Skole scoring'!D64:D89,0) -> 0 | S5: =COUNTIF('Skole scoring'!E64:E89,0) -> 0 | T5: =COUNTIF('Skole scoring'!F64:F89,0) -> 0 | U5: =COUNTIF('Skole scoring'!G64:G89,0) -> 0 | V5: =COUNTIF('Skole scoring'!H64:H89,0) -> 0 | W5: =COUNTIF('Skole scoring'!I64:I89,0) -> 0 | ... AG5: =COUNTIF('Skole scoring'!S64:S89,0) -> 0
C6: 1 | P6: =COUNTIF(P21:P46,P1) -> 0 | Q6: =COUNTIF(Q21:Q46,Q1) -> 0 | R6: =COUNTIF(R21:R46,R1) -> 0 | S6: =COUNTIF(S21:S46,S1) -> 0 | T6: =COUNTIF(T21:T46,T1) -> 0 | U6: =COUNTIF(U21:U46,U1) -> 0 | V6: =COUNTIF(V21:V46,V1) -> 0 | W6: =COUNTIF(W21:W46,W1) -> 0 | ... AG6: =COUNTIF(AG21:AG46,AG1) -> 0 | AH6: =COUNTIF(AH21:AH46,"1") -> 0 | AI6: =COUNTIF(AI21:AI46,"1") -> 0 | AJ6: =COUNTIF(AJ21:AJ46,"1") -> 0 | AK6: =COUNTIF(AK21:AK46,"1") -> 0 | AL6: =COUNTIF(AL21:AL46,"1") -> 0 | AM6: =COUNTIF(AM21:AM46,"1") -> 0 | AN6: =COUNTIF(AN21:AN46,"1") -> 0 | AO6: =COUNTIF(AO21:AO46,"1") -> 0 | ... CO6: =COUNTIF(CO21:CO46,"1") -> 0
C7: 2 | AH7: =COUNTIF(AH21:AH46,"2") -> 0 | AI7: =COUNTIF(AI21:AI46,"2") -> 0 | AJ7: =COUNTIF(AJ21:AJ46,"2") -> 0 | AK7: =COUNTIF(AK21:AK46,"2") -> 0 | AL7: =COUNTIF(AL21:AL46,"2") -> 0 | AM7: =COUNTIF(AM21:AM46,"2") -> 0 | AN7: =COUNTIF(AN21:AN46,"2") -> 0 | AO7: =COUNTIF(AO21:AO46,"2") -> 0 | ... CO7: =COUNTIF(CO21:CO46,"2") -> 0
C8: 3 | AH8: =COUNTIF(AH21:AH46,"3") -> 0 | AI8: =COUNTIF(AI21:AI46,"3") -> 0 | AJ8: =COUNTIF(AJ21:AJ46,"3") -> 0 | AK8: =COUNTIF(AK21:AK46,"3") -> 0 | AL8: =COUNTIF(AL21:AL46,"3") -> 0 | AM8: =COUNTIF(AM21:AM46,"3") -> 0 | AN8: =COUNTIF(AN21:AN46,"3") -> 0 | AO8: =COUNTIF(AO21:AO46,"3") -> 0 | ... CO8: =COUNTIF(CO21:CO46,"3") -> 0
C9: 4 | AH9: =COUNTIF(AH21:AH46,"4") -> 0 | AI9: =COUNTIF(AI21:AI46,"4") -> 0 | AJ9: =COUNTIF(AJ21:AJ46,"4") -> 0 | AK9: =COUNTIF(AK21:AK46,"4") -> 0 | AL9: =COUNTIF(AL21:AL46,"4") -> 0 | AM9: =COUNTIF(AM21:AM46,"4") -> 0 | AN9: =COUNTIF(AN21:AN46,"4") -> 0 | AO9: =COUNTIF(AO21:AO46,"4") -> 0 | ... CO9: =COUNTIF(CO21:CO46,"4") -> 0
C10: Ugyldige | P10: =COUNTIF(P21:P46,"=5") -> 0 | Q10: =COUNTIF(Q21:Q46,"=5") -> 0 | R10: =COUNTIF(R21:R46,"=5") -> 0 | S10: =COUNTIF(S21:S46,"=5") -> 0 | T10: =COUNTIF(T21:T46,"=5") -> 0 | U10: =COUNTIF(U21:U46,"=5") -> 0 | V10: =COUNTIF(V21:V46,"=5") -> 0 | W10: =COUNTIF(W21:W46,"=5") -> 0 | ... CO10: =COUNTIF(CO21:CO46,"=5") -> 0
C11: Blanke | P11: =COUNTA($B$21:$B$46)-SUM(P5:P10) -> 0 | Q11: =COUNTA($B$21:$B$46)-SUM(Q5:Q10) -> 0 | R11: =COUNTA($B$21:$B$46)-SUM(R5:R10) -> 0 | S11: =COUNTA($B$21:$B$46)-SUM(S5:S10) -> 0 | T11: =COUNTA($B$21:$B$46)-SUM(T5:T10) -> 0 | U11: =COUNTA($B$21:$B$46)-SUM(U5:U10) -> 0 | V11: =COUNTA($B$21:$B$46)-SUM(V5:V10) -> 0 | W11: =COUNTA($B$21:$B$46)-SUM(W5:W10) -> 0 | ... CO11: =COUNTA($B$21:$B$46)-SUM(CO5:CO10) -> 0
C12: 0 | P12: =+P5/P4 -> #DIV/0! | Q12: =+Q5/Q4 -> #DIV/0! | R12: =+R5/R4 -> #DIV/0! | S12: =+S5/S4 -> #DIV/0! | T12: =+T5/T4 -> #DIV/0! | U12: =+U5/U4 -> #DIV/0! | V12: =+V5/V4 -> #DIV/0! | W12: =+W5/W4 -> #DIV/0! | ... CO12: =+CO5/CO4 -> #DIV/0!
C13: 1 | P13: =+P6/P4 -> #DIV/0! | Q13: =+Q6/Q4 -> #DIV/0! | R13: =+R6/R4 -> #DIV/0! | S13: =+S6/S4 -> #DIV/0! | T13: =+T6/T4 -> #DIV/0! | U13: =+U6/U4 -> #DIV/0! | V13: =+V6/V4 -> #DIV/0! | W13: =+W6/W4 -> #DIV/0! | ... CO13: =+CO6/CO4 -> #DIV/0!
C14: 2 | AH14: =+AH7/AH4 -> #DIV/0! | AI14: =+AI7/AI4 -> #DIV/0! | AJ14: =+AJ7/AJ4 -> #DIV/0! | AK14: =+AK7/AK4 -> #DIV/0! | AL14: =+AL7/AL4 -> #DIV/0! | AM14: =+AM7/AM4 -> #DIV/0! | AN14: =+AN7/AN4 -> #DIV/0! | AO14: =+AO7/AO4 -> #DIV/0! | ... CO14: =+CO7/CO4 -> #DIV/0!
C15: 3 | AH15: =+AH8/AH4 -> #DIV/0! | AI15: =+AI8/AI4 -> #DIV/0! | AJ15: =+AJ8/AJ4 -> #DIV/0! | AK15: =+AK8/AK4 -> #DIV/0! | AL15: =+AL8/AL4 -> #DIV/0! | AM15: =+AM8/AM4 -> #DIV/0! | AN15: =+AN8/AN4 -> #DIV/0! | AO15: =+AO8/AO4 -> #DIV/0! | ... CO15: =+CO8/CO4 -> #DIV/0!
C16: 4 | AH16: =+AH9/AH4 -> #DIV/0! | AI16: =+AI9/AI4 -> #DIV/0! | AJ16: =+AJ9/AJ4 -> #DIV/0! | AK16: =+AK9/AK4 -> #DIV/0! | AL16: =+AL9/AL4 -> #DIV/0! | AM16: =+AM9/AM4 -> #DIV/0! | AN16: =+AN9/AN4 -> #DIV/0! | AO16: =+AO9/AO4 -> #DIV/0! | ... CO16: =+CO9/CO4 -> #DIV/0!
C17: Ugyldige | P17: =+P10/P4 -> #DIV/0! | Q17: =+Q10/Q4 -> #DIV/0! | R17: =+R10/R4 -> #DIV/0! | S17: =+S10/S4 -> #DIV/0! | T17: =+T10/T4 -> #DIV/0! | U17: =+U10/U4 -> #DIV/0! | V17: =+V10/V4 -> #DIV/0! | W17: =+W10/W4 -> #DIV/0! | ... CO17: =+CO10/CO4 -> #DIV/0!
C18: Blanke | P18: =+P11/P4 -> #DIV/0! | Q18: =+Q11/Q4 -> #DIV/0! | R18: =+R11/R4 -> #DIV/0! | S18: =+S11/S4 -> #DIV/0! | T18: =+T11/T4 -> #DIV/0! | U18: =+U11/U4 -> #DIV/0! | V18: =+V11/V4 -> #DIV/0! | W18: =+W11/W4 -> #DIV/0! | ... CO18: =+CO11/CO4 -> #DIV/0!
C19: Rigtige | P19: =P13 -> #DIV/0! | Q19: =Q13 -> #DIV/0! | R19: =R13 -> #DIV/0! | S19: =S13 -> #DIV/0! | T19: =T13 -> #DIV/0! | U19: =U13 -> #DIV/0! | V19: =V13 -> #DIV/0! | W19: =W13 -> #DIV/0! | ... AH19: =AH13 -> #DIV/0! | AI19: =AI16 -> #DIV/0! | AJ19: =AJ15 -> #DIV/0! | AK19: =AK16 -> #DIV/0! | AL19: =AL13 -> #DIV/0! | AM19: =AM14 -> #DIV/0! | AN19: =AN13 -> #DIV/0! | AO19: =AO14 -> #DIV/0! | AP19: =AP14 -> #DIV/0! | AQ19: =AQ15 -> #DIV/0! | AR19: =AR15 -> #DIV/0! | AS19: =AS16 -> #DIV/0! | AT19: =AT16 -> #DIV/0! | AU19: =AU15 -> #DIV/0! | AV19: =AV13 -> #DIV/0! | AW19: =AW13 -> #DIV/0! | AX19: =AX16 -> #DIV/0! | AY19: =AY13 -> #DIV/0! | AZ19: =AZ14 -> #DIV/0! | BA19: =BA13 -> #DIV/0! | BB19: =BB16 -> #DIV/0! | BC19: =BC16 -> #DIV/0! | BD19: =BD15 -> #DIV/0! | BE19: =BE15 -> #DIV/0! | BF19: =BF16 -> #DIV/0! | BG19: =BG14 -> #DIV/0! | BH19: =BH13 -> #DIV/0! | BI19: =BI16 -> #DIV/0! | BJ19: =BJ14 -> #DIV/0! | BK19: =BK15 -> #DIV/0! | BL19: =BL13 -> #DIV/0! | BM19: =BM15 -> #DIV/0! | BN19: =BN16 -> #DIV/0! | BO19: =BO13 -> #DIV/0! | BP19: =BP14 -> #DIV/0! | BQ19: =BQ15 -> #DIV/0! | BR19: =BR14 -> #DIV/0! | BS19: =BS16 -> #DIV/0! | BT19: =BT15 -> #DIV/0! | BU19: =BU16 -> #DIV/0! | BV19: =BV13 -> #DIV/0! | BW19: =BW14 -> #DIV/0! | BX19: =BX15 -> #DIV/0! | BY19: =BY14 -> #DIV/0! | BZ19: =BZ13 -> #DIV/0! | CA19: =CA16 -> #DIV/0! | CB19: =CB13 -> #DIV/0! | CC19: =CC14 -> #DIV/0! | CD19: =CD16 -> #DIV/0! | CE19: =CE14 -> #DIV/0! | CF19: =CF14 -> #DIV/0! | CG19: =CG13 -> #DIV/0! | CH19: =CH15 -> #DIV/0! | CI19: =CI14 -> #DIV/0! | CJ19: =CJ14 -> #DIV/0! | CK19: =CK16 -> #DIV/0! | CL19: =CL13 -> #DIV/0! | CM19: =CM15 -> #DIV/0! | CN19: =CN16 -> #DIV/0! | CO19: =CO15 -> #DIV/0!
A20: Antal | B20: Navn | C20: CPR-nr | D20: køn (d/p) | E20: Nr | F20: Skole | G20: Adresse | H20: Postnr | I20: By | J20: Telefon | K20: Kommune | L20: by/bygd | M20: klasse | N20: Ikke mødt (kode) | O20: Indtaster | P20: 1 | Q20: 2 | R20: 3 | S20: 4 | T20: 5 | U20: 6 | V20: 7 | W20: 8 | X20: 9 | Y20: 10 | Z20: 11 | AA20: 12 | AB20: 13 | AC20: 14 | AD20: 15 | AE20: 16 | AF20: 17 | AG20: 18 | AH20: 1 | AI20: 2 | AJ20: 3 | AK20: 4 | AL20: 5 | AM20: 6 | AN20: 7 | AO20: 8 | AP20: 9 | AQ20: 10 | AR20: 11 | AS20: 12 | AT20: 13 | AU20: 14 | AV20: 15 | AW20: 16 | AX20: 17 | AY20: 18 | AZ20: 19 | BA20: 20 | BB20: 21 | BC20: 22 | BD20: 23 | BE20: 24 | BF20: 25 | BG20: 26 | BH20: 27 | BI20: 28 | BJ20: 29 | BK20: 30 | BL20: 31 | BM20: 32 | BN20: 33 | BO20: 34 | BP20: 35 | BQ20: 36 | BR20: 37 | BS20: 38 | BT20: 39 | BU20: 40 | BV20: 41 | BW20: 42 | BX20: 43 | BY20: 44 | BZ20: 45 | CA20: 46 | CB20: 47 | CC20: 48 | CD20: 49 | CE20: 50 | CF20: 51 | CG20: 52 | CH20: 53 | CI20: 54 | CJ20: 55 | CK20: 56 | CL20: 57 | CM20: 58 | CN20: 59 | CO20: 60 | CP20: Besvarede | CQ20: ikke-besvarede | CR20: rigtige | CS20: forkerte | CT20: Ugyldige
A21: =IF(ISBLANK(B21)," ",IF(ISBLANK(N21),1," ")) | F21: =IF(ISBLANK($E$21),"",VLOOKUP($E$21,Skoleliste!$A:$H,2,FALSE)) | G21: =IF(ISBLANK($E$21),"",VLOOKUP($E$21,Skoleliste!$A:$H,3,FALSE)) | H21: =IF(ISBLANK($E$21),"",VLOOKUP($E$21,Skoleliste!$A:$H,4,FALSE)) | I21: =IF(ISBLANK($E$21),"",VLOOKUP($E$21,Skoleliste!$A:$H,5,FALSE)) | J21: =IF(ISBLANK($E$21),"",VLOOKUP($E$21,Skoleliste!$A:$H,6,FALSE)) | K21: =IF(ISBLANK($E$21),"",VLOOKUP($E$21,Skoleliste!$A:$H,7,FALSE)) | L21: =IF(ISBLANK($E$21),"",VLOOKUP($E$21,Skoleliste!$A:$H,8,FALSE)) | CP21: =IF(ISBLANK(B21)," ",COUNTA(P21:CO21)) | CQ21: =IF(ISBLANK(B21)," ",(COUNTA($P$20:$CO$20)-CP21)) | CR21: =IF(ISBLANK(B21)," ",'Skole scoring'!CB64) | CS21: =IF(ISBLANK(B21)," ",(CP21)-(CR21)-CT21) | CT21: =IF(ISBLANK(B21)," ",COUNTIF(AK21:CO21,5))
A22: =IF(ISBLANK(B22)," ",IF(ISBLANK(N22),1," ")) | E22: =IF(ISBLANK(E21)," ",E21) | F22: =IF(ISBLANK($E$21),"",VLOOKUP($E$21,Skoleliste!$A:$H,2,FALSE)) | G22: =IF(ISBLANK($E$21),"",VLOOKUP($E$21,Skoleliste!$A:$H,3,FALSE)) | H22: =IF(ISBLANK($E$21),"",VLOOKUP($E$21,Skoleliste!$A:$H,4,FALSE)) | I22: =IF(ISBLANK($E$21),"",VLOOKUP($E$21,Skoleliste!$A:$H,5,FALSE)) | J22: =IF(ISBLANK($E$21),"",VLOOKUP($E$21,Skoleliste!$A:$H,6,FALSE)) | K22: =IF(ISBLANK($E$21),"",VLOOKUP($E$21,Skoleliste!$A:$H,7,FALSE)) | L22: =IF(ISBLANK($E$21),"",VLOOKUP($E$21,Skoleliste!$A:$H,8,FALSE)) | M22: =IF(ISBLANK(M21)," ",M21) | O22: =IF(ISBLANK(O21)," ",O21) | CP22: =IF(ISBLANK(B22)," ",COUNTA(P22:CO22)) | CQ22: =IF(ISBLANK(B22)," ",(COUNTA($P$20:$CO$20)-CP22)) | CR22: =IF(ISBLANK(B22)," ",'Skole scoring'!CB65) | CS22: =IF(ISBLANK(B22)," ",(CP22)-(CR22)-CT22) | CT22: =IF(ISBLANK(B22)," ",COUNTIF(AK22:CO22,5))
A23: =IF(ISBLANK(B23)," ",IF(ISBLANK(N23),1," ")) | E23: =IF(ISBLANK(E22)," ",E22) | F23: =IF(ISBLANK($E$21),"",VLOOKUP($E$21,Skoleliste!$A:$H,2,FALSE)) | G23: =IF(ISBLANK($E$21),"",VLOOKUP($E$21,Skoleliste!$A:$H,3,FALSE)) | H23: =IF(ISBLANK($E$21),"",VLOOKUP($E$21,Skoleliste!$A:$H,4,FALSE)) | I23: =IF(ISBLANK($E$21),"",VLOOKUP($E$21,Skoleliste!$A:$H,5,FALSE)) | J23: =IF(ISBLANK($E$21),"",VLOOKUP($E$21,Skoleliste!$A:$H,6,FALSE)) | K23: =IF(ISBLANK($E$21),"",VLOOKUP($E$21,Skoleliste!$A:$H,7,FALSE)) | L23: =IF(ISBLANK($E$21),"",VLOOKUP($E$21,Skoleliste!$A:$H,8,FALSE)) | M23: =IF(ISBLANK(M22)," ",M22) | O23: =IF(ISBLANK(O22)," ",O22) | CP23: =IF(ISBLANK(B23)," ",COUNTA(P23:CO23)) | CQ23: =IF(ISBLANK(B23)," ",(COUNTA($P$20:$CO$20)-CP23)) | CR23: =IF(ISBLANK(B23)," ",'Skole scoring'!CB66) | CS23: =IF(ISBLANK(B23)," ",(CP23)-(CR23)-CT23) | CT23: =IF(ISBLANK(B23)," ",COUNTIF(AK23:CO23,5))
A24: =IF(ISBLANK(B24)," ",IF(ISBLANK(N24),1," ")) | E24: =IF(ISBLANK(E23)," ",E23) | F24: =IF(ISBLANK($E$21),"",VLOOKUP($E$21,Skoleliste!$A:$H,2,FALSE)) | G24: =IF(ISBLANK($E$21),"",VLOOKUP($E$21,Skoleliste!$A:$H,3,FALSE)) | H24: =IF(ISBLANK($E$21),"",VLOOKUP($E$21,Skoleliste!$A:$H,4,FALSE)) | I24: =IF(ISBLANK($E$21),"",VLOOKUP($E$21,Skoleliste!$A:$H,5,FALSE)) | J24: =IF(ISBLANK($E$21),"",VLOOKUP($E$21,Skoleliste!$A:$H,6,FALSE)) | K24: =IF(ISBLANK($E$21),"",VLOOKUP($E$21,Skoleliste!$A:$H,7,FALSE)) | L24: =IF(ISBLANK($E$21),"",VLOOKUP($E$21,Skoleliste!$A:$H,8,FALSE)) | M24: =IF(ISBLANK(M23)," ",M23) | O24: =IF(ISBLANK(O23)," ",O23) | CP24: =IF(ISBLANK(B24)," ",COUNTA(P24:CO24)) | CQ24: =IF(ISBLANK(B24)," ",(COUNTA($P$20:$CO$20)-CP24)) | CR24: =IF(ISBLANK(B24)," ",'Skole scoring'!CB67) | CS24: =IF(ISBLANK(B24)," ",(CP24)-(CR24)-CT24) | CT24: =IF(ISBLANK(B24)," ",COUNTIF(AK24:CO24,5))
A25: =IF(ISBLANK(B25)," ",IF(ISBLANK(N25),1," ")) | E25: =IF(ISBLANK(E24)," ",E24) | F25: =IF(ISBLANK($E$21),"",VLOOKUP($E$21,Skoleliste!$A:$H,2,FALSE)) | G25: =IF(ISBLANK($E$21),"",VLOOKUP($E$21,Skoleliste!$A:$H,3,FALSE)) | H25: =IF(ISBLANK($E$21),"",VLOOKUP($E$21,Skoleliste!$A:$H,4,FALSE)) | I25: =IF(ISBLANK($E$21),"",VLOOKUP($E$21,Skoleliste!$A:$H,5,FALSE)) | J25: =IF(ISBLANK($E$21),"",VLOOKUP($E$21,Skoleliste!$A:$H,6,FALSE)) | K25: =IF(ISBLANK($E$21),"",VLOOKUP($E$21,Skoleliste!$A:$H,7,FALSE)) | L25: =IF(ISBLANK($E$21),"",VLOOKUP($E$21,Skoleliste!$A:$H,8,FALSE)) | M25: =IF(ISBLANK(M24)," ",M24) | O25: =IF(ISBLANK(O24)," ",O24) | CP25: =IF(ISBLANK(B25)," ",COUNTA(P25:CO25)) | CQ25: =IF(ISBLANK(B25)," ",(COUNTA($P$20:$CO$20)-CP25)) | CR25: =IF(ISBLANK(B25)," ",'Skole scoring'!CB68) | CS25: =IF(ISBLANK(B25)," ",(CP25)-(CR25)-CT25) | CT25: =IF(ISBLANK(B25)," ",COUNTIF(AK25:CO25,5))
A26: =IF(ISBLANK(B26)," ",IF(ISBLANK(N26),1," ")) | E26: =IF(ISBLANK(E25)," ",E25) | F26: =IF(ISBLANK($E$21),"",VLOOKUP($E$21,Skoleliste!$A:$H,2,FALSE)) | G26: =IF(ISBLANK($E$21),"",VLOOKUP($E$21,Skoleliste!$A:$H,3,FALSE)) | H26: =IF(ISBLANK($E$21),"",VLOOKUP($E$21,Skoleliste!$A:$H,4,FALSE)) | I26: =IF(ISBLANK($E$21),"",VLOOKUP($E$21,Skoleliste!$A:$H,5,FALSE)) | J26: =IF(ISBLANK($E$21),"",VLOOKUP($E$21,Skoleliste!$A:$H,6,FALSE)) | K26: =IF(ISBLANK($E$21),"",VLOOKUP($E$21,Skoleliste!$A:$H,7,FALSE)) | L26: =IF(ISBLANK($E$21),"",VLOOKUP($E$21,Skoleliste!$A:$H,8,FALSE)) | M26: =IF(ISBLANK(M25)," ",M25) | O26: =IF(ISBLANK(O25)," ",O25) | CP26: =IF(ISBLANK(B26)," ",COUNTA(P26:CO26)) | CQ26: =IF(ISBLANK(B26)," ",(COUNTA($P$20:$CO$20)-CP26)) | CR26: =IF(ISBLANK(B26)," ",'Skole scoring'!CB69) | CS26: =IF(ISBLANK(B26)," ",(CP26)-(CR26)-CT26) | CT26: =IF(ISBLANK(B26)," ",COUNTIF(AK26:CO26,5))
A27: =IF(ISBLANK(B27)," ",IF(ISBLANK(N27),1," ")) | E27: =IF(ISBLANK(E26)," ",E26) | F27: =IF(ISBLANK($E$21),"",VLOOKUP($E$21,Skoleliste!$A:$H,2,FALSE)) | G27: =IF(ISBLANK($E$21),"",VLOOKUP($E$21,Skoleliste!$A:$H,3,FALSE)) | H27: =IF(ISBLANK($E$21),"",VLOOKUP($E$21,Skoleliste!$A:$H,4,FALSE)) | I27: =IF(ISBLANK($E$21),"",VLOOKUP($E$21,Skoleliste!$A:$H,5,FALSE)) | J27: =IF(ISBLANK($E$21),"",VLOOKUP($E$21,Skoleliste!$A:$H,6,FALSE)) | K27: =IF(ISBLANK($E$21),"",VLOOKUP($E$21,Skoleliste!$A:$H,7,FALSE)) | L27: =IF(ISBLANK($E$21),"",VLOOKUP($E$21,Skoleliste!$A:$H,8,FALSE)) | M27: =IF(ISBLANK(M26)," ",M26) | O27: =IF(ISBLANK(O26)," ",O26) | CP27: =IF(ISBLANK(B27)," ",COUNTA(P27:CO27)) | CQ27: =IF(ISBLANK(B27)," ",(COUNTA($P$20:$CO$20)-CP27)) | CR27: =IF(ISBLANK(B27)," ",'Skole scoring'!CB70) | CS27: =IF(ISBLANK(B27)," ",(CP27)-(CR27)-CT27) | CT27: =IF(ISBLANK(B27)," ",COUNTIF(AK27:CO27,5))
A28: =IF(ISBLANK(B28)," ",IF(ISBLANK(N28),1," ")) | E28: =IF(ISBLANK(E27)," ",E27) | F28: =IF(ISBLANK($E$21),"",VLOOKUP($E$21,Skoleliste!$A:$H,2,FALSE)) | G28: =IF(ISBLANK($E$21),"",VLOOKUP($E$21,Skoleliste!$A:$H,3,FALSE)) | H28: =IF(ISBLANK($E$21),"",VLOOKUP($E$21,Skoleliste!$A:$H,4,FALSE)) | I28: =IF(ISBLANK($E$21),"",VLOOKUP($E$21,Skoleliste!$A:$H,5,FALSE)) | J28: =IF(ISBLANK($E$21),"",VLOOKUP($E$21,Skoleliste!$A:$H,6,FALSE)) | K28: =IF(ISBLANK($E$21),"",VLOOKUP($E$21,Skoleliste!$A:$H,7,FALSE)) | L28: =IF(ISBLANK($E$21),"",VLOOKUP($E$21,Skoleliste!$A:$H,8,FALSE)) | M28: =IF(ISBLANK(M27)," ",M27) | O28: =IF(ISBLANK(O27)," ",O27) | CP28: =IF(ISBLANK(B28)," ",COUNTA(P28:CO28)) | CQ28: =IF(ISBLANK(B28)," ",(COUNTA($P$20:$CO$20)-CP28)) | CR28: =IF(ISBLANK(B28)," ",'Skole scoring'!CB71) | CS28: =IF(ISBLANK(B28)," ",(CP28)-(CR28)-CT28) | CT28: =IF(ISBLANK(B28)," ",COUNTIF(AK28:CO28,5))
A29: =IF(ISBLANK(B29)," ",IF(ISBLANK(N29),1," ")) | E29: =IF(ISBLANK(E28)," ",E28) | F29: =IF(ISBLANK($E$21),"",VLOOKUP($E$21,Skoleliste!$A:$H,2,FALSE)) | G29: =IF(ISBLANK($E$21),"",VLOOKUP($E$21,Skoleliste!$A:$H,3,FALSE)) | H29: =IF(ISBLANK($E$21),"",VLOOKUP($E$21,Skoleliste!$A:$H,4,FALSE)) | I29: =IF(ISBLANK($E$21),"",VLOOKUP($E$21,Skoleliste!$A:$H,5,FALSE)) | J29: =IF(ISBLANK($E$21),"",VLOOKUP($E$21,Skoleliste!$A:$H,6,FALSE)) | K29: =IF(ISBLANK($E$21),"",VLOOKUP($E$21,Skoleliste!$A:$H,7,FALSE)) | L29: =IF(ISBLANK($E$21),"",VLOOKUP($E$21,Skoleliste!$A:$H,8,FALSE)) | M29: =IF(ISBLANK(M28)," ",M28) | O29: =IF(ISBLANK(O28)," ",O28) | CP29: =IF(ISBLANK(B29)," ",COUNTA(P29:CO29)) | CQ29: =IF(ISBLANK(B29)," ",(COUNTA($P$20:$CO$20)-CP29)) | CR29: =IF(ISBLANK(B29)," ",'Skole scoring'!CB72) | CS29: =IF(ISBLANK(B29)," ",(CP29)-(CR29)-CT29) | CT29: =IF(ISBLANK(B29)," ",COUNTIF(AK29:CO29,5))
A30: =IF(ISBLANK(B30)," ",IF(ISBLANK(N30),1," ")) | E30: =IF(ISBLANK(E29)," ",E29) | F30: =IF(ISBLANK($E$21),"",VLOOKUP($E$21,Skoleliste!$A:$H,2,FALSE)) | G30: =IF(ISBLANK($E$21),"",VLOOKUP($E$21,Skoleliste!$A:$H,3,FALSE)) | H30: =IF(ISBLANK($E$21),"",VLOOKUP($E$21,Skoleliste!$A:$H,4,FALSE)) | I30: =IF(ISBLANK($E$21),"",VLOOKUP($E$21,Skoleliste!$A:$H,5,FALSE)) | J30: =IF(ISBLANK($E$21),"",VLOOKUP($E$21,Skoleliste!$A:$H,6,FALSE)) | K30: =IF(ISBLANK($E$21),"",VLOOKUP($E$21,Skoleliste!$A:$H,7,FALSE)) | L30: =IF(ISBLANK($E$21),"",VLOOKUP($E$21,Skoleliste!$A:$H,8,FALSE)) | M30: =IF(ISBLANK(M29)," ",M29) | O30: =IF(ISBLANK(O29)," ",O29) | CP30: =IF(ISBLANK(B30)," ",COUNTA(P30:CO30)) | CQ30: =IF(ISBLANK(B30)," ",(COUNTA($P$20:$CO$20)-CP30)) | CR30: =IF(ISBLANK(B30)," ",'Skole scoring'!CB73) | CS30: =IF(ISBLANK(B30)," ",(CP30)-(CR30)-CT30) | CT30: =IF(ISBLANK(B30)," ",COUNTIF(AK30:CO30,5))
A31: =IF(ISBLANK(B31)," ",IF(ISBLANK(N31),1," ")) | E31: =IF(ISBLANK(E30)," ",E30) | F31: =IF(ISBLANK($E$21),"",VLOOKUP($E$21,Skoleliste!$A:$H,2,FALSE)) | G31: =IF(ISBLANK($E$21),"",VLOOKUP($E$21,Skoleliste!$A:$H,3,FALSE)) | H31: =IF(ISBLANK($E$21),"",VLOOKUP($E$21,Skoleliste!$A:$H,4,FALSE)) | I31: =IF(ISBLANK($E$21),"",VLOOKUP($E$21,Skoleliste!$A:$H,5,FALSE)) | J31: =IF(ISBLANK($E$21),"",VLOOKUP($E$21,Skoleliste!$A:$H,6,FALSE)) | K31: =IF(ISBLANK($E$21),"",VLOOKUP($E$21,Skoleliste!$A:$H,7,FALSE)) | L31: =IF(ISBLANK($E$21),"",VLOOKUP($E$21,Skoleliste!$A:$H,8,FALSE)) | M31: =IF(ISBLANK(M30)," ",M30) | O31: =IF(ISBLANK(O30)," ",O30) | CP31: =IF(ISBLANK(B31)," ",COUNTA(P31:CO31)) | CQ31: =IF(ISBLANK(B31)," ",(COUNTA($P$20:$CO$20)-CP31)) | CR31: =IF(ISBLANK(B31)," ",'Skole scoring'!CB74) | CS31: =IF(ISBLANK(B31)," ",(CP31)-(CR31)-CT31) | CT31: =IF(ISBLANK(B31)," ",COUNTIF(AK31:CO31,5))
A32: =IF(ISBLANK(B32)," ",IF(ISBLANK(N32),1," ")) | E32: =IF(ISBLANK(E31)," ",E31) | F32: =IF(ISBLANK($E$21),"",VLOOKUP($E$21,Skoleliste!$A:$H,2,FALSE)) | G32: =IF(ISBLANK($E$21),"",VLOOKUP($E$21,Skoleliste!$A:$H,3,FALSE)) | H32: =IF(ISBLANK($E$21),"",VLOOKUP($E$21,Skoleliste!$A:$H,4,FALSE)) | I32: =IF(ISBLANK($E$21),"",VLOOKUP($E$21,Skoleliste!$A:$H,5,FALSE)) | J32: =IF(ISBLANK($E$21),"",VLOOKUP($E$21,Skoleliste!$A:$H,6,FALSE)) | K32: =IF(ISBLANK($E$21),"",VLOOKUP($E$21,Skoleliste!$A:$H,7,FALSE)) | L32: =IF(ISBLANK($E$21),"",VLOOKUP($E$21,Skoleliste!$A:$H,8,FALSE)) | M32: =IF(ISBLANK(M31)," ",M31) | O32: =IF(ISBLANK(O31)," ",O31) | CP32: =IF(ISBLANK(B32)," ",COUNTA(P32:CO32)) | CQ32: =IF(ISBLANK(B32)," ",(COUNTA($P$20:$CO$20)-CP32)) | CR32: =IF(ISBLANK(B32)," ",'Skole scoring'!CB75) | CS32: =IF(ISBLANK(B32)," ",(CP32)-(CR32)-CT32) | CT32: =IF(ISBLANK(B32)," ",COUNTIF(AK32:CO32,5))
A33: =IF(ISBLANK(B33)," ",IF(ISBLANK(N33),1," ")) | E33: =IF(ISBLANK(E32)," ",E32) | F33: =IF(ISBLANK($E$21),"",VLOOKUP($E$21,Skoleliste!$A:$H,2,FALSE)) | G33: =IF(ISBLANK($E$21),"",VLOOKUP($E$21,Skoleliste!$A:$H,3,FALSE)) | H33: =IF(ISBLANK($E$21),"",VLOOKUP($E$21,Skoleliste!$A:$H,4,FALSE)) | I33: =IF(ISBLANK($E$21),"",VLOOKUP($E$21,Skoleliste!$A:$H,5,FALSE)) | J33: =IF(ISBLANK($E$21),"",VLOOKUP($E$21,Skoleliste!$A:$H,6,FALSE)) | K33: =IF(ISBLANK($E$21),"",VLOOKUP($E$21,Skoleliste!$A:$H,7,FALSE)) | L33: =IF(ISBLANK($E$21),"",VLOOKUP($E$21,Skoleliste!$A:$H,8,FALSE)) | M33: =IF(ISBLANK(M32)," ",M32) | O33: =IF(ISBLANK(O32)," ",O32) | CP33: =IF(ISBLANK(B33)," ",COUNTA(P33:CO33)) | CQ33: =IF(ISBLANK(B33)," ",(COUNTA($P$20:$CO$20)-CP33)) | CR33: =IF(ISBLANK(B33)," ",'Skole scoring'!CB76) | CS33: =IF(ISBLANK(B33)," ",(CP33)-(CR33)-CT33) | CT33: =IF(ISBLANK(B33)," ",COUNTIF(AK33:CO33,5))
... A46: =IF(ISBLANK(B46)," ",IF(ISBLANK(N46),1," ")) | E46: =IF(ISBLANK(E45)," ",E45) | F46: =IF(ISBLANK($E$21),"",VLOOKUP($E$21,Skoleliste!$A:$H,2,FALSE)) | G46: =IF(ISBLANK($E$21),"",VLOOKUP($E$21,Skoleliste!$A:$H,3,FALSE)) | H46: =IF(ISBLANK($E$21),"",VLOOKUP($E$21,Skoleliste!$A:$H,4,FALSE)) | I46: =IF(ISBLANK($E$21),"",VLOOKUP($E$21,Skoleliste!$A:$H,5,FALSE)) | J46: =IF(ISBLANK($E$21),"",VLOOKUP($E$21,Skoleliste!$A:$H,6,FALSE)) | K46: =IF(ISBLANK($E$21),"",VLOOKUP($E$21,Skoleliste!$A:$H,7,FALSE)) | L46: =IF(ISBLANK($E$21),"",VLOOKUP($E$21,Skoleliste!$A:$H,8,FALSE)) | M46: =IF(ISBLANK(M45)," ",M45) | O46: =IF(ISBLANK(O45)," ",O45) | CP46: =IF(ISBLANK(B46)," ",COUNTA(P46:CO46)) | CQ46: =IF(ISBLANK(B46)," ",(COUNTA($P$20:$CO$20)-CP46)) | CR46: =IF(ISBLANK(B46)," ",'Skole scoring'!CB89) | CS46: =IF(ISBLANK(B46)," ",(CP46)-(CR46)-CT46) | CT46: =IF(ISBLANK(B46)," ",COUNTIF(AK46:CO46,5))

Sheet Resultater M2
C4: =IF(COUNTIF('Skole scoring'!CC64,Grøn),'Midt 2.kl. -Klasse'!B21,"") | D4: =IF(COUNTIFS('Skole scoring'!CC64,GulA,'Skole scoring'!CC64,GulB),'Midt 2.kl. -Klasse'!B21,"") | E4: =IF(COUNTIF('Skole scoring'!CC64,Rød),'Midt 2.kl. -Klasse'!B21,"")
C5: =IF(COUNTIF('Skole scoring'!CC65,Grøn),'Midt 2.kl. -Klasse'!B22,"") | D5: =IF(COUNTIFS('Skole scoring'!CC65,GulA,'Skole scoring'!CC65,GulB),'Midt 2.kl. -Klasse'!B22,"") | E5: =IF(COUNTIF('Skole scoring'!CC65,Rød),'Midt 2.kl. -Klasse'!B22,"")
C6: =IF(COUNTIF('Skole scoring'!CC66,Grøn),'Midt 2.kl. -Klasse'!B23,"") | D6: =IF(COUNTIFS('Skole scoring'!CC66,GulA,'Skole scoring'!CC66,GulB),'Midt 2.kl. -Klasse'!B23,"") | E6: =IF(COUNTIF('Skole scoring'!CC66,Rød),'Midt 2.kl. -Klasse'!B23,"")
C7: =IF(COUNTIF('Skole scoring'!CC67,Grøn),'Midt 2.kl. -Klasse'!B24,"") | D7: =IF(COUNTIFS('Skole scoring'!CC67,GulA,'Skole scoring'!CC67,GulB),'Midt 2.kl. -Klasse'!B24,"") | E7: =IF(COUNTIF('Skole scoring'!CC67,Rød),'Midt 2.kl. -Klasse'!B24,"")
C8: =IF(COUNTIF('Skole scoring'!CC68,Grøn),'Midt 2.kl. -Klasse'!B25,"") | D8: =IF(COUNTIFS('Skole scoring'!CC68,GulA,'Skole scoring'!CC68,GulB),'Midt 2.kl. -Klasse'!B25,"") | E8: =IF(COUNTIF('Skole scoring'!CC68,Rød),'Midt 2.kl. -Klasse'!B25,"")
C9: =IF(COUNTIF('Skole scoring'!CC69,Grøn),'Midt 2.kl. -Klasse'!B26,"") | D9: =IF(COUNTIFS('Skole scoring'!CC69,GulA,'Skole scoring'!CC69,GulB),'Midt 2.kl. -Klasse'!B26,"") | E9: =IF(COUNTIF('Skole scoring'!CC69,Rød),'Midt 2.kl. -Klasse'!B26,"")
C10: =IF(COUNTIF('Skole scoring'!CC70,Grøn),'Midt 2.kl. -Klasse'!B27,"") | D10: =IF(COUNTIFS('Skole scoring'!CC70,GulA,'Skole scoring'!CC70,GulB),'Midt 2.kl. -Klasse'!B27,"") | E10: =IF(COUNTIF('Skole scoring'!CC70,Rød),'Midt 2.kl. -Klasse'!B27,"")
C11: =IF(COUNTIF('Skole scoring'!CC71,Grøn),'Midt 2.kl. -Klasse'!B28,"") | D11: =IF(COUNTIFS('Skole scoring'!CC71,GulA,'Skole scoring'!CC71,GulB),'Midt 2.kl. -Klasse'!B28,"") | E11: =IF(COUNTIF('Skole scoring'!CC71,Rød),'Midt 2.kl. -Klasse'!B28,"")
C12: =IF(COUNTIF('Skole scoring'!CC72,Grøn),'Midt 2.kl. -Klasse'!B29,"") | D12: =IF(COUNTIFS('Skole scoring'!CC72,GulA,'Skole scoring'!CC72,GulB),'Midt 2.kl. -Klasse'!B29,"") | E12: =IF(COUNTIF('Skole scoring'!CC72,Rød),'Midt 2.kl. -Klasse'!B29,"")
C13: =IF(COUNTIF('Skole scoring'!CC73,Grøn),'Midt 2.kl. -Klasse'!B30,"") | D13: =IF(COUNTIFS('Skole scoring'!CC73,GulA,'Skole scoring'!CC73,GulB),'Midt 2.kl. -Klasse'!B30,"") | E13: =IF(COUNTIF('Skole scoring'!CC73,Rød),'Midt 2.kl. -Klasse'!B30,"")
C14: =IF(COUNTIF('Skole scoring'!CC74,Grøn),'Midt 2.kl. -Klasse'!B31,"") | D14: =IF(COUNTIFS('Skole scoring'!CC74,GulA,'Skole scoring'!CC74,GulB),'Midt 2.kl. -Klasse'!B31,"") | E14: =IF(COUNTIF('Skole scoring'!CC74,Rød),'Midt 2.kl. -Klasse'!B31,"")
C15: =IF(COUNTIF('Skole scoring'!CC75,Grøn),'Midt 2.kl. -Klasse'!B32,"") | D15: =IF(COUNTIFS('Skole scoring'!CC75,GulA,'Skole scoring'!CC75,GulB),'Midt 2.kl. -Klasse'!B32,"") | E15: =IF(COUNTIF('Skole scoring'!CC75,Rød),'Midt 2.kl. -Klasse'!B32,"")
... C29: =IF(COUNTIF('Skole scoring'!CC89,Grøn),'Midt 2.kl. -Klasse'!B46,"") | D29: =IF(COUNTIFS('Skole scoring'!CC89,GulA,'Skole scoring'!CC89,GulB),'Midt 2.kl. -Klasse'!B46,"") | E29: =IF(COUNTIF('Skole scoring'!CC89,Rød),'Midt 2.kl. -Klasse'!B46,"")

Sheet Elev Score M2
C1: Atuartup killiffia
F2: Suliassat katillugit | H2: 78
C3: Ateq | F3: Eqqortumik akisat katillugit | H3: =VLOOKUP(D3,AAN_2b_ES,82,FALSE) -> 0
C5: Oqaatsinik Allanneq | F5: Oqaatsinik Atuarneq
A6: 2 | C6: Misiligutit | D6: Akissutit | F6: Naqinnerit 3-4 Misiligutaasut | G6: Akissutit | H6: Naqinnerit 5 misiligutaasut | I6: Atuartup akissutaa | J6: Naqinnerit 6 Misiligutaasut | K6: Atuartup akissutaa | L6: Naqinnerit 7 Misiligutaasut | M6: Atuartup akissutaa | N6: Naqinnerit 8 Misiligutaasut | O6: Atuartup akissutaa
A7: 3 | C7: Ini | D7: =VLOOKUP($D$3,AAN_2b_ES,A6,FALSE) | F7: iga | G7: =VLOOKUP($D$3,AAN_2b_ES,A24,FALSE) | H7: pupik | I7: =VLOOKUP($D$3,AAN_2b_ES,A36,FALSE) | J7: qitsuk | K7: =VLOOKUP($D$3,AAN_2b_ES,A48,FALSE) | L7: qarliit | M7: =VLOOKUP($D$3,AAN_2b_ES,A60,FALSE) | N7: uffarfik | O7: =VLOOKUP($D$3,AAN_2b_ES,A72,FALSE)
A8: 4 | C8: Niu | D8: =VLOOKUP($D$3,AAN_2b_ES,A7,FALSE) | F8: ulu | G8: =VLOOKUP($D$3,AAN_2b_ES,A25,FALSE) | H8: suluk | I8: =VLOOKUP($D$3,AAN_2b_ES,A37,FALSE) | J8: meeraq | K8: =VLOOKUP($D$3,AAN_2b_ES,A49,FALSE) | L8: qamutit | M8: =VLOOKUP($D$3,AAN_2b_ES,A61,FALSE) | N8: ippernaq | O8: =VLOOKUP($D$3,AAN_2b_ES,A73,FALSE)
A9: 5 | C9: Aja | D9: =VLOOKUP($D$3,AAN_2b_ES,A8,FALSE) | F9: qui | G9: =VLOOKUP($D$3,AAN_2b_ES,A26,FALSE) | H9: kisaq | I9: =VLOOKUP($D$3,AAN_2b_ES,A38,FALSE) | J9: saagut | K9: =VLOOKUP($D$3,AAN_2b_ES,A50,FALSE) | L9: naraseq | M9: =VLOOKUP($D$3,AAN_2b_ES,A62,FALSE) | N9: allakkat | O9: =VLOOKUP($D$3,AAN_2b_ES,A74,FALSE)
A10: 6 | C10: Ulu | D10: =VLOOKUP($D$3,AAN_2b_ES,A9,FALSE) | F10: aak | G10: =VLOOKUP($D$3,AAN_2b_ES,A27,FALSE) | H10: aquut | I10: =VLOOKUP($D$3,AAN_2b_ES,A39,FALSE) | J10: saaneq | K10: =VLOOKUP($D$3,AAN_2b_ES,A51,FALSE) | L10: alerseq | M10: =VLOOKUP($D$3,AAN_2b_ES,A63,FALSE) | N10: annoraaq | O10: =VLOOKUP($D$3,AAN_2b_ES,A75,FALSE)
A11: 7 | C11: Siku | D11: =VLOOKUP($D$3,AAN_2b_ES,A10,FALSE) | F11: matu | G11: =VLOOKUP($D$3,AAN_2b_ES,A28,FALSE) | H11: umiit | I11: =VLOOKUP($D$3,AAN_2b_ES,A40,FALSE) | J11: qimmeq | K11: =VLOOKUP($D$3,AAN_2b_ES,A52,FALSE) | L11: inuusaq | M11: =VLOOKUP($D$3,AAN_2b_ES,A64,FALSE) | N11: eqqaavik | O11: =VLOOKUP($D$3,AAN_2b_ES,A76,FALSE)
A12: 8 | C12: Aput | D12: =VLOOKUP($D$3,AAN_2b_ES,A11,FALSE) | F12: pana | G12: =VLOOKUP($D$3,AAN_2b_ES,A29,FALSE) | H12: attat | I12: =VLOOKUP($D$3,AAN_2b_ES,A41,FALSE) | J12: mannik | K12: =VLOOKUP($D$3,AAN_2b_ES,A53,FALSE) | L12: puuluki | M12: =VLOOKUP($D$3,AAN_2b_ES,A65,FALSE) | N12: illuigaq | O12: =VLOOKUP($D$3,AAN_2b_ES,A77,FALSE)
A13: 9 | C13: Kuuk | D13: =VLOOKUP($D$3,AAN_2b_ES,A12,FALSE) | F13: ameq | G13: =VLOOKUP($D$3,AAN_2b_ES,A30,FALSE) | H13: assak | I13: =VLOOKUP($D$3,AAN_2b_ES,A42,FALSE) | J13: tarraq | K13: =VLOOKUP($D$3,AAN_2b_ES,A54,FALSE) | L13: iipilit | M13: =VLOOKUP($D$3,AAN_2b_ES,A66,FALSE) | N13: ammassak | O13: =VLOOKUP($D$3,AAN_2b_ES,A78,FALSE)
A14: 10 | C14: Appa | D14: =VLOOKUP($D$3,AAN_2b_ES,A13,FALSE) | F14: illu | G14: =VLOOKUP($D$3,AAN_2b_ES,A31,FALSE) | H14: aaveq | I14: =VLOOKUP($D$3,AAN_2b_ES,A43,FALSE) | J14: qulleq | K14: =VLOOKUP($D$3,AAN_2b_ES,A55,FALSE) | L14: allarut | M14: =VLOOKUP($D$3,AAN_2b_ES,A67,FALSE) | N14: issiavik | O14: =VLOOKUP($D$3,AAN_2b_ES,A79,FALSE)
A15: 11 | C15: Nasaq | D15: =VLOOKUP($D$3,AAN_2b_ES,A14,FALSE) | F15: siut | G15: =VLOOKUP($D$3,AAN_2b_ES,A32,FALSE) | H15: agiaq | I15: =VLOOKUP($D$3,AAN_2b_ES,A44,FALSE) | J15: kikiak | K15: =VLOOKUP($D$3,AAN_2b_ES,A56,FALSE) | L15: aqisseq | M15: =VLOOKUP($D$3,AAN_2b_ES,A68,FALSE) | N15: niviugak | O15: =VLOOKUP($D$3,AAN_2b_ES,A80,FALSE)
A16: 12 | C16: Tuttu | D16: =VLOOKUP($D$3,AAN_2b_ES,A15,FALSE) | F16: assi | G16: =VLOOKUP($D$3,AAN_2b_ES,A33,FALSE) | H16: angut | I16: =VLOOKUP($D$3,AAN_2b_ES,A45,FALSE) | J16: palasi | K16: =VLOOKUP($D$3,AAN_2b_ES,A57,FALSE) | L16: kuanneq | M16: =VLOOKUP($D$3,AAN_2b_ES,A69,FALSE) | N16: nerrivik | O16: =VLOOKUP($D$3,AAN_2b_ES,A81,FALSE)
A17: 13 | C17: Arsaq | D17: =VLOOKUP($D$3,AAN_2b_ES,A16,FALSE) | F17: kuuk | G17: =VLOOKUP($D$3,AAN_2b_ES,A34,FALSE) | H17: orpik | I17: =VLOOKUP($D$3,AAN_2b_ES,A46,FALSE) | J17: pamioq | K17: =VLOOKUP($D$3,AAN_2b_ES,A58,FALSE) | L17: igutsak | M17: =VLOOKUP($D$3,AAN_2b_ES,A70,FALSE) | N17: ulloriaq | O17: =VLOOKUP($D$3,AAN_2b_ES,A82,FALSE)
A18: 14 | C18: Puisi | D18: =VLOOKUP($D$3,AAN_2b_ES,A17,FALSE) | F18: naat | G18: =VLOOKUP($D$3,AAN_2b_ES,A35,FALSE) | H18: umiaq | I18: =VLOOKUP($D$3,AAN_2b_ES,A47,FALSE) | J18: nangeq | K18: =VLOOKUP($D$3,AAN_2b_ES,A59,FALSE) | L18: sialuit | M18: =VLOOKUP($D$3,AAN_2b_ES,A71,FALSE) | N18: saaniluk | O18: =VLOOKUP($D$3,AAN_2b_ES,A83,FALSE)
A19: 15 | C19: Palasi | D19: =VLOOKUP($D$3,AAN_2b_ES,A18,FALSE) | F19: Suliassat | G19: 12 | H19: Suliassat | I19: 12 | J19: Suliassat | K19: 12 | L19: Suliassat | M19: 12 | N19: Suliassat | O19: 12
A20: 16 | C20: Kammak | D20: =VLOOKUP($D$3,AAN_2b_ES,A19,FALSE) | F20: Eqqortut | G20: =VLOOKUP($D$3,AAN_2b_ES,83,FALSE) -> 0 | H20: Eqqortut | I20: =VLOOKUP($D$3,AAN_2b_ES,84,FALSE) -> 0 | J20: Eqqortut | K20: =VLOOKUP($D$3,AAN_2b_ES,85,FALSE) -> 0 | L20: Eqqortut | M20: =VLOOKUP($D$3,AAN_2b_ES,86,FALSE) -> 0 | N20: Eqqortut | O20: =VLOOKUP($D$3,AAN_2b_ES,87,FALSE) -> 0
A21: 17 | C21: Meeraq | D21: =VLOOKUP($D$3,AAN_2b_ES,A20,FALSE)
A22: 18 | C22: Sorluk | D22: =VLOOKUP($D$3,AAN_2b_ES,A21,FALSE) | N22: Suliassat | O22: 60
A23: 19 | C23: Kiffaq | D23: =VLOOKUP($D$3,AAN_2b_ES,A22,FALSE) | N23: Eqqortumik akisat | O23: =VLOOKUP($D$3,AAN_2b_ES,81,FALSE) -> 0
A24: 20 | C24: Siuteroq | D24: =VLOOKUP($D$3,AAN_2b_ES,A23,FALSE)
A25: 21 | C25: Suliassat | D25: 18
A26: 22 | C26: Eqqortumik akisat | D26: =VLOOKUP($D$3,AAN_2b_ES,80,FALSE) -> 0
A27: 23
A28: 24
A29: 25 | C29: Ilitsersuut
A30: 26 | C30: Tungujortut: Eqqortumik akisat
A31: 27 | C31: Qaqortut immersukkat: Kukkusumik akisat
A32: 28 | C32: Qaqortut imaqanngitsut: Akineqanngitsut
A33: 29 | C33: X: Naqinneq mumillugu (spejlvendt) allataq, ass. Qx
A34: 30 | C34: Ugyldige: Akissut atorsinnaanngitsoq, ass. marlunnik x-iligaq
A35: 31
A36: 32
A37: 33
A38: 34
A39: 35
A40: 36
A41: 37
A42: 38
A43: 39
A44: 40
A45: 41
A46: 42
... A83: 79

Sheet ElevScoreData
BH1: 59 | BI1: 60 | BJ1: 61 | BK1: 62
B2: Naqinnerit Nipaat | AA2: Naqinnernik Allanneq | AT2: Oqaatsimi Nipi Siulleq | BH2: Rigtige svar
C3: 2 | D3: 3 | E3: 4 | F3: 5 | G3: 6 | H3: 7 | I3: 8 | J3: 9 | K3: 10 | L3: 11 | M3: 12 | N3: 13 | O3: 14 | P3: 15 | Q3: 16 | R3: 17 | S3: 18 | T3: 19 | U3: 20 | V3: 21 | W3: 22 | X3: 23 | Y3: 24 | Z3: 25 | AA3: 26 | AB3: 27 | AC3: 28 | AD3: 29 | AE3: 30 | AF3: 31 | AG3: 32 | AH3: 33 | AI3: 34 | AJ3: 35 | AK3: 36 | AL3: 37 | AM3: 38 | AN3: 39 | AO3: 40 | AP3: 41 | AQ3: 42 | AR3: 43 | AS3: 44 | AT3: 45 | AU3: 46 | AV3: 47 | AW3: 48 | AX3: 49 | AY3: 50 | AZ3: 51 | BA3: 52 | BB3: 53 | BC3: 54 | BD3: 55 | BE3: 56 | BF3: 57 | BG3: 58 | BH3: =B2 -> Naqinnerit Nipaat | BI3: =AA2 -> Naqinnernik Allanneq | BJ3: =AT2 -> Oqaatsimi Nipi Siulleq | BK3: Samlet | CM3: Naqinn_Nipaat_
B4: Elev | C4: f | D4: a | E4: v | F4: rr | G4: i | H4: gg | I4: s | J4: t | K4: l | L4: n | M4: k | N4: j | O4: u | P4: g | Q4: r | R4: h | S4: q | T4: ll | U4: e | V4: ng | W4: p | X4: m | Y4: o | Z4: t (d) | AA4: J | AB4: S | AC4: K | AD4: V | AE4: U | AF4: P | AG4: M | AH4: I | AI4: T | AJ4: H | AK4: F | AL4: Q | AM4: E | AN4: L | AO4: A | AP4: G | AQ4: N | AR4: R | AS4: O | AT4: Siku | AU4: Puugutaq | AV4: Ulloriaq | AW4: Tuttu | AX4: Nanoq | AY4: Aqerluusaq | AZ4: Qajaq | BA4: Kulloq | BB4: Inneq | BC4: Mannik | BD4: Errorsivik | BE4: Raaja | BF4: Orpik | BG4: Tiitorfik | CM4: 1 | CN4: 2 | CO4: 3 | CP4: 4 | CQ4: 5 | CR4: 6 | CS4: 7 | CT4: 8 | CU4: 9 | CV4: 10 | CW4: 11 | CX4: 12 | CY4: 13 | CZ4: 14 | DA4: 15 | DB4: 16 | DC4: 17 | DD4: 18 | DE4: 19 | DF4: 20 | DG4: 21 | DH4: 22 | DI4: 23 | DJ4: 24
B5: ='Midt 1.kl. -Klasse'!B21 -> 0 | C5: =IF(ISBLANK('Midt 1.kl. -Klasse'!P21),"",VLOOKUP('Midt 1.kl. -Klasse'!P21,Naqinn_Nipaat_1b,C$3,FALSE)) | D5: =IF(ISBLANK('Midt 1.kl. -Klasse'!Q21),"",VLOOKUP('Midt 1.kl. -Klasse'!Q21,Naqinn_Nipaat_1b,D$3,FALSE)) | E5: =IF(ISBLANK('Midt 1.kl. -Klasse'!R21),"",VLOOKUP('Midt 1.kl. -Klasse'!R21,Naqinn_Nipaat_1b,E$3,FALSE)) | F5: =IF(ISBLANK('Midt 1.kl. -Klasse'!S21),"",VLOOKUP('Midt 1.kl. -Klasse'!S21,Naqinn_Nipaat_1b,F$3,FALSE)) | G5: =IF(ISBLANK('Midt 1.kl. -Klasse'!T21),"",VLOOKUP('Midt 1.kl. -Klasse'!T21,Naqinn_Nipaat_1b,G$3,FALSE)) | H5: =IF(ISBLANK('Midt 1.kl. -Klasse'!U21),"",VLOOKUP('Midt 1.kl. -Klasse'!U21,Naqinn_Nipaat_1b,H$3,FALSE)) | I5: =IF(ISBLANK('Midt 1.kl. -Klasse'!V21),"",VLOOKUP('Midt 1.kl. -Klasse'!V21,Naqinn_Nipaat_1b,I$3,FALSE)) | J5: =IF(ISBLANK('Midt 1.kl. -Klasse'!W21),"",VLOOKUP('Midt 1.kl. -Klasse'!W21,Naqinn_Nipaat_1b,J$3,FALSE)) | ... Z5: =IF(ISBLANK('Midt 1.kl. -Klasse'!AM21),"",VLOOKUP('Midt 1.kl. -Klasse'!AM21,Naqinn_Nipaat_1b,Z$3,FALSE)) | AA5: =IF(COUNTIF('Midt 1.kl. -Klasse'!AN21,5),"Ugyldig",(IF(ISBLANK('Midt 1.kl. -Klasse'!AN21),"",'Midt 1.kl. -Klasse'!AN21))) | AB5: =IF(COUNTIF('Midt 1.kl. -Klasse'!AO21,5),"Ugyldig",(IF(ISBLANK('Midt 1.kl. -Klasse'!AO21),"",'Midt 1.kl. -Klasse'!AO21))) | AC5: =IF(COUNTIF('Midt 1.kl. -Klasse'!AP21,5),"Ugyldig",(IF(ISBLANK('Midt 1.kl. -Klasse'!AP21),"",'Midt 1.kl. -Klasse'!AP21))) | AD5: =IF(COUNTIF('Midt 1.kl. -Klasse'!AQ21,5),"Ugyldig",(IF(ISBLANK('Midt 1.kl. -Klasse'!AQ21),"",'Midt 1.kl. -Klasse'!AQ21))) | AE5: =IF(COUNTIF('Midt 1.kl. -Klasse'!AR21,5),"Ugyldig",(IF(ISBLANK('Midt 1.kl. -Klasse'!AR21),"",'Midt 1.kl. -Klasse'!AR21))) | AF5: =IF(COUNTIF('Midt 1.kl. -Klasse'!AS21,5),"Ugyldig",(IF(ISBLANK('Midt 1.kl. -Klasse'!AS21),"",'Midt 1.kl. -Klasse'!AS21))) | AG5: =IF(COUNTIF('Midt 1.kl. -Klasse'!AT21,5),"Ugyldig",(IF(ISBLANK('Midt 1.kl. -Klasse'!AT21),"",'Midt 1.kl. -Klasse'!AT21))) | AH5: =IF(COUNTIF('Midt 1.kl. -Klasse'!AU21,5),"Ugyldig",(IF(ISBLANK('Midt 1.kl. -Klasse'!AU21),"",'Midt 1.kl. -Klasse'!AU21))) | ... AS5: =IF(COUNTIF('Midt 1.kl. -Klasse'!BF21,5),"Ugyldig",(IF(ISBLANK('Midt 1.kl. -Klasse'!BF21),"",'Midt 1.kl. -Klasse'!BF21))) | AT5: =IF(ISBLANK('Midt 1.kl. -Klasse'!BG21),"",VLOOKUP('Midt 1.kl. -Klasse'!BG21,Ordets_Førstelyd_1b,C$3,FALSE)) | AU5: =IF(ISBLANK('Midt 1.kl. -Klasse'!BH21),"",VLOOKUP('Midt 1.kl. -Klasse'!BH21,Ordets_Førstelyd_1b,D$3,FALSE)) | AV5: =IF(ISBLANK('Midt 1.kl. -Klasse'!BI21),"",VLOOKUP('Midt 1.kl. -Klasse'!BI21,Ordets_Førstelyd_1b,E$3,FALSE)) | AW5: =IF(ISBLANK('Midt 1.kl. -Klasse'!BJ21),"",VLOOKUP('Midt 1.kl. -Klasse'!BJ21,Ordets_Førstelyd_1b,F$3,FALSE)) | AX5: =IF(ISBLANK('Midt 1.kl. -Klasse'!BK21),"",VLOOKUP('Midt 1.kl. -Klasse'!BK21,Ordets_Førstelyd_1b,G$3,FALSE)) | AY5: =IF(ISBLANK('Midt 1.kl. -Klasse'!BL21),"",VLOOKUP('Midt 1.kl. -Klasse'!BL21,Ordets_Førstelyd_1b,H$3,FALSE)) | AZ5: =IF(ISBLANK('Midt 1.kl. -Klasse'!BM21),"",VLOOKUP('Midt 1.kl. -Klasse'!BM21,Ordets_Førstelyd_1b,I$3,FALSE)) | BA5: =IF(ISBLANK('Midt 1.kl. -Klasse'!BN21),"",VLOOKUP('Midt 1.kl. -Klasse'!BN21,Ordets_Førstelyd_1b,J$3,FALSE)) | ... BG5: =IF(ISBLANK('Midt 1.kl. -Klasse'!BT21),"",VLOOKUP('Midt 1.kl. -Klasse'!BT21,Ordets_Førstelyd_1b,P$3,FALSE)) | BH5: =COUNTIF('Skole scoring'!B4:Y4,1) -> 0 | BI5: =COUNTIF('Skole scoring'!Z4:AR4,1) -> 0 | BJ5: =COUNTIF('Skole scoring'!AS4:BF4,1) -> 0 | BK5: =SUM(BH5:BJ5) -> 0 | CL5: 1 | CM5: f | CN5: e | CO5: f | CP5: e | CQ5: u | CR5: q | CS5: s | CT5: v | CU5: p | CV5: j | CW5: k | CX5: r | CY5: i | CZ5: s | DA5: r | DB5: f | DC5: r | DD5: ll | DE5: a | DF5: j | DG5: g | DH5: p | DI5: o | DJ5: j
B6: ='Midt 1.kl. -Klasse'!B22 -> 0 | C6: =IF(ISBLANK('Midt 1.kl. -Klasse'!P22),"",VLOOKUP('Midt 1.kl. -Klasse'!P22,Naqinn_Nipaat_1b,C$3,FALSE)) | D6: =IF(ISBLANK('Midt 1.kl. -Klasse'!Q22),"",VLOOKUP('Midt 1.kl. -Klasse'!Q22,Naqinn_Nipaat_1b,D$3,FALSE)) | E6: =IF(ISBLANK('Midt 1.kl. -Klasse'!R22),"",VLOOKUP('Midt 1.kl. -Klasse'!R22,Naqinn_Nipaat_1b,E$3,FALSE)) | F6: =IF(ISBLANK('Midt 1.kl. -Klasse'!S22),"",VLOOKUP('Midt 1.kl. -Klasse'!S22,Naqinn_Nipaat_1b,F$3,FALSE)) | G6: =IF(ISBLANK('Midt 1.kl. -Klasse'!T22),"",VLOOKUP('Midt 1.kl. -Klasse'!T22,Naqinn_Nipaat_1b,G$3,FALSE)) | H6: =IF(ISBLANK('Midt 1.kl. -Klasse'!U22),"",VLOOKUP('Midt 1.kl. -Klasse'!U22,Naqinn_Nipaat_1b,H$3,FALSE)) | I6: =IF(ISBLANK('Midt 1.kl. -Klasse'!V22),"",VLOOKUP('Midt 1.kl. -Klasse'!V22,Naqinn_Nipaat_1b,I$3,FALSE)) | J6: =IF(ISBLANK('Midt 1.kl. -Klasse'!W22),"",VLOOKUP('Midt 1.kl. -Klasse'!W22,Naqinn_Nipaat_1b,J$3,FALSE)) | ... Z6: =IF(ISBLANK('Midt 1.kl. -Klasse'!AM22),"",VLOOKUP('Midt 1.kl. -Klasse'!AM22,Naqinn_Nipaat_1b,Z$3,FALSE)) | AA6: =IF(COUNTIF('Midt 1.kl. -Klasse'!AN22,5),"Ugyldig",(IF(ISBLANK('Midt 1.kl. -Klasse'!AN22),"",'Midt 1.kl. -Klasse'!AN22))) | AB6: =IF(COUNTIF('Midt 1.kl. -Klasse'!AO22,5),"Ugyldig",(IF(ISBLANK('Midt 1.kl. -Klasse'!AO22),"",'Midt 1.kl. -Klasse'!AO22))) | AC6: =IF(COUNTIF('Midt 1.kl. -Klasse'!AP22,5),"Ugyldig",(IF(ISBLANK('Midt 1.kl. -Klasse'!AP22),"",'Midt 1.kl. -Klasse'!AP22))) | AD6: =IF(COUNTIF('Midt 1.kl. -Klasse'!AQ22,5),"Ugyldig",(IF(ISBLANK('Midt 1.kl. -Klasse'!AQ22),"",'Midt 1.kl. -Klasse'!AQ22))) | AE6: =IF(COUNTIF('Midt 1.kl. -Klasse'!AR22,5),"Ugyldig",(IF(ISBLANK('Midt 1.kl. -Klasse'!AR22),"",'Midt 1.kl. -Klasse'!AR22))) | AF6: =IF(COUNTIF('Midt 1.kl. -Klasse'!AS22,5),"Ugyldig",(IF(ISBLANK('Midt 1.kl. -Klasse'!AS22),"",'Midt 1.kl. -Klasse'!AS22))) | AG6: =IF(COUNTIF('Midt 1.kl. -Klasse'!AT22,5),"Ugyldig",(IF(ISBLANK('Midt 1.kl. -Klasse'!AT22),"",'Midt 1.kl. -Klasse'!AT22))) | AH6: =IF(COUNTIF('Midt 1.kl. -Klasse'!AU22,5),"Ugyldig",(IF(ISBLANK('Midt 1.kl. -Klasse'!AU22),"",'Midt 1.kl. -Klasse'!AU22))) | ... AS6: =IF(COUNTIF('Midt 1.kl. -Klasse'!BF22,5),"Ugyldig",(IF(ISBLANK('Midt 1.kl. -Klasse'!BF22),"",'Midt 1.kl. -Klasse'!BF22))) | AT6: =IF(ISBLANK('Midt 1.kl. -Klasse'!BG22),"",VLOOKUP('Midt 1.kl. -Klasse'!BG22,Ordets_Førstelyd_1b,C$3,FALSE)) | AU6: =IF(ISBLANK('Midt 1.kl. -Klasse'!BH22),"",VLOOKUP('Midt 1.kl. -Klasse'!BH22,Ordets_Førstelyd_1b,D$3,FALSE)) | AV6: =IF(ISBLANK('Midt 1.kl. -Klasse'!BI22),"",VLOOKUP('Midt 1.kl. -Klasse'!BI22,Ordets_Førstelyd_1b,E$3,FALSE)) | AW6: =IF(ISBLANK('Midt 1.kl. -Klasse'!BJ22),"",VLOOKUP('Midt 1.kl. -Klasse'!BJ22,Ordets_Førstelyd_1b,F$3,FALSE)) | AX6: =IF(ISBLANK('Midt 1.kl. -Klasse'!BK22),"",VLOOKUP('Midt 1.kl. -Klasse'!BK22,Ordets_Førstelyd_1b,G$3,FALSE)) | AY6: =IF(ISBLANK('Midt 1.kl. -Klasse'!BL22),"",VLOOKUP('Midt 1.kl. -Klasse'!BL22,Ordets_Førstelyd_1b,H$3,FALSE)) | AZ6: =IF(ISBLANK('Midt 1.kl. -Klasse'!BM22),"",VLOOKUP('Midt 1.kl. -Klasse'!BM22,Ordets_Førstelyd_1b,I$3,FALSE)) | BA6: =IF(ISBLANK('Midt 1.kl. -Klasse'!BN22),"",VLOOKUP('Midt 1.kl. -Klasse'!BN22,Ordets_Førstelyd_1b,J$3,FALSE)) | ... BG6: =IF(ISBLANK('Midt 1.kl. -Klasse'!BT22),"",VLOOKUP('Midt 1.kl. -Klasse'!BT22,Ordets_Førstelyd_1b,P$3,FALSE)) | BH6: =COUNTIF('Skole scoring'!B5:Y5,1) -> 0 | BI6: =COUNTIF('Skole scoring'!Z5:AR5,1) -> 0 | BJ6: =COUNTIF('Skole scoring'!AS5:BF5,1) -> 0 | BK6: =SUM(BH6:BJ6) -> 0 | CL6: 2 | CM6: p | CN6: o | CO6: k | CP6: rr | CQ6: a | CR6: m | CS6: l | CT6: t | CU6: l | CV6: t | CW6: g | CX6: k | CY6: u | CZ6: k | DA6: h | DB6: r | DC6: q | DD6: j | DE6: v | DF6: ng | DG6: v | DH6: v | DI6: e | DJ6: s
B7: ='Midt 1.kl. -Klasse'!B23 -> 0 | C7: =IF(ISBLANK('Midt 1.kl. -Klasse'!P23),"",VLOOKUP('Midt 1.kl. -Klasse'!P23,Naqinn_Nipaat_1b,C$3,FALSE)) | D7: =IF(ISBLANK('Midt 1.kl. -Klasse'!Q23),"",VLOOKUP('Midt 1.kl. -Klasse'!Q23,Naqinn_Nipaat_1b,D$3,FALSE)) | E7: =IF(ISBLANK('Midt 1.kl. -Klasse'!R23),"",VLOOKUP('Midt 1.kl. -Klasse'!R23,Naqinn_Nipaat_1b,E$3,FALSE)) | F7: =IF(ISBLANK('Midt 1.kl. -Klasse'!S23),"",VLOOKUP('Midt 1.kl. -Klasse'!S23,Naqinn_Nipaat_1b,F$3,FALSE)) | G7: =IF(ISBLANK('Midt 1.kl. -Klasse'!T23),"",VLOOKUP('Midt 1.kl. -Klasse'!T23,Naqinn_Nipaat_1b,G$3,FALSE)) | H7: =IF(ISBLANK('Midt 1.kl. -Klasse'!U23),"",VLOOKUP('Midt 1.kl. -Klasse'!U23,Naqinn_Nipaat_1b,H$3,FALSE)) | I7: =IF(ISBLANK('Midt 1.kl. -Klasse'!V23),"",VLOOKUP('Midt 1.kl. -Klasse'!V23,Naqinn_Nipaat_1b,I$3,FALSE)) | J7: =IF(ISBLANK('Midt 1.kl. -Klasse'!W23),"",VLOOKUP('Midt 1.kl. -Klasse'!W23,Naqinn_Nipaat_1b,J$3,FALSE)) | ... Z7: =IF(ISBLANK('Midt 1.kl. -Klasse'!AM23),"",VLOOKUP('Midt 1.kl. -Klasse'!AM23,Naqinn_Nipaat_1b,Z$3,FALSE)) | AA7: =IF(COUNTIF('Midt 1.kl. -Klasse'!AN23,5),"Ugyldig",(IF(ISBLANK('Midt 1.kl. -Klasse'!AN23),"",'Midt 1.kl. -Klasse'!AN23))) | AB7: =IF(COUNTIF('Midt 1.kl. -Klasse'!AO23,5),"Ugyldig",(IF(ISBLANK('Midt 1.kl. -Klasse'!AO23),"",'Midt 1.kl. -Klasse'!AO23))) | AC7: =IF(COUNTIF('Midt 1.kl. -Klasse'!AP23,5),"Ugyldig",(IF(ISBLANK('Midt 1.kl. -Klasse'!AP23),"",'Midt 1.kl. -Klasse'!AP23))) | AD7: =IF(COUNTIF('Midt 1.kl. -Klasse'!AQ23,5),"Ugyldig",(IF(ISBLANK('Midt 1.kl. -Klasse'!AQ23),"",'Midt 1.kl. -Klasse'!AQ23))) | AE7: =IF(COUNTIF('Midt 1.kl. -Klasse'!AR23,5),"Ugyldig",(IF(ISBLANK('Midt 1.kl. -Klasse'!AR23),"",'Midt 1.kl. -Klasse'!AR23))) | AF7: =IF(COUNTIF('Midt 1.kl. -Klasse'!AS23,5),"Ugyldig",(IF(ISBLANK('Midt 1.kl. -Klasse'!AS23),"",'Midt 1.kl. -Klasse'!AS23))) | AG7: =IF(COUNTIF('Midt 1.kl. -Klasse'!AT23,5),"Ugyldig",(IF(ISBLANK('Midt 1.kl. -Klasse'!AT23),"",'Midt 1.kl. -Klasse'!AT23))) | AH7: =IF(COUNTIF('Midt 1.kl. -Klasse'!AU23,5),"Ugyldig",(IF(ISBLANK('Midt 1.kl. -Klasse'!AU23),"",'Midt 1.kl. -Klasse'!AU23))) | ... AS7: =IF(COUNTIF('Midt 1.kl. -Klasse'!BF23,5),"Ugyldig",(IF(ISBLANK('Midt 1.kl. -Klasse'!BF23),"",'Midt 1.kl. -Klasse'!BF23))) | AT7: =IF(ISBLANK('Midt 1.kl. -Klasse'!BG23),"",VLOOKUP('Midt 1.kl. -Klasse'!BG23,Ordets_Førstelyd_1b,C$3,FALSE)) | AU7: =IF(ISBLANK('Midt 1.kl. -Klasse'!BH23),"",VLOOKUP('Midt 1.kl. -Klasse'!BH23,Ordets_Førstelyd_1b,D$3,FALSE)) | AV7: =IF(ISBLANK('Midt 1.kl. -Klasse'!BI23),"",VLOOKUP('Midt 1.kl. -Klasse'!BI23,Ordets_Førstelyd_1b,E$3,FALSE)) | AW7: =IF(ISBLANK('Midt 1.kl. -Klasse'!BJ23),"",VLOOKUP('Midt 1.kl. -Klasse'!BJ23,Ordets_Førstelyd_1b,F$3,FALSE)) | AX7: =IF(ISBLANK('Midt 1.kl. -Klasse'!BK23),"",VLOOKUP('Midt 1.kl. -Klasse'!BK23,Ordets_Førstelyd_1b,G$3,FALSE)) | AY7: =IF(ISBLANK('Midt 1.kl. -Klasse'!BL23),"",VLOOKUP('Midt 1.kl. -Klasse'!BL23,Ordets_Førstelyd_1b,H$3,FALSE)) | AZ7: =IF(ISBLANK('Midt 1.kl. -Klasse'!BM23),"",VLOOKUP('Midt 1.kl. -Klasse'!BM23,Ordets_Førstelyd_1b,I$3,FALSE)) | BA7: =IF(ISBLANK('Midt 1.kl. -Klasse'!BN23),"",VLOOKUP('Midt 1.kl. -Klasse'!BN23,Ordets_Førstelyd_1b,J$3,FALSE)) | ... BG7: =IF(ISBLANK('Midt 1.kl. -Klasse'!BT23),"",VLOOKUP('Midt 1.kl. -Klasse'!BT23,Ordets_Førstelyd_1b,P$3,FALSE)) | BH7: =COUNTIF('Skole scoring'!B6:Y6,1) -> 0 | BI7: =COUNTIF('Skole scoring'!Z6:AR6,1) -> 0 | BJ7: =COUNTIF('Skole scoring'!AS6:BF6,1) -> 0 | BK7: =SUM(BH7:BJ7) -> 0 | CL7: 3 | CM7: v | CN7: i | CO7: v | CP7: k | CQ7: i | CR7: k | CS7: n | CT7: s | CU7: s | CV7: l | CW7: h | CX7: j | CY7: q | CZ7: t | DA7: n | DB7: h | DC7: g | DD7: n | DE7: u | DF7: f | DG7: p | DH7: l | DI7: k | DJ7: t (d)
B8: ='Midt 1.kl. -Klasse'!B24 -> 0 | C8: =IF(ISBLANK('Midt 1.kl. -Klasse'!P24),"",VLOOKUP('Midt 1.kl. -Klasse'!P24,Naqinn_Nipaat_1b,C$3,FALSE)) | D8: =IF(ISBLANK('Midt 1.kl. -Klasse'!Q24),"",VLOOKUP('Midt 1.kl. -Klasse'!Q24,Naqinn_Nipaat_1b,D$3,FALSE)) | E8: =IF(ISBLANK('Midt 1.kl. -Klasse'!R24),"",VLOOKUP('Midt 1.kl. -Klasse'!R24,Naqinn_Nipaat_1b,E$3,FALSE)) | F8: =IF(ISBLANK('Midt 1.kl. -Klasse'!S24),"",VLOOKUP('Midt 1.kl. -Klasse'!S24,Naqinn_Nipaat_1b,F$3,FALSE)) | G8: =IF(ISBLANK('Midt 1.kl. -Klasse'!T24),"",VLOOKUP('Midt 1.kl. -Klasse'!T24,Naqinn_Nipaat_1b,G$3,FALSE)) | H8: =IF(ISBLANK('Midt 1.kl. -Klasse'!U24),"",VLOOKUP('Midt 1.kl. -Klasse'!U24,Naqinn_Nipaat_1b,H$3,FALSE)) | I8: =IF(ISBLANK('Midt 1.kl. -Klasse'!V24),"",VLOOKUP('Midt 1.kl. -Klasse'!V24,Naqinn_Nipaat_1b,I$3,FALSE)) | J8: =IF(ISBLANK('Midt 1.kl. -Klasse'!W24),"",VLOOKUP('Midt 1.kl. -Klasse'!W24,Naqinn_Nipaat_1b,J$3,FALSE)) | ... Z8: =IF(ISBLANK('Midt 1.kl. -Klasse'!AM24),"",VLOOKUP('Midt 1.kl. -Klasse'!AM24,Naqinn_Nipaat_1b,Z$3,FALSE)) | AA8: =IF(COUNTIF('Midt 1.kl. -Klasse'!AN24,5),"Ugyldig",(IF(ISBLANK('Midt 1.kl. -Klasse'!AN24),"",'Midt 1.kl. -Klasse'!AN24))) | AB8: =IF(COUNTIF('Midt 1.kl. -Klasse'!AO24,5),"Ugyldig",(IF(ISBLANK('Midt 1.kl. -Klasse'!AO24),"",'Midt 1.kl. -Klasse'!AO24))) | AC8: =IF(COUNTIF('Midt 1.kl. -Klasse'!AP24,5),"Ugyldig",(IF(ISBLANK('Midt 1.kl. -Klasse'!AP24),"",'Midt 1.kl. -Klasse'!AP24))) | AD8: =IF(COUNTIF('Midt 1.kl. -Klasse'!AQ24,5),"Ugyldig",(IF(ISBLANK('Midt 1.kl. -Klasse'!AQ24),"",'Midt 1.kl. -Klasse'!AQ24))) | AE8: =IF(COUNTIF('Midt 1.kl. -Klasse'!AR24,5),"Ugyldig",(IF(ISBLANK('Midt 1.kl. -Klasse'!AR24),"",'Midt 1.kl. -Klasse'!AR24))) | AF8: =IF(COUNTIF('Midt 1.kl. -Klasse'!AS24,5),"Ugyldig",(IF(ISBLANK('Midt 1.kl. -Klasse'!AS24),"",'Midt 1.kl. -Klasse'!AS24))) | AG8: =IF(COUNTIF('Midt 1.kl. -Klasse'!AT24,5),"Ugyldig",(IF(ISBLANK('Midt 1.kl. -Klasse'!AT24),"",'Midt 1.kl. -Klasse'!AT24))) | AH8: =IF(COUNTIF('Midt 1.kl. -Klasse'!AU24,5),"Ugyldig",(IF(ISBLANK('Midt 1.kl. -Klasse'!AU24),"",'Midt 1.kl. -Klasse'!AU24))) | ... AS8: =IF(COUNTIF('Midt 1.kl. -Klasse'!BF24,5),"Ugyldig",(IF(ISBLANK('Midt 1.kl. -Klasse'!BF24),"",'Midt 1.kl. -Klasse'!BF24))) | AT8: =IF(ISBLANK('Midt 1.kl. -Klasse'!BG24),"",VLOOKUP('Midt 1.kl. -Klasse'!BG24,Ordets_Førstelyd_1b,C$3,FALSE)) | AU8: =IF(ISBLANK('Midt 1.kl. -Klasse'!BH24),"",VLOOKUP('Midt 1.kl. -Klasse'!BH24,Ordets_Førstelyd_1b,D$3,FALSE)) | AV8: =IF(ISBLANK('Midt 1.kl. -Klasse'!BI24),"",VLOOKUP('Midt 1.kl. -Klasse'!BI24,Ordets_Førstelyd_1b,E$3,FALSE)) | AW8: =IF(ISBLANK('Midt 1.kl. -Klasse'!BJ24),"",VLOOKUP('Midt 1.kl. -Klasse'!BJ24,Ordets_Førstelyd_1b,F$3,FALSE)) | AX8: =IF(ISBLANK('Midt 1.kl. -Klasse'!BK24),"",VLOOKUP('Midt 1.kl. -Klasse'!BK24,Ordets_Førstelyd_1b,G$3,FALSE)) | AY8: =IF(ISBLANK('Midt 1.kl. -Klasse'!BL24),"",VLOOKUP('Midt 1.kl. -Klasse'!BL24,Ordets_Førstelyd_1b,H$3,FALSE)) | AZ8: =IF(ISBLANK('Midt 1.kl. -Klasse'!BM24),"",VLOOKUP('Midt 1.kl. -Klasse'!BM24,Ordets_Førstelyd_1b,I$3,FALSE)) | BA8: =IF(ISBLANK('Midt 1.kl. -Klasse'!BN24),"",VLOOKUP('Midt 1.kl. -Klasse'!BN24,Ordets_Førstelyd_1b,J$3,FALSE)) | ... BG8: =IF(ISBLANK('Midt 1.kl. -Klasse'!BT24),"",VLOOKUP('Midt 1.kl. -Klasse'!BT24,Ordets_Førstelyd_1b,P$3,FALSE)) | BH8: =COUNTIF('Skole scoring'!B7:Y7,1) -> 0 | BI8: =COUNTIF('Skole scoring'!Z7:AR7,1) -> 0 | BJ8: =COUNTIF('Skole scoring'!AS7:BF7,1) -> 0 | BK8: =SUM(BH8:BJ8) -> 0 | CL8: 4 | CM8: g | CN8: a | CO8: r | CP8: a | CQ8: o | CR8: gg | CS8: q | CT8: l | CU8: m | CV8: n | CW8: ng | CX8: i | CY8: a | CZ8: g | DA8: p | DB8: l | DC8: k | DD8: m | DE8: e | DF8: r | DG8: f | DH8: m | DI8: a | DJ8: f
B9: ='Midt 1.kl. -Klasse'!B25 -> 0 | C9: =IF(ISBLANK('Midt 1.kl. -Klasse'!P25),"",VLOOKUP('Midt 1.kl. -Klasse'!P25,Naqinn_Nipaat_1b,C$3,FALSE)) | D9: =IF(ISBLANK('Midt 1.kl. -Klasse'!Q25),"",VLOOKUP('Midt 1.kl. -Klasse'!Q25,Naqinn_Nipaat_1b,D$3,FALSE)) | E9: =IF(ISBLANK('Midt 1.kl. -Klasse'!R25),"",VLOOKUP('Midt 1.kl. -Klasse'!R25,Naqinn_Nipaat_1b,E$3,FALSE)) | F9: =IF(ISBLANK('Midt 1.kl. -Klasse'!S25),"",VLOOKUP('Midt 1.kl. -Klasse'!S25,Naqinn_Nipaat_1b,F$3,FALSE)) | G9: =IF(ISBLANK('Midt 1.kl. -Klasse'!T25),"",VLOOKUP('Midt 1.kl. -Klasse'!T25,Naqinn_Nipaat_1b,G$3,FALSE)) | H9: =IF(ISBLANK('Midt 1.kl. -Klasse'!U25),"",VLOOKUP('Midt 1.kl. -Klasse'!U25,Naqinn_Nipaat_1b,H$3,FALSE)) | I9: =IF(ISBLANK('Midt 1.kl. -Klasse'!V25),"",VLOOKUP('Midt 1.kl. -Klasse'!V25,Naqinn_Nipaat_1b,I$3,FALSE)) | J9: =IF(ISBLANK('Midt 1.kl. -Klasse'!W25),"",VLOOKUP('Midt 1.kl. -Klasse'!W25,Naqinn_Nipaat_1b,J$3,FALSE)) | ... Z9: =IF(ISBLANK('Midt 1.kl. -Klasse'!AM25),"",VLOOKUP('Midt 1.kl. -Klasse'!AM25,Naqinn_Nipaat_1b,Z$3,FALSE)) | AA9: =IF(COUNTIF('Midt 1.kl. -Klasse'!AN25,5),"Ugyldig",(IF(ISBLANK('Midt 1.kl. -Klasse'!AN25),"",'Midt 1.kl. -Klasse'!AN25))) | AB9: =IF(COUNTIF('Midt 1.kl. -Klasse'!AO25,5),"Ugyldig",(IF(ISBLANK('Midt 1.kl. -Klasse'!AO25),"",'Midt 1.kl. -Klasse'!AO25))) | AC9: =IF(COUNTIF('Midt 1.kl. -Klasse'!AP25,5),"Ugyldig",(IF(ISBLANK('Midt 1.kl. -Klasse'!AP25),"",'Midt 1.kl. -Klasse'!AP25))) | AD9: =IF(COUNTIF('Midt 1.kl. -Klasse'!AQ25,5),"Ugyldig",(IF(ISBLANK('Midt 1.kl. -Klasse'!AQ25),"",'Midt 1.kl. -Klasse'!AQ25))) | AE9: =IF(COUNTIF('Midt 1.kl. -Klasse'!AR25,5),"Ugyldig",(IF(ISBLANK('Midt 1.kl. -Klasse'!AR25),"",'Midt 1.kl. -Klasse'!AR25))) | AF9: =IF(COUNTIF('Midt 1.kl. -Klasse'!AS25,5),"Ugyldig",(IF(ISBLANK('Midt 1.kl. -Klasse'!AS25),"",'Midt 1.kl. -Klasse'!AS25))) | AG9: =IF(COUNTIF('Midt 1.kl. -Klasse'!AT25,5),"Ugyldig",(IF(ISBLANK('Midt 1.kl. -Klasse'!AT25),"",'Midt 1.kl. -Klasse'!AT25))) | AH9: =IF(COUNTIF('Midt 1.kl. -Klasse'!AU25,5),"Ugyldig",(IF(ISBLANK('Midt 1.kl. -Klasse'!AU25),"",'Midt 1.kl. -Klasse'!AU25))) | ... AS9: =IF(COUNTIF('Midt 1.kl. -Klasse'!BF25,5),"Ugyldig",(IF(ISBLANK('Midt 1.kl. -Klasse'!BF25),"",'Midt 1.kl. -Klasse'!BF25))) | AT9: =IF(ISBLANK('Midt 1.kl. -Klasse'!BG25),"",VLOOKUP('Midt 1.kl. -Klasse'!BG25,Ordets_Førstelyd_1b,C$3,FALSE)) | AU9: =IF(ISBLANK('Midt 1.kl. -Klasse'!BH25),"",VLOOKUP('Midt 1.kl. -Klasse'!BH25,Ordets_Førstelyd_1b,D$3,FALSE)) | AV9: =IF(ISBLANK('Midt 1.kl. -Klasse'!BI25),"",VLOOKUP('Midt 1.kl. -Klasse'!BI25,Ordets_Førstelyd_1b,E$3,FALSE)) | AW9: =IF(ISBLANK('Midt 1.kl. -Klasse'!BJ25),"",VLOOKUP('Midt 1.kl. -Klasse'!BJ25,Ordets_Førstelyd_1b,F$3,FALSE)) | AX9: =IF(ISBLANK('Midt 1.kl. -Klasse'!BK25),"",VLOOKUP('Midt 1.kl. -Klasse'!BK25,Ordets_Førstelyd_1b,G$3,FALSE)) | AY9: =IF(ISBLANK('Midt 1.kl. -Klasse'!BL25),"",VLOOKUP('Midt 1.kl. -Klasse'!BL25,Ordets_Førstelyd_1b,H$3,FALSE)) | AZ9: =IF(ISBLANK('Midt 1.kl. -Klasse'!BM25),"",VLOOKUP('Midt 1.kl. -Klasse'!BM25,Ordets_Førstelyd_1b,I$3,FALSE)) | BA9: =IF(ISBLANK('Midt 1.kl. -Klasse'!BN25),"",VLOOKUP('Midt 1.kl. -Klasse'!BN25,Ordets_Førstelyd_1b,J$3,FALSE)) | ... BG9: =IF(ISBLANK('Midt 1.kl. -Klasse'!BT25),"",VLOOKUP('Midt 1.kl. -Klasse'!BT25,Ordets_Førstelyd_1b,P$3,FALSE)) | BH9: =COUNTIF('Skole scoring'!B8:Y8,1) -> 0 | BI9: =COUNTIF('Skole scoring'!Z8:AR8,1) -> 0 | BJ9: =COUNTIF('Skole scoring'!AS8:BF8,1) -> 0 | BK9: =SUM(BH9:BJ9) -> 0 | CL9: 5 | CM9: Ugyldig | CN9: Ugyldig | CO9: Ugyldig | CP9: Ugyldig | CQ9: Ugyldig | CR9: Ugyldig | CS9: Ugyldig | CT9: Ugyldig | CU9: Ugyldig | CV9: Ugyldig | CW9: Ugyldig | CX9: Ugyldig | CY9: Ugyldig | CZ9: Ugyldig | DA9: Ugyldig | DB9: Ugyldig | DC9: Ugyldig | DD9: Ugyldig | DE9: Ugyldig | DF9: Ugyldig | DG9: Ugyldig | DH9: Ugyldig | DI9: Ugyldig | DJ9: Ugyldig
B10: ='Midt 1.kl. -Klasse'!B26 -> 0 | C10: =IF(ISBLANK('Midt 1.kl. -Klasse'!P26),"",VLOOKUP('Midt 1.kl. -Klasse'!P26,Naqinn_Nipaat_1b,C$3,FALSE)) | D10: =IF(ISBLANK('Midt 1.kl. -Klasse'!Q26),"",VLOOKUP('Midt 1.kl. -Klasse'!Q26,Naqinn_Nipaat_1b,D$3,FALSE)) | E10: =IF(ISBLANK('Midt 1.kl. -Klasse'!R26),"",VLOOKUP('Midt 1.kl. -Klasse'!R26,Naqinn_Nipaat_1b,E$3,FALSE)) | F10: =IF(ISBLANK('Midt 1.kl. -Klasse'!S26),"",VLOOKUP('Midt 1.kl. -Klasse'!S26,Naqinn_Nipaat_1b,F$3,FALSE)) | G10: =IF(ISBLANK('Midt 1.kl. -Klasse'!T26),"",VLOOKUP('Midt 1.kl. -Klasse'!T26,Naqinn_Nipaat_1b,G$3,FALSE)) | H10: =IF(ISBLANK('Midt 1.kl. -Klasse'!U26),"",VLOOKUP('Midt 1.kl. -Klasse'!U26,Naqinn_Nipaat_1b,H$3,FALSE)) | I10: =IF(ISBLANK('Midt 1.kl. -Klasse'!V26),"",VLOOKUP('Midt 1.kl. -Klasse'!V26,Naqinn_Nipaat_1b,I$3,FALSE)) | J10: =IF(ISBLANK('Midt 1.kl. -Klasse'!W26),"",VLOOKUP('Midt 1.kl. -Klasse'!W26,Naqinn_Nipaat_1b,J$3,FALSE)) | ... Z10: =IF(ISBLANK('Midt 1.kl. -Klasse'!AM26),"",VLOOKUP('Midt 1.kl. -Klasse'!AM26,Naqinn_Nipaat_1b,Z$3,FALSE)) | AA10: =IF(COUNTIF('Midt 1.kl. -Klasse'!AN26,5),"Ugyldig",(IF(ISBLANK('Midt 1.kl. -Klasse'!AN26),"",'Midt 1.kl. -Klasse'!AN26))) | AB10: =IF(COUNTIF('Midt 1.kl. -Klasse'!AO26,5),"Ugyldig",(IF(ISBLANK('Midt 1.kl. -Klasse'!AO26),"",'Midt 1.kl. -Klasse'!AO26))) | AC10: =IF(COUNTIF('Midt 1.kl. -Klasse'!AP26,5),"Ugyldig",(IF(ISBLANK('Midt 1.kl. -Klasse'!AP26),"",'Midt 1.kl. -Klasse'!AP26))) | AD10: =IF(COUNTIF('Midt 1.kl. -Klasse'!AQ26,5),"Ugyldig",(IF(ISBLANK('Midt 1.kl. -Klasse'!AQ26),"",'Midt 1.kl. -Klasse'!AQ26))) | AE10: =IF(COUNTIF('Midt 1.kl. -Klasse'!AR26,5),"Ugyldig",(IF(ISBLANK('Midt 1.kl. -Klasse'!AR26),"",'Midt 1.kl. -Klasse'!AR26))) | AF10: =IF(COUNTIF('Midt 1.kl. -Klasse'!AS26,5),"Ugyldig",(IF(ISBLANK('Midt 1.kl. -Klasse'!AS26),"",'Midt 1.kl. -Klasse'!AS26))) | AG10: =IF(COUNTIF('Midt 1.kl. -Klasse'!AT26,5),"Ugyldig",(IF(ISBLANK('Midt 1.kl. -Klasse'!AT26),"",'Midt 1.kl. -Klasse'!AT26))) | AH10: =IF(COUNTIF('Midt 1.kl. -Klasse'!AU26,5),"Ugyldig",(IF(ISBLANK('Midt 1.kl. -Klasse'!AU26),"",'Midt 1.kl. -Klasse'!AU26))) | ... AS10: =IF(COUNTIF('Midt 1.kl. -Klasse'!BF26,5),"Ugyldig",(IF(ISBLANK('Midt 1.kl. -Klasse'!BF26),"",'Midt 1.kl. -Klasse'!BF26))) | AT10: =IF(ISBLANK('Midt 1.kl. -Klasse'!BG26),"",VLOOKUP('Midt 1.kl. -Klasse'!BG26,Ordets_Førstelyd_1b,C$3,FALSE)) | AU10: =IF(ISBLANK('Midt 1.kl. -Klasse'!BH26),"",VLOOKUP('Midt 1.kl. -Klasse'!BH26,Ordets_Førstelyd_1b,D$3,FALSE)) | AV10: =IF(ISBLANK('Midt 1.kl. -Klasse'!BI26),"",VLOOKUP('Midt 1.kl. -Klasse'!BI26,Ordets_Førstelyd_1b,E$3,FALSE)) | AW10: =IF(ISBLANK('Midt 1.kl. -Klasse'!BJ26),"",VLOOKUP('Midt 1.kl. -Klasse'!BJ26,Ordets_Førstelyd_1b,F$3,FALSE)) | AX10: =IF(ISBLANK('Midt 1.kl. -Klasse'!BK26),"",VLOOKUP('Midt 1.kl. -Klasse'!BK26,Ordets_Førstelyd_1b,G$3,FALSE)) | AY10: =IF(ISBLANK('Midt 1.kl. -Klasse'!BL26),"",VLOOKUP('Midt 1.kl. -Klasse'!BL26,Ordets_Førstelyd_1b,H$3,FALSE)) | AZ10: =IF(ISBLANK('Midt 1.kl. -Klasse'!BM26),"",VLOOKUP('Midt 1.kl. -Klasse'!BM26,Ordets_Førstelyd_1b,I$3,FALSE)) | BA10: =IF(ISBLANK('Midt 1.kl. -Klasse'!BN26),"",VLOOKUP('Midt 1.kl. -Klasse'!BN26,Ordets_Førstelyd_1b,J$3,FALSE)) | ... BG10: =IF(ISBLANK('Midt 1.kl. -Klasse'!BT26),"",VLOOKUP('Midt 1.kl. -Klasse'!BT26,Ordets_Førstelyd_1b,P$3,FALSE)) | BH10: =COUNTIF('Skole scoring'!B9:Y9,1) -> 0 | BI10: =COUNTIF('Skole scoring'!Z9:AR9,1) -> 0 | BJ10: =COUNTIF('Skole scoring'!AS9:BF9,1) -> 0 | BK10: =SUM(BH10:BJ10) -> 0
B11: ='Midt 1.kl. -Klasse'!B27 -> 0 | C11: =IF(ISBLANK('Midt 1.kl. -Klasse'!P27),"",VLOOKUP('Midt 1.kl. -Klasse'!P27,Naqinn_Nipaat_1b,C$3,FALSE)) | D11: =IF(ISBLANK('Midt 1.kl. -Klasse'!Q27),"",VLOOKUP('Midt 1.kl. -Klasse'!Q27,Naqinn_Nipaat_1b,D$3,FALSE)) | E11: =IF(ISBLANK('Midt 1.kl. -Klasse'!R27),"",VLOOKUP('Midt 1.kl. -Klasse'!R27,Naqinn_Nipaat_1b,E$3,FALSE)) | F11: =IF(ISBLANK('Midt 1.kl. -Klasse'!S27),"",VLOOKUP('Midt 1.kl. -Klasse'!S27,Naqinn_Nipaat_1b,F$3,FALSE)) | G11: =IF(ISBLANK('Midt 1.kl. -Klasse'!T27),"",VLOOKUP('Midt 1.kl. -Klasse'!T27,Naqinn_Nipaat_1b,G$3,FALSE)) | H11: =IF(ISBLANK('Midt 1.kl. -Klasse'!U27),"",VLOOKUP('Midt 1.kl. -Klasse'!U27,Naqinn_Nipaat_1b,H$3,FALSE)) | I11: =IF(ISBLANK('Midt 1.kl. -Klasse'!V27),"",VLOOKUP('Midt 1.kl. -Klasse'!V27,Naqinn_Nipaat_1b,I$3,FALSE)) | J11: =IF(ISBLANK('Midt 1.kl. -Klasse'!W27),"",VLOOKUP('Midt 1.kl. -Klasse'!W27,Naqinn_Nipaat_1b,J$3,FALSE)) | ... Z11: =IF(ISBLANK('Midt 1.kl. -Klasse'!AM27),"",VLOOKUP('Midt 1.kl. -Klasse'!AM27,Naqinn_Nipaat_1b,Z$3,FALSE)) | AA11: =IF(COUNTIF('Midt 1.kl. -Klasse'!AN27,5),"Ugyldig",(IF(ISBLANK('Midt 1.kl. -Klasse'!AN27),"",'Midt 1.kl. -Klasse'!AN27))) | AB11: =IF(COUNTIF('Midt 1.kl. -Klasse'!AO27,5),"Ugyldig",(IF(ISBLANK('Midt 1.kl. -Klasse'!AO27),"",'Midt 1.kl. -Klasse'!AO27))) | AC11: =IF(COUNTIF('Midt 1.kl. -Klasse'!AP27,5),"Ugyldig",(IF(ISBLANK('Midt 1.kl. -Klasse'!AP27),"",'Midt 1.kl. -Klasse'!AP27))) | AD11: =IF(COUNTIF('Midt 1.kl. -Klasse'!AQ27,5),"Ugyldig",(IF(ISBLANK('Midt 1.kl. -Klasse'!AQ27),"",'Midt 1.kl. -Klasse'!AQ27))) | AE11: =IF(COUNTIF('Midt 1.kl. -Klasse'!AR27,5),"Ugyldig",(IF(ISBLANK('Midt 1.kl. -Klasse'!AR27),"",'Midt 1.kl. -Klasse'!AR27))) | AF11: =IF(COUNTIF('Midt 1.kl. -Klasse'!AS27,5),"Ugyldig",(IF(ISBLANK('Midt 1.kl. -Klasse'!AS27),"",'Midt 1.kl. -Klasse'!AS27))) | AG11: =IF(COUNTIF('Midt 1.kl. -Klasse'!AT27,5),"Ugyldig",(IF(ISBLANK('Midt 1.kl. -Klasse'!AT27),"",'Midt 1.kl. -Klasse'!AT27))) | AH11: =IF(COUNTIF('Midt 1.kl. -Klasse'!AU27,5),"Ugyldig",(IF(ISBLANK('Midt 1.kl. -Klasse'!AU27),"",'Midt 1.kl. -Klasse'!AU27))) | ... AS11: =IF(COUNTIF('Midt 1.kl. -Klasse'!BF27,5),"Ugyldig",(IF(ISBLANK('Midt 1.kl. -Klasse'!BF27),"",'Midt 1.kl. -Klasse'!BF27))) | AT11: =IF(ISBLANK('Midt 1.kl. -Klasse'!BG27),"",VLOOKUP('Midt 1.kl. -Klasse'!BG27,Ordets_Førstelyd_1b,C$3,FALSE)) | AU11: =IF(ISBLANK('Midt 1.kl. -Klasse'!BH27),"",VLOOKUP('Midt 1.kl. -Klasse'!BH27,Ordets_Førstelyd_1b,D$3,FALSE)) | AV11: =IF(ISBLANK('Midt 1.kl. -Klasse'!BI27),"",VLOOKUP('Midt 1.kl. -Klasse'!BI27,Ordets_Førstelyd_1b,E$3,FALSE)) | AW11: =IF(ISBLANK('Midt 1.kl. -Klasse'!BJ27),"",VLOOKUP('Midt 1.kl. -Klasse'!BJ27,Ordets_Førstelyd_1b,F$3,FALSE)) | AX11: =IF(ISBLANK('Midt 1.kl. -Klasse'!BK27),"",VLOOKUP('Midt 1.kl. -Klasse'!BK27,Ordets_Førstelyd_1b,G$3,FALSE)) | AY11: =IF(ISBLANK('Midt 1.kl. -Klasse'!BL27),"",VLOOKUP('Midt 1.kl. -Klasse'!BL27,Ordets_Førstelyd_1b,H$3,FALSE)) | AZ11: =IF(ISBLANK('Midt 1.kl. -Klasse'!BM27),"",VLOOKUP('Midt 1.kl. -Klasse'!BM27,Ordets_Førstelyd_1b,I$3,FALSE)) | BA11: =IF(ISBLANK('Midt 1.kl. -Klasse'!BN27),"",VLOOKUP('Midt 1.kl. -Klasse'!BN27,Ordets_Førstelyd_1b,J$3,FALSE)) | ... BG11: =IF(ISBLANK('Midt 1.kl. -Klasse'!BT27),"",VLOOKUP('Midt 1.kl. -Klasse'!BT27,Ordets_Førstelyd_1b,P$3,FALSE)) | BH11: =COUNTIF('Skole scoring'!B10:Y10,1) -> 0 | BI11: =COUNTIF('Skole scoring'!Z10:AR10,1) -> 0 | BJ11: =COUNTIF('Skole scoring'!AS10:BF10,1) -> 0 | BK11: =SUM(BH11:BJ11) -> 0
B12: ='Midt 1.kl. -Klasse'!B28 -> 0 | C12: =IF(ISBLANK('Midt 1.kl. -Klasse'!P28),"",VLOOKUP('Midt 1.kl. -Klasse'!P28,Naqinn_Nipaat_1b,C$3,FALSE)) | D12: =IF(ISBLANK('Midt 1.kl. -Klasse'!Q28),"",VLOOKUP('Midt 1.kl. -Klasse'!Q28,Naqinn_Nipaat_1b,D$3,FALSE)) | E12: =IF(ISBLANK('Midt 1.kl. -Klasse'!R28),"",VLOOKUP('Midt 1.kl. -Klasse'!R28,Naqinn_Nipaat_1b,E$3,FALSE)) | F12: =IF(ISBLANK('Midt 1.kl. -Klasse'!S28),"",VLOOKUP('Midt 1.kl. -Klasse'!S28,Naqinn_Nipaat_1b,F$3,FALSE)) | G12: =IF(ISBLANK('Midt 1.kl. -Klasse'!T28),"",VLOOKUP('Midt 1.kl. -Klasse'!T28,Naqinn_Nipaat_1b,G$3,FALSE)) | H12: =IF(ISBLANK('Midt 1.kl. -Klasse'!U28),"",VLOOKUP('Midt 1.kl. -Klasse'!U28,Naqinn_Nipaat_1b,H$3,FALSE)) | I12: =IF(ISBLANK('Midt 1.kl. -Klasse'!V28),"",VLOOKUP('Midt 1.kl. -Klasse'!V28,Naqinn_Nipaat_1b,I$3,FALSE)) | J12: =IF(ISBLANK('Midt 1.kl. -Klasse'!W28),"",VLOOKUP('Midt 1.kl. -Klasse'!W28,Naqinn_Nipaat_1b,J$3,FALSE)) | ... Z12: =IF(ISBLANK('Midt 1.kl. -Klasse'!AM28),"",VLOOKUP('Midt 1.kl. -Klasse'!AM28,Naqinn_Nipaat_1b,Z$3,FALSE)) | AA12: =IF(COUNTIF('Midt 1.kl. -Klasse'!AN28,5),"Ugyldig",(IF(ISBLANK('Midt 1.kl. -Klasse'!AN28),"",'Midt 1.kl. -Klasse'!AN28))) | AB12: =IF(COUNTIF('Midt 1.kl. -Klasse'!AO28,5),"Ugyldig",(IF(ISBLANK('Midt 1.kl. -Klasse'!AO28),"",'Midt 1.kl. -Klasse'!AO28))) | AC12: =IF(COUNTIF('Midt 1.kl. -Klasse'!AP28,5),"Ugyldig",(IF(ISBLANK('Midt 1.kl. -Klasse'!AP28),"",'Midt 1.kl. -Klasse'!AP28))) | AD12: =IF(COUNTIF('Midt 1.kl. -Klasse'!AQ28,5),"Ugyldig",(IF(ISBLANK('Midt 1.kl. -Klasse'!AQ28),"",'Midt 1.kl. -Klasse'!AQ28))) | AE12: =IF(COUNTIF('Midt 1.kl. -Klasse'!AR28,5),"Ugyldig",(IF(ISBLANK('Midt 1.kl. -Klasse'!AR28),"",'Midt 1.kl. -Klasse'!AR28))) | AF12: =IF(COUNTIF('Midt 1.kl. -Klasse'!AS28,5),"Ugyldig",(IF(ISBLANK('Midt 1.kl. -Klasse'!AS28),"",'Midt 1.kl. -Klasse'!AS28))) | AG12: =IF(COUNTIF('Midt 1.kl. -Klasse'!AT28,5),"Ugyldig",(IF(ISBLANK('Midt 1.kl. -Klasse'!AT28),"",'Midt 1.kl. -Klasse'!AT28))) | AH12: =IF(COUNTIF('Midt 1.kl. -Klasse'!AU28,5),"Ugyldig",(IF(ISBLANK('Midt 1.kl. -Klasse'!AU28),"",'Midt 1.kl. -Klasse'!AU28))) | ... AS12: =IF(COUNTIF('Midt 1.kl. -Klasse'!BF28,5),"Ugyldig",(IF(ISBLANK('Midt 1.kl. -Klasse'!BF28),"",'Midt 1.kl. -Klasse'!BF28))) | AT12: =IF(ISBLANK('Midt 1.kl. -Klasse'!BG28),"",VLOOKUP('Midt 1.kl. -Klasse'!BG28,Ordets_Førstelyd_1b,C$3,FALSE)) | AU12: =IF(ISBLANK('Midt 1.kl. -Klasse'!BH28),"",VLOOKUP('Midt 1.kl. -Klasse'!BH28,Ordets_Førstelyd_1b,D$3,FALSE)) | AV12: =IF(ISBLANK('Midt 1.kl. -Klasse'!BI28),"",VLOOKUP('Midt 1.kl. -Klasse'!BI28,Ordets_Førstelyd_1b,E$3,FALSE)) | AW12: =IF(ISBLANK('Midt 1.kl. -Klasse'!BJ28),"",VLOOKUP('Midt 1.kl. -Klasse'!BJ28,Ordets_Førstelyd_1b,F$3,FALSE)) | AX12: =IF(ISBLANK('Midt 1.kl. -Klasse'!BK28),"",VLOOKUP('Midt 1.kl. -Klasse'!BK28,Ordets_Førstelyd_1b,G$3,FALSE)) | AY12: =IF(ISBLANK('Midt 1.kl. -Klasse'!BL28),"",VLOOKUP('Midt 1.kl. -Klasse'!BL28,Ordets_Førstelyd_1b,H$3,FALSE)) | AZ12: =IF(ISBLANK('Midt 1.kl. -Klasse'!BM28),"",VLOOKUP('Midt 1.kl. -Klasse'!BM28,Ordets_Førstelyd_1b,I$3,FALSE)) | BA12: =IF(ISBLANK('Midt 1.kl. -Klasse'!BN28),"",VLOOKUP('Midt 1.kl. -Klasse'!BN28,Ordets_Førstelyd_1b,J$3,FALSE)) | ... BG12: =IF(ISBLANK('Midt 1.kl. -Klasse'!BT28),"",VLOOKUP('Midt 1.kl. -Klasse'!BT28,Ordets_Førstelyd_1b,P$3,FALSE)) | BH12: =COUNTIF('Skole scoring'!B11:Y11,1) -> 0 | BI12: =COUNTIF('Skole scoring'!Z11:AR11,1) -> 0 | BJ12: =COUNTIF('Skole scoring'!AS11:BF11,1) -> 0 | BK12: =SUM(BH12:BJ12) -> 0 | CM12: Ordets_Førstelyd
B13: ='Midt 1.kl. -Klasse'!B29 -> 0 | C13: =IF(ISBLANK('Midt 1.kl. -Klasse'!P29),"",VLOOKUP('Midt 1.kl. -Klasse'!P29,Naqinn_Nipaat_1b,C$3,FALSE)) | D13: =IF(ISBLANK('Midt 1.kl. -Klasse'!Q29),"",VLOOKUP('Midt 1.kl. -Klasse'!Q29,Naqinn_Nipaat_1b,D$3,FALSE)) | E13: =IF(ISBLANK('Midt 1.kl. -Klasse'!R29),"",VLOOKUP('Midt 1.kl. -Klasse'!R29,Naqinn_Nipaat_1b,E$3,FALSE)) | F13: =IF(ISBLANK('Midt 1.kl. -Klasse'!S29),"",VLOOKUP('Midt 1.kl. -Klasse'!S29,Naqinn_Nipaat_1b,F$3,FALSE)) | G13: =IF(ISBLANK('Midt 1.kl. -Klasse'!T29),"",VLOOKUP('Midt 1.kl. -Klasse'!T29,Naqinn_Nipaat_1b,G$3,FALSE)) | H13: =IF(ISBLANK('Midt 1.kl. -Klasse'!U29),"",VLOOKUP('Midt 1.kl. -Klasse'!U29,Naqinn_Nipaat_1b,H$3,FALSE)) | I13: =IF(ISBLANK('Midt 1.kl. -Klasse'!V29),"",VLOOKUP('Midt 1.kl. -Klasse'!V29,Naqinn_Nipaat_1b,I$3,FALSE)) | J13: =IF(ISBLANK('Midt 1.kl. -Klasse'!W29),"",VLOOKUP('Midt 1.kl. -Klasse'!W29,Naqinn_Nipaat_1b,J$3,FALSE)) | ... Z13: =IF(ISBLANK('Midt 1.kl. -Klasse'!AM29),"",VLOOKUP('Midt 1.kl. -Klasse'!AM29,Naqinn_Nipaat_1b,Z$3,FALSE)) | AA13: =IF(COUNTIF('Midt 1.kl. -Klasse'!AN29,5),"Ugyldig",(IF(ISBLANK('Midt 1.kl. -Klasse'!AN29),"",'Midt 1.kl. -Klasse'!AN29))) | AB13: =IF(COUNTIF('Midt 1.kl. -Klasse'!AO29,5),"Ugyldig",(IF(ISBLANK('Midt 1.kl. -Klasse'!AO29),"",'Midt 1.kl. -Klasse'!AO29))) | AC13: =IF(COUNTIF('Midt 1.kl. -Klasse'!AP29,5),"Ugyldig",(IF(ISBLANK('Midt 1.kl. -Klasse'!AP29),"",'Midt 1.kl. -Klasse'!AP29))) | AD13: =IF(COUNTIF('Midt 1.kl. -Klasse'!AQ29,5),"Ugyldig",(IF(ISBLANK('Midt 1.kl. -Klasse'!AQ29),"",'Midt 1.kl. -Klasse'!AQ29))) | AE13: =IF(COUNTIF('Midt 1.kl. -Klasse'!AR29,5),"Ugyldig",(IF(ISBLANK('Midt 1.kl. -Klasse'!AR29),"",'Midt 1.kl. -Klasse'!AR29))) | AF13: =IF(COUNTIF('Midt 1.kl. -Klasse'!AS29,5),"Ugyldig",(IF(ISBLANK('Midt 1.kl. -Klasse'!AS29),"",'Midt 1.kl. -Klasse'!AS29))) | AG13: =IF(COUNTIF('Midt 1.kl. -Klasse'!AT29,5),"Ugyldig",(IF(ISBLANK('Midt 1.kl. -Klasse'!AT29),"",'Midt 1.kl. -Klasse'!AT29))) | AH13: =IF(COUNTIF('Midt 1.kl. -Klasse'!AU29,5),"Ugyldig",(IF(ISBLANK('Midt 1.kl. -Klasse'!AU29),"",'Midt 1.kl. -Klasse'!AU29))) | ... AS13: =IF(COUNTIF('Midt 1.kl. -Klasse'!BF29,5),"Ugyldig",(IF(ISBLANK('Midt 1.kl. -Klasse'!BF29),"",'Midt 1.kl. -Klasse'!BF29))) | AT13: =IF(ISBLANK('Midt 1.kl. -Klasse'!BG29),"",VLOOKUP('Midt 1.kl. -Klasse'!BG29,Ordets_Førstelyd_1b,C$3,FALSE)) | AU13: =IF(ISBLANK('Midt 1.kl. -Klasse'!BH29),"",VLOOKUP('Midt 1.kl. -Klasse'!BH29,Ordets_Førstelyd_1b,D$3,FALSE)) | AV13: =IF(ISBLANK('Midt 1.kl. -Klasse'!BI29),"",VLOOKUP('Midt 1.kl. -Klasse'!BI29,Ordets_Førstelyd_1b,E$3,FALSE)) | AW13: =IF(ISBLANK('Midt 1.kl. -Klasse'!BJ29),"",VLOOKUP('Midt 1.kl. -Klasse'!BJ29,Ordets_Førstelyd_1b,F$3,FALSE)) | AX13: =IF(ISBLANK('Midt 1.kl. -Klasse'!BK29),"",VLOOKUP('Midt 1.kl. -Klasse'!BK29,Ordets_Førstelyd_1b,G$3,FALSE)) | AY13: =IF(ISBLANK('Midt 1.kl. -Klasse'!BL29),"",VLOOKUP('Midt 1.kl. -Klasse'!BL29,Ordets_Førstelyd_1b,H$3,FALSE)) | AZ13: =IF(ISBLANK('Midt 1.kl. -Klasse'!BM29),"",VLOOKUP('Midt 1.kl. -Klasse'!BM29,Ordets_Førstelyd_1b,I$3,FALSE)) | BA13: =IF(ISBLANK('Midt 1.kl. -Klasse'!BN29),"",VLOOKUP('Midt 1.kl. -Klasse'!BN29,Ordets_Førstelyd_1b,J$3,FALSE)) | ... BG13: =IF(ISBLANK('Midt 1.kl. -Klasse'!BT29),"",VLOOKUP('Midt 1.kl. -Klasse'!BT29,Ordets_Førstelyd_1b,P$3,FALSE)) | BH13: =COUNTIF('Skole scoring'!B12:Y12,1) -> 0 | BI13: =COUNTIF('Skole scoring'!Z12:AR12,1) -> 0 | BJ13: =COUNTIF('Skole scoring'!AS12:BF12,1) -> 0 | BK13: =SUM(BH13:BJ13) -> 0 | CL13: 1 | CM13: Qisuk | CN13: Atuagaq | CO13: Illu | CP13: Umimmak | CQ13: Ukaleq | CR13: Aqerluusaq | CS13: Timmisartoq | CT13: Isigak | CU13: Seqineq | CV13: Iipili | CW13: Errorsivik | CX13: Aalisangaq | CY13: Naasoq | CZ13: Tiitorfik
B14: ='Midt 1.kl. -Klasse'!B30 -> 0 | C14: =IF(ISBLANK('Midt 1.kl. -Klasse'!P30),"",VLOOKUP('Midt 1.kl. -Klasse'!P30,Naqinn_Nipaat_1b,C$3,FALSE)) | D14: =IF(ISBLANK('Midt 1.kl. -Klasse'!Q30),"",VLOOKUP('Midt 1.kl. -Klasse'!Q30,Naqinn_Nipaat_1b,D$3,FALSE)) | E14: =IF(ISBLANK('Midt 1.kl. -Klasse'!R30),"",VLOOKUP('Midt 1.kl. -Klasse'!R30,Naqinn_Nipaat_1b,E$3,FALSE)) | F14: =IF(ISBLANK('Midt 1.kl. -Klasse'!S30),"",VLOOKUP('Midt 1.kl. -Klasse'!S30,Naqinn_Nipaat_1b,F$3,FALSE)) | G14: =IF(ISBLANK('Midt 1.kl. -Klasse'!T30),"",VLOOKUP('Midt 1.kl. -Klasse'!T30,Naqinn_Nipaat_1b,G$3,FALSE)) | H14: =IF(ISBLANK('Midt 1.kl. -Klasse'!U30),"",VLOOKUP('Midt 1.kl. -Klasse'!U30,Naqinn_Nipaat_1b,H$3,FALSE)) | I14: =IF(ISBLANK('Midt 1.kl. -Klasse'!V30),"",VLOOKUP('Midt 1.kl. -Klasse'!V30,Naqinn_Nipaat_1b,I$3,FALSE)) | J14: =IF(ISBLANK('Midt 1.kl. -Klasse'!W30),"",VLOOKUP('Midt 1.kl. -Klasse'!W30,Naqinn_Nipaat_1b,J$3,FALSE)) | ... Z14: =IF(ISBLANK('Midt 1.kl. -Klasse'!AM30),"",VLOOKUP('Midt 1.kl. -Klasse'!AM30,Naqinn_Nipaat_1b,Z$3,FALSE)) | AA14: =IF(COUNTIF('Midt 1.kl. -Klasse'!AN30,5),"Ugyldig",(IF(ISBLANK('Midt 1.kl. -Klasse'!AN30),"",'Midt 1.kl. -Klasse'!AN30))) | AB14: =IF(COUNTIF('Midt 1.kl. -Klasse'!AO30,5),"Ugyldig",(IF(ISBLANK('Midt 1.kl. -Klasse'!AO30),"",'Midt 1.kl. -Klasse'!AO30))) | AC14: =IF(COUNTIF('Midt 1.kl. -Klasse'!AP30,5),"Ugyldig",(IF(ISBLANK('Midt 1.kl. -Klasse'!AP30),"",'Midt 1.kl. -Klasse'!AP30))) | AD14: =IF(COUNTIF('Midt 1.kl. -Klasse'!AQ30,5),"Ugyldig",(IF(ISBLANK('Midt 1.kl. -Klasse'!AQ30),"",'Midt 1.kl. -Klasse'!AQ30))) | AE14: =IF(COUNTIF('Midt 1.kl. -Klasse'!AR30,5),"Ugyldig",(IF(ISBLANK('Midt 1.kl. -Klasse'!AR30),"",'Midt 1.kl. -Klasse'!AR30))) | AF14: =IF(COUNTIF('Midt 1.kl. -Klasse'!AS30,5),"Ugyldig",(IF(ISBLANK('Midt 1.kl. -Klasse'!AS30),"",'Midt 1.kl. -Klasse'!AS30))) | AG14: =IF(COUNTIF('Midt 1.kl. -Klasse'!AT30,5),"Ugyldig",(IF(ISBLANK('Midt 1.kl. -Klasse'!AT30),"",'Midt 1.kl. -Klasse'!AT30))) | AH14: =IF(COUNTIF('Midt 1.kl. -Klasse'!AU30,5),"Ugyldig",(IF(ISBLANK('Midt 1.kl. -Klasse'!AU30),"",'Midt 1.kl. -Klasse'!AU30))) | ... AS14: =IF(COUNTIF('Midt 1.kl. -Klasse'!BF30,5),"Ugyldig",(IF(ISBLANK('Midt 1.kl. -Klasse'!BF30),"",'Midt 1.kl. -Klasse'!BF30))) | AT14: =IF(ISBLANK('Midt 1.kl. -Klasse'!BG30),"",VLOOKUP('Midt 1.kl. -Klasse'!BG30,Ordets_Førstelyd_1b,C$3,FALSE)) | AU14: =IF(ISBLANK('Midt 1.kl. -Klasse'!BH30),"",VLOOKUP('Midt 1.kl. -Klasse'!BH30,Ordets_Førstelyd_1b,D$3,FALSE)) | AV14: =IF(ISBLANK('Midt 1.kl. -Klasse'!BI30),"",VLOOKUP('Midt 1.kl. -Klasse'!BI30,Ordets_Førstelyd_1b,E$3,FALSE)) | AW14: =IF(ISBLANK('Midt 1.kl. -Klasse'!BJ30),"",VLOOKUP('Midt 1.kl. -Klasse'!BJ30,Ordets_Førstelyd_1b,F$3,FALSE)) | AX14: =IF(ISBLANK('Midt 1.kl. -Klasse'!BK30),"",VLOOKUP('Midt 1.kl. -Klasse'!BK30,Ordets_Førstelyd_1b,G$3,FALSE)) | AY14: =IF(ISBLANK('Midt 1.kl. -Klasse'!BL30),"",VLOOKUP('Midt 1.kl. -Klasse'!BL30,Ordets_Førstelyd_1b,H$3,FALSE)) | AZ14: =IF(ISBLANK('Midt 1.kl. -Klasse'!BM30),"",VLOOKUP('Midt 1.kl. -Klasse'!BM30,Ordets_Førstelyd_1b,I$3,FALSE)) | BA14: =IF(ISBLANK('Midt 1.kl. -Klasse'!BN30),"",VLOOKUP('Midt 1.kl. -Klasse'!BN30,Ordets_Førstelyd_1b,J$3,FALSE)) | ... BG14: =IF(ISBLANK('Midt 1.kl. -Klasse'!BT30),"",VLOOKUP('Midt 1.kl. -Klasse'!BT30,Ordets_Førstelyd_1b,P$3,FALSE)) | BH14: =COUNTIF('Skole scoring'!B13:Y13,1) -> 0 | BI14: =COUNTIF('Skole scoring'!Z13:AR13,1) -> 0 | BJ14: =COUNTIF('Skole scoring'!AS13:BF13,1) -> 0 | BK14: =SUM(BH14:BJ14) -> 0 | CL14: 2 | CM14: Kaagi | CN14: Puugutaq | CO14: Agiaq | CP14: Tuttu | CQ14: Oqaq | CR14: Inuusaq | CS14: Pujortuleeraq | CT14: Alerseq | CU14: Nivaataq | CV14: Arsaq | CW14: Fjernsyni | CX14: Kaataq | CY14: Orpik | CZ14: Ajassaat
B15: ='Midt 1.kl. -Klasse'!B31 -> 0 | C15: =IF(ISBLANK('Midt 1.kl. -Klasse'!P31),"",VLOOKUP('Midt 1.kl. -Klasse'!P31,Naqinn_Nipaat_1b,C$3,FALSE)) | D15: =IF(ISBLANK('Midt 1.kl. -Klasse'!Q31),"",VLOOKUP('Midt 1.kl. -Klasse'!Q31,Naqinn_Nipaat_1b,D$3,FALSE)) | E15: =IF(ISBLANK('Midt 1.kl. -Klasse'!R31),"",VLOOKUP('Midt 1.kl. -Klasse'!R31,Naqinn_Nipaat_1b,E$3,FALSE)) | F15: =IF(ISBLANK('Midt 1.kl. -Klasse'!S31),"",VLOOKUP('Midt 1.kl. -Klasse'!S31,Naqinn_Nipaat_1b,F$3,FALSE)) | G15: =IF(ISBLANK('Midt 1.kl. -Klasse'!T31),"",VLOOKUP('Midt 1.kl. -Klasse'!T31,Naqinn_Nipaat_1b,G$3,FALSE)) | H15: =IF(ISBLANK('Midt 1.kl. -Klasse'!U31),"",VLOOKUP('Midt 1.kl. -Klasse'!U31,Naqinn_Nipaat_1b,H$3,FALSE)) | I15: =IF(ISBLANK('Midt 1.kl. -Klasse'!V31),"",VLOOKUP('Midt 1.kl. -Klasse'!V31,Naqinn_Nipaat_1b,I$3,FALSE)) | J15: =IF(ISBLANK('Midt 1.kl. -Klasse'!W31),"",VLOOKUP('Midt 1.kl. -Klasse'!W31,Naqinn_Nipaat_1b,J$3,FALSE)) | ... Z15: =IF(ISBLANK('Midt 1.kl. -Klasse'!AM31),"",VLOOKUP('Midt 1.kl. -Klasse'!AM31,Naqinn_Nipaat_1b,Z$3,FALSE)) | AA15: =IF(COUNTIF('Midt 1.kl. -Klasse'!AN31,5),"Ugyldig",(IF(ISBLANK('Midt 1.kl. -Klasse'!AN31),"",'Midt 1.kl. -Klasse'!AN31))) | AB15: =IF(COUNTIF('Midt 1.kl. -Klasse'!AO31,5),"Ugyldig",(IF(ISBLANK('Midt 1.kl. -Klasse'!AO31),"",'Midt 1.kl. -Klasse'!AO31))) | AC15: =IF(COUNTIF('Midt 1.kl. -Klasse'!AP31,5),"Ugyldig",(IF(ISBLANK('Midt 1.kl. -Klasse'!AP31),"",'Midt 1.kl. -Klasse'!AP31))) | AD15: =IF(COUNTIF('Midt 1.kl. -Klasse'!AQ31,5),"Ugyldig",(IF(ISBLANK('Midt 1.kl. -Klasse'!AQ31),"",'Midt 1.kl. -Klasse'!AQ31))) | AE15: =IF(COUNTIF('Midt 1.kl. -Klasse'!AR31,5),"Ugyldig",(IF(ISBLANK('Midt 1.kl. -Klasse'!AR31),"",'Midt 1.kl. -Klasse'!AR31))) | AF15: =IF(COUNTIF('Midt 1.kl. -Klasse'!AS31,5),"Ugyldig",(IF(ISBLANK('Midt 1.kl. -Klasse'!AS31),"",'Midt 1.kl. -Klasse'!AS31))) | AG15: =IF(COUNTIF('Midt 1.kl. -Klasse'!AT31,5),"Ugyldig",(IF(ISBLANK('Midt 1.kl. -Klasse'!AT31),"",'Midt 1.kl. -Klasse'!AT31))) | AH15: =IF(COUNTIF('Midt 1.kl. -Klasse'!AU31,5),"Ugyldig",(IF(ISBLANK('Midt 1.kl. -Klasse'!AU31),"",'Midt 1.kl. -Klasse'!AU31))) | ... AS15: =IF(COUNTIF('Midt 1.kl. -Klasse'!BF31,5),"Ugyldig",(IF(ISBLANK('Midt 1.kl. -Klasse'!BF31),"",'Midt 1.kl. -Klasse'!BF31))) | AT15: =IF(ISBLANK('Midt 1.kl. -Klasse'!BG31),"",VLOOKUP('Midt 1.kl. -Klasse'!BG31,Ordets_Førstelyd_1b,C$3,FALSE)) | AU15: =IF(ISBLANK('Midt 1.kl. -Klasse'!BH31),"",VLOOKUP('Midt 1.kl. -Klasse'!BH31,Ordets_Førstelyd_1b,D$3,FALSE)) | AV15: =IF(ISBLANK('Midt 1.kl. -Klasse'!BI31),"",VLOOKUP('Midt 1.kl. -Klasse'!BI31,Ordets_Førstelyd_1b,E$3,FALSE)) | AW15: =IF(ISBLANK('Midt 1.kl. -Klasse'!BJ31),"",VLOOKUP('Midt 1.kl. -Klasse'!BJ31,Ordets_Førstelyd_1b,F$3,FALSE)) | AX15: =IF(ISBLANK('Midt 1.kl. -Klasse'!BK31),"",VLOOKUP('Midt 1.kl. -Klasse'!BK31,Ordets_Førstelyd_1b,G$3,FALSE)) | AY15: =IF(ISBLANK('Midt 1.kl. -Klasse'!BL31),"",VLOOKUP('Midt 1.kl. -Klasse'!BL31,Ordets_Førstelyd_1b,H$3,FALSE)) | AZ15: =IF(ISBLANK('Midt 1.kl. -Klasse'!BM31),"",VLOOKUP('Midt 1.kl. -Klasse'!BM31,Ordets_Førstelyd_1b,I$3,FALSE)) | BA15: =IF(ISBLANK('Midt 1.kl. -Klasse'!BN31),"",VLOOKUP('Midt 1.kl. -Klasse'!BN31,Ordets_Førstelyd_1b,J$3,FALSE)) | ... BG15: =IF(ISBLANK('Midt 1.kl. -Klasse'!BT31),"",VLOOKUP('Midt 1.kl. -Klasse'!BT31,Ordets_Førstelyd_1b,P$3,FALSE)) | BH15: =COUNTIF('Skole scoring'!B14:Y14,1) -> 0 | BI15: =COUNTIF('Skole scoring'!Z14:AR14,1) -> 0 | BJ15: =COUNTIF('Skole scoring'!AS14:BF14,1) -> 0 | BK15: =SUM(BH15:BJ15) -> 0 | CL15: 3 | CM15: Matu | CN15: Savik | CO15: Ulloriaq | CP15: Hiisti | CQ15: Qimmeq | CR15: Matuersaat | CS15: Qajaq | CT15: Puuluki | CU15: Inneq | CV15: Mannik | CW15: Mersorfik | CX15: Terianniaq | CY15: Illu | CZ15: Mersorfik
B16: ='Midt 1.kl. -Klasse'!B32 -> 0 | C16: =IF(ISBLANK('Midt 1.kl. -Klasse'!P32),"",VLOOKUP('Midt 1.kl. -Klasse'!P32,Naqinn_Nipaat_1b,C$3,FALSE)) | D16: =IF(ISBLANK('Midt 1.kl. -Klasse'!Q32),"",VLOOKUP('Midt 1.kl. -Klasse'!Q32,Naqinn_Nipaat_1b,D$3,FALSE)) | E16: =IF(ISBLANK('Midt 1.kl. -Klasse'!R32),"",VLOOKUP('Midt 1.kl. -Klasse'!R32,Naqinn_Nipaat_1b,E$3,FALSE)) | F16: =IF(ISBLANK('Midt 1.kl. -Klasse'!S32),"",VLOOKUP('Midt 1.kl. -Klasse'!S32,Naqinn_Nipaat_1b,F$3,FALSE)) | G16: =IF(ISBLANK('Midt 1.kl. -Klasse'!T32),"",VLOOKUP('Midt 1.kl. -Klasse'!T32,Naqinn_Nipaat_1b,G$3,FALSE)) | H16: =IF(ISBLANK('Midt 1.kl. -Klasse'!U32),"",VLOOKUP('Midt 1.kl. -Klasse'!U32,Naqinn_Nipaat_1b,H$3,FALSE)) | I16: =IF(ISBLANK('Midt 1.kl. -Klasse'!V32),"",VLOOKUP('Midt 1.kl. -Klasse'!V32,Naqinn_Nipaat_1b,I$3,FALSE)) | J16: =IF(ISBLANK('Midt 1.kl. -Klasse'!W32),"",VLOOKUP('Midt 1.kl. -Klasse'!W32,Naqinn_Nipaat_1b,J$3,FALSE)) | ... Z16: =IF(ISBLANK('Midt 1.kl. -Klasse'!AM32),"",VLOOKUP('Midt 1.kl. -Klasse'!AM32,Naqinn_Nipaat_1b,Z$3,FALSE)) | AA16: =IF(COUNTIF('Midt 1.kl. -Klasse'!AN32,5),"Ugyldig",(IF(ISBLANK('Midt 1.kl. -Klasse'!AN32),"",'Midt 1.kl. -Klasse'!AN32))) | AB16: =IF(COUNTIF('Midt 1.kl. -Klasse'!AO32,5),"Ugyldig",(IF(ISBLANK('Midt 1.kl. -Klasse'!AO32),"",'Midt 1.kl. -Klasse'!AO32))) | AC16: =IF(COUNTIF('Midt 1.kl. -Klasse'!AP32,5),"Ugyldig",(IF(ISBLANK('Midt 1.kl. -Klasse'!AP32),"",'Midt 1.kl. -Klasse'!AP32))) | AD16: =IF(COUNTIF('Midt 1.kl. -Klasse'!AQ32,5),"Ugyldig",(IF(ISBLANK('Midt 1.kl. -Klasse'!AQ32),"",'Midt 1.kl. -Klasse'!AQ32))) | AE16: =IF(COUNTIF('Midt 1.kl. -Klasse'!AR32,5),"Ugyldig",(IF(ISBLANK('Midt 1.kl. -Klasse'!AR32),"",'Midt 1.kl. -Klasse'!AR32))) | AF16: =IF(COUNTIF('Midt 1.kl. -Klasse'!AS32,5),"Ugyldig",(IF(ISBLANK('Midt 1.kl. -Klasse'!AS32),"",'Midt 1.kl. -Klasse'!AS32))) | AG16: =IF(COUNTIF('Midt 1.kl. -Klasse'!AT32,5),"Ugyldig",(IF(ISBLANK('Midt 1.kl. -Klasse'!AT32),"",'Midt 1.kl. -Klasse'!AT32))) | AH16: =IF(COUNTIF('Midt 1.kl. -Klasse'!AU32,5),"Ugyldig",(IF(ISBLANK('Midt 1.kl. -Klasse'!AU32),"",'Midt 1.kl. -Klasse'!AU32))) | ... AS16: =IF(COUNTIF('Midt 1.kl. -Klasse'!BF32,5),"Ugyldig",(IF(ISBLANK('Midt 1.kl. -Klasse'!BF32),"",'Midt 1.kl. -Klasse'!BF32))) | AT16: =IF(ISBLANK('Midt 1.kl. -Klasse'!BG32),"",VLOOKUP('Midt 1.kl. -Klasse'!BG32,Ordets_Førstelyd_1b,C$3,FALSE)) | AU16: =IF(ISBLANK('Midt 1.kl. -Klasse'!BH32),"",VLOOKUP('Midt 1.kl. -Klasse'!BH32,Ordets_Førstelyd_1b,D$3,FALSE)) | AV16: =IF(ISBLANK('Midt 1.kl. -Klasse'!BI32),"",VLOOKUP('Midt 1.kl. -Klasse'!BI32,Ordets_Førstelyd_1b,E$3,FALSE)) | AW16: =IF(ISBLANK('Midt 1.kl. -Klasse'!BJ32),"",VLOOKUP('Midt 1.kl. -Klasse'!BJ32,Ordets_Førstelyd_1b,F$3,FALSE)) | AX16: =IF(ISBLANK('Midt 1.kl. -Klasse'!BK32),"",VLOOKUP('Midt 1.kl. -Klasse'!BK32,Ordets_Førstelyd_1b,G$3,FALSE)) | AY16: =IF(ISBLANK('Midt 1.kl. -Klasse'!BL32),"",VLOOKUP('Midt 1.kl. -Klasse'!BL32,Ordets_Førstelyd_1b,H$3,FALSE)) | AZ16: =IF(ISBLANK('Midt 1.kl. -Klasse'!BM32),"",VLOOKUP('Midt 1.kl. -Klasse'!BM32,Ordets_Førstelyd_1b,I$3,FALSE)) | BA16: =IF(ISBLANK('Midt 1.kl. -Klasse'!BN32),"",VLOOKUP('Midt 1.kl. -Klasse'!BN32,Ordets_Førstelyd_1b,J$3,FALSE)) | ... BG16: =IF(ISBLANK('Midt 1.kl. -Klasse'!BT32),"",VLOOKUP('Midt 1.kl. -Klasse'!BT32,Ordets_Førstelyd_1b,P$3,FALSE)) | BH16: =COUNTIF('Skole scoring'!B15:Y15,1) -> 0 | BI16: =COUNTIF('Skole scoring'!Z15:AR15,1) -> 0 | BJ16: =COUNTIF('Skole scoring'!AS15:BF15,1) -> 0 | BK16: =SUM(BH16:BJ16) -> 0 | CL16: 4 | CM16: Siku | CN16: Eertat | CO16: Seqineq | CP16: Mattak | CQ16: Nanoq | CR16: Piiaat | CS16: Nasaq | CT16: Kulloq | CU16: Qulleq | CV16: Illaagutit | CW16: Qarliit | CX16: Raaja | CY16: Pilutaq | CZ16: Kanni
B17: ='Midt 1.kl. -Klasse'!B33 -> 0 | C17: =IF(ISBLANK('Midt 1.kl. -Klasse'!P33),"",VLOOKUP('Midt 1.kl. -Klasse'!P33,Naqinn_Nipaat_1b,C$3,FALSE)) | D17: =IF(ISBLANK('Midt 1.kl. -Klasse'!Q33),"",VLOOKUP('Midt 1.kl. -Klasse'!Q33,Naqinn_Nipaat_1b,D$3,FALSE)) | E17: =IF(ISBLANK('Midt 1.kl. -Klasse'!R33),"",VLOOKUP('Midt 1.kl. -Klasse'!R33,Naqinn_Nipaat_1b,E$3,FALSE)) | F17: =IF(ISBLANK('Midt 1.kl. -Klasse'!S33),"",VLOOKUP('Midt 1.kl. -Klasse'!S33,Naqinn_Nipaat_1b,F$3,FALSE)) | G17: =IF(ISBLANK('Midt 1.kl. -Klasse'!T33),"",VLOOKUP('Midt 1.kl. -Klasse'!T33,Naqinn_Nipaat_1b,G$3,FALSE)) | H17: =IF(ISBLANK('Midt 1.kl. -Klasse'!U33),"",VLOOKUP('Midt 1.kl. -Klasse'!U33,Naqinn_Nipaat_1b,H$3,FALSE)) | I17: =IF(ISBLANK('Midt 1.kl. -Klasse'!V33),"",VLOOKUP('Midt 1.kl. -Klasse'!V33,Naqinn_Nipaat_1b,I$3,FALSE)) | J17: =IF(ISBLANK('Midt 1.kl. -Klasse'!W33),"",VLOOKUP('Midt 1.kl. -Klasse'!W33,Naqinn_Nipaat_1b,J$3,FALSE)) | ... Z17: =IF(ISBLANK('Midt 1.kl. -Klasse'!AM33),"",VLOOKUP('Midt 1.kl. -Klasse'!AM33,Naqinn_Nipaat_1b,Z$3,FALSE)) | AA17: =IF(COUNTIF('Midt 1.kl. -Klasse'!AN33,5),"Ugyldig",(IF(ISBLANK('Midt 1.kl. -Klasse'!AN33),"",'Midt 1.kl. -Klasse'!AN33))) | AB17: =IF(COUNTIF('Midt 1.kl. -Klasse'!AO33,5),"Ugyldig",(IF(ISBLANK('Midt 1.kl. -Klasse'!AO33),"",'Midt 1.kl. -Klasse'!AO33))) | AC17: =IF(COUNTIF('Midt 1.kl. -Klasse'!AP33,5),"Ugyldig",(IF(ISBLANK('Midt 1.kl. -Klasse'!AP33),"",'Midt 1.kl. -Klasse'!AP33))) | AD17: =IF(COUNTIF('Midt 1.kl. -Klasse'!AQ33,5),"Ugyldig",(IF(ISBLANK('Midt 1.kl. -Klasse'!AQ33),"",'Midt 1.kl. -Klasse'!AQ33))) | AE17: =IF(COUNTIF('Midt 1.kl. -Klasse'!AR33,5),"Ugyldig",(IF(ISBLANK('Midt 1.kl. -Klasse'!AR33),"",'Midt 1.kl. -Klasse'!AR33))) | AF17: =IF(COUNTIF('Midt 1.kl. -Klasse'!AS33,5),"Ugyldig",(IF(ISBLANK('Midt 1.kl. -Klasse'!AS33),"",'Midt 1.kl. -Klasse'!AS33))) | AG17: =IF(COUNTIF('Midt 1.kl. -Klasse'!AT33,5),"Ugyldig",(IF(ISBLANK('Midt 1.kl. -Klasse'!AT33),"",'Midt 1.kl. -Klasse'!AT33))) | AH17: =IF(COUNTIF('Midt 1.kl. -Klasse'!AU33,5),"Ugyldig",(IF(ISBLANK('Midt 1.kl. -Klasse'!AU33),"",'Midt 1.kl. -Klasse'!AU33))) | ... AS17: =IF(COUNTIF('Midt 1.kl. -Klasse'!BF33,5),"Ugyldig",(IF(ISBLANK('Midt 1.kl. -Klasse'!BF33),"",'Midt 1.kl. -Klasse'!BF33))) | AT17: =IF(ISBLANK('Midt 1.kl. -Klasse'!BG33),"",VLOOKUP('Midt 1.kl. -Klasse'!BG33,Ordets_Førstelyd_1b,C$3,FALSE)) | AU17: =IF(ISBLANK('Midt 1.kl. -Klasse'!BH33),"",VLOOKUP('Midt 1.kl. -Klasse'!BH33,Ordets_Førstelyd_1b,D$3,FALSE)) | AV17: =IF(ISBLANK('Midt 1.kl. -Klasse'!BI33),"",VLOOKUP('Midt 1.kl. -Klasse'!BI33,Ordets_Førstelyd_1b,E$3,FALSE)) | AW17: =IF(ISBLANK('Midt 1.kl. -Klasse'!BJ33),"",VLOOKUP('Midt 1.kl. -Klasse'!BJ33,Ordets_Førstelyd_1b,F$3,FALSE)) | AX17: =IF(ISBLANK('Midt 1.kl. -Klasse'!BK33),"",VLOOKUP('Midt 1.kl. -Klasse'!BK33,Ordets_Førstelyd_1b,G$3,FALSE)) | AY17: =IF(ISBLANK('Midt 1.kl. -Klasse'!BL33),"",VLOOKUP('Midt 1.kl. -Klasse'!BL33,Ordets_Førstelyd_1b,H$3,FALSE)) | AZ17: =IF(ISBLANK('Midt 1.kl. -Klasse'!BM33),"",VLOOKUP('Midt 1.kl. -Klasse'!BM33,Ordets_Førstelyd_1b,I$3,FALSE)) | BA17: =IF(ISBLANK('Midt 1.kl. -Klasse'!BN33),"",VLOOKUP('Midt 1.kl. -Klasse'!BN33,Ordets_Førstelyd_1b,J$3,FALSE)) | ... BG17: =IF(ISBLANK('Midt 1.kl. -Klasse'!BT33),"",VLOOKUP('Midt 1.kl. -Klasse'!BT33,Ordets_Førstelyd_1b,P$3,FALSE)) | BH17: =COUNTIF('Skole scoring'!B16:Y16,1) -> 0 | BI17: =COUNTIF('Skole scoring'!Z16:AR16,1) -> 0 | BJ17: =COUNTIF('Skole scoring'!AS16:BF16,1) -> 0 | BK17: =SUM(BH17:BJ17) -> 0 | CL17: 5 | CM17: Ugyldig | CN17: Ugyldig | CO17: Ugyldig | CP17: Ugyldig | CQ17: Ugyldig | CR17: Ugyldig | CS17: Ugyldig | CT17: Ugyldig | CU17: Ugyldig | CV17: Ugyldig | CW17: Ugyldig | CX17: Ugyldig | CY17: Ugyldig | CZ17: Ugyldig
B18: ='Midt 1.kl. -Klasse'!B34 -> 0 | C18: =IF(ISBLANK('Midt 1.kl. -Klasse'!P34),"",VLOOKUP('Midt 1.kl. -Klasse'!P34,Naqinn_Nipaat_1b,C$3,FALSE)) | D18: =IF(ISBLANK('Midt 1.kl. -Klasse'!Q34),"",VLOOKUP('Midt 1.kl. -Klasse'!Q34,Naqinn_Nipaat_1b,D$3,FALSE)) | E18: =IF(ISBLANK('Midt 1.kl. -Klasse'!R34),"",VLOOKUP('Midt 1.kl. -Klasse'!R34,Naqinn_Nipaat_1b,E$3,FALSE)) | F18: =IF(ISBLANK('Midt 1.kl. -Klasse'!S34),"",VLOOKUP('Midt 1.kl. -Klasse'!S34,Naqinn_Nipaat_1b,F$3,FALSE)) | G18: =IF(ISBLANK('Midt 1.kl. -Klasse'!T34),"",VLOOKUP('Midt 1.kl. -Klasse'!T34,Naqinn_Nipaat_1b,G$3,FALSE)) | H18: =IF(ISBLANK('Midt 1.kl. -Klasse'!U34),"",VLOOKUP('Midt 1.kl. -Klasse'!U34,Naqinn_Nipaat_1b,H$3,FALSE)) | I18: =IF(ISBLANK('Midt 1.kl. -Klasse'!V34),"",VLOOKUP('Midt 1.kl. -Klasse'!V34,Naqinn_Nipaat_1b,I$3,FALSE)) | J18: =IF(ISBLANK('Midt 1.kl. -Klasse'!W34),"",VLOOKUP('Midt 1.kl. -Klasse'!W34,Naqinn_Nipaat_1b,J$3,FALSE)) | ... Z18: =IF(ISBLANK('Midt 1.kl. -Klasse'!AM34),"",VLOOKUP('Midt 1.kl. -Klasse'!AM34,Naqinn_Nipaat_1b,Z$3,FALSE)) | AA18: =IF(COUNTIF('Midt 1.kl. -Klasse'!AN34,5),"Ugyldig",(IF(ISBLANK('Midt 1.kl. -Klasse'!AN34),"",'Midt 1.kl. -Klasse'!AN34))) | AB18: =IF(COUNTIF('Midt 1.kl. -Klasse'!AO34,5),"Ugyldig",(IF(ISBLANK('Midt 1.kl. -Klasse'!AO34),"",'Midt 1.kl. -Klasse'!AO34))) | AC18: =IF(COUNTIF('Midt 1.kl. -Klasse'!AP34,5),"Ugyldig",(IF(ISBLANK('Midt 1.kl. -Klasse'!AP34),"",'Midt 1.kl. -Klasse'!AP34))) | AD18: =IF(COUNTIF('Midt 1.kl. -Klasse'!AQ34,5),"Ugyldig",(IF(ISBLANK('Midt 1.kl. -Klasse'!AQ34),"",'Midt 1.kl. -Klasse'!AQ34))) | AE18: =IF(COUNTIF('Midt 1.kl. -Klasse'!AR34,5),"Ugyldig",(IF(ISBLANK('Midt 1.kl. -Klasse'!AR34),"",'Midt 1.kl. -Klasse'!AR34))) | AF18: =IF(COUNTIF('Midt 1.kl. -Klasse'!AS34,5),"Ugyldig",(IF(ISBLANK('Midt 1.kl. -Klasse'!AS34),"",'Midt 1.kl. -Klasse'!AS34))) | AG18: =IF(COUNTIF('Midt 1.kl. -Klasse'!AT34,5),"Ugyldig",(IF(ISBLANK('Midt 1.kl. -Klasse'!AT34),"",'Midt 1.kl. -Klasse'!AT34))) | AH18: =IF(COUNTIF('Midt 1.kl. -Klasse'!AU34,5),"Ugyldig",(IF(ISBLANK('Midt 1.kl. -Klasse'!AU34),"",'Midt 1.kl. -Klasse'!AU34))) | ... AS18: =IF(COUNTIF('Midt 1.kl. -Klasse'!BF34,5),"Ugyldig",(IF(ISBLANK('Midt 1.kl. -Klasse'!BF34),"",'Midt 1.kl. -Klasse'!BF34))) | AT18: =IF(ISBLANK('Midt 1.kl. -Klasse'!BG34),"",VLOOKUP('Midt 1.kl. -Klasse'!BG34,Ordets_Førstelyd_1b,C$3,FALSE)) | AU18: =IF(ISBLANK('Midt 1.kl. -Klasse'!BH34),"",VLOOKUP('Midt 1.kl. -Klasse'!BH34,Ordets_Førstelyd_1b,D$3,FALSE)) | AV18: =IF(ISBLANK('Midt 1.kl. -Klasse'!BI34),"",VLOOKUP('Midt 1.kl. -Klasse'!BI34,Ordets_Førstelyd_1b,E$3,FALSE)) | AW18: =IF(ISBLANK('Midt 1.kl. -Klasse'!BJ34),"",VLOOKUP('Midt 1.kl. -Klasse'!BJ34,Ordets_Førstelyd_1b,F$3,FALSE)) | AX18: =IF(ISBLANK('Midt 1.kl. -Klasse'!BK34),"",VLOOKUP('Midt 1.kl. -Klasse'!BK34,Ordets_Førstelyd_1b,G$3,FALSE)) | AY18: =IF(ISBLANK('Midt 1.kl. -Klasse'!BL34),"",VLOOKUP('Midt 1.kl. -Klasse'!BL34,Ordets_Førstelyd_1b,H$3,FALSE)) | AZ18: =IF(ISBLANK('Midt 1.kl. -Klasse'!BM34),"",VLOOKUP('Midt 1.kl. -Klasse'!BM34,Ordets_Førstelyd_1b,I$3,FALSE)) | BA18: =IF(ISBLANK('Midt 1.kl. -Klasse'!BN34),"",VLOOKUP('Midt 1.kl. -Klasse'!BN34,Ordets_Førstelyd_1b,J$3,FALSE)) | ... BG18: =IF(ISBLANK('Midt 1.kl. -Klasse'!BT34),"",VLOOKUP('Midt 1.kl. -Klasse'!BT34,Ordets_Førstelyd_1b,P$3,FALSE)) | BH18: =COUNTIF('Skole scoring'!B17:Y17,1) -> 0 | BI18: =COUNTIF('Skole scoring'!Z17:AR17,1) -> 0 | BJ18: =COUNTIF('Skole scoring'!AS17:BF17,1) -> 0 | BK18: =SUM(BH18:BJ18) -> 0
B19: ='Midt 1.kl. -Klasse'!B35 -> 0 | C19: =IF(ISBLANK('Midt 1.kl. -Klasse'!P35),"",VLOOKUP('Midt 1.kl. -Klasse'!P35,Naqinn_Nipaat_1b,C$3,FALSE)) | D19: =IF(ISBLANK('Midt 1.kl. -Klasse'!Q35),"",VLOOKUP('Midt 1.kl. -Klasse'!Q35,Naqinn_Nipaat_1b,D$3,FALSE)) | E19: =IF(ISBLANK('Midt 1.kl. -Klasse'!R35),"",VLOOKUP('Midt 1.kl. -Klasse'!R35,Naqinn_Nipaat_1b,E$3,FALSE)) | F19: =IF(ISBLANK('Midt 1.kl. -Klasse'!S35),"",VLOOKUP('Midt 1.kl. -Klasse'!S35,Naqinn_Nipaat_1b,F$3,FALSE)) | G19: =IF(ISBLANK('Midt 1.kl. -Klasse'!T35),"",VLOOKUP('Midt 1.kl. -Klasse'!T35,Naqinn_Nipaat_1b,G$3,FALSE)) | H19: =IF(ISBLANK('Midt 1.kl. -Klasse'!U35),"",VLOOKUP('Midt 1.kl. -Klasse'!U35,Naqinn_Nipaat_1b,H$3,FALSE)) | I19: =IF(ISBLANK('Midt 1.kl. -Klasse'!V35),"",VLOOKUP('Midt 1.kl. -Klasse'!V35,Naqinn_Nipaat_1b,I$3,FALSE)) | J19: =IF(ISBLANK('Midt 1.kl. -Klasse'!W35),"",VLOOKUP('Midt 1.kl. -Klasse'!W35,Naqinn_Nipaat_1b,J$3,FALSE)) | ... Z19: =IF(ISBLANK('Midt 1.kl. -Klasse'!AM35),"",VLOOKUP('Midt 1.kl. -Klasse'!AM35,Naqinn_Nipaat_1b,Z$3,FALSE)) | AA19: =IF(COUNTIF('Midt 1.kl. -Klasse'!AN35,5),"Ugyldig",(IF(ISBLANK('Midt 1.kl. -Klasse'!AN35),"",'Midt 1.kl. -Klasse'!AN35))) | AB19: =IF(COUNTIF('Midt 1.kl. -Klasse'!AO35,5),"Ugyldig",(IF(ISBLANK('Midt 1.kl. -Klasse'!AO35),"",'Midt 1.kl. -Klasse'!AO35))) | AC19: =IF(COUNTIF('Midt 1.kl. -Klasse'!AP35,5),"Ugyldig",(IF(ISBLANK('Midt 1.kl. -Klasse'!AP35),"",'Midt 1.kl. -Klasse'!AP35))) | AD19: =IF(COUNTIF('Midt 1.kl. -Klasse'!AQ35,5),"Ugyldig",(IF(ISBLANK('Midt 1.kl. -Klasse'!AQ35),"",'Midt 1.kl. -Klasse'!AQ35))) | AE19: =IF(COUNTIF('Midt 1.kl. -Klasse'!AR35,5),"Ugyldig",(IF(ISBLANK('Midt 1.kl. -Klasse'!AR35),"",'Midt 1.kl. -Klasse'!AR35))) | AF19: =IF(COUNTIF('Midt 1.kl. -Klasse'!AS35,5),"Ugyldig",(IF(ISBLANK('Midt 1.kl. -Klasse'!AS35),"",'Midt 1.kl. -Klasse'!AS35))) | AG19: =IF(COUNTIF('Midt 1.kl. -Klasse'!AT35,5),"Ugyldig",(IF(ISBLANK('Midt 1.kl. -Klasse'!AT35),"",'Midt 1.kl. -Klasse'!AT35))) | AH19: =IF(COUNTIF('Midt 1.kl. -Klasse'!AU35,5),"Ugyldig",(IF(ISBLANK('Midt 1.kl. -Klasse'!AU35),"",'Midt 1.kl. -Klasse'!AU35))) | ... AS19: =IF(COUNTIF('Midt 1.kl. -Klasse'!BF35,5),"Ugyldig",(IF(ISBLANK('Midt 1.kl. -Klasse'!BF35),"",'Midt 1.kl. -Klasse'!BF35))) | AT19: =IF(ISBLANK('Midt 1.kl. -Klasse'!BG35),"",VLOOKUP('Midt 1.kl. -Klasse'!BG35,Ordets_Førstelyd_1b,C$3,FALSE)) | AU19: =IF(ISBLANK('Midt 1.kl. -Klasse'!BH35),"",VLOOKUP('Midt 1.kl. -Klasse'!BH35,Ordets_Førstelyd_1b,D$3,FALSE)) | AV19: =IF(ISBLANK('Midt 1.kl. -Klasse'!BI35),"",VLOOKUP('Midt 1.kl. -Klasse'!BI35,Ordets_Førstelyd_1b,E$3,FALSE)) | AW19: =IF(ISBLANK('Midt 1.kl. -Klasse'!BJ35),"",VLOOKUP('Midt 1.kl. -Klasse'!BJ35,Ordets_Førstelyd_1b,F$3,FALSE)) | AX19: =IF(ISBLANK('Midt 1.kl. -Klasse'!BK35),"",VLOOKUP('Midt 1.kl. -Klasse'!BK35,Ordets_Førstelyd_1b,G$3,FALSE)) | AY19: =IF(ISBLANK('Midt 1.kl. -Klasse'!BL35),"",VLOOKUP('Midt 1.kl. -Klasse'!BL35,Ordets_Førstelyd_1b,H$3,FALSE)) | AZ19: =IF(ISBLANK('Midt 1.kl. -Klasse'!BM35),"",VLOOKUP('Midt 1.kl. -Klasse'!BM35,Ordets_Førstelyd_1b,I$3,FALSE)) | BA19: =IF(ISBLANK('Midt 1.kl. -Klasse'!BN35),"",VLOOKUP('Midt 1.kl. -Klasse'!BN35,Ordets_Førstelyd_1b,J$3,FALSE)) | ... BG19: =IF(ISBLANK('Midt 1.kl. -Klasse'!BT35),"",VLOOKUP('Midt 1.kl. -Klasse'!BT35,Ordets_Førstelyd_1b,P$3,FALSE)) | BH19: =COUNTIF('Skole scoring'!B18:Y18,1) -> 0 | BI19: =COUNTIF('Skole scoring'!Z18:AR18,1) -> 0 | BJ19: =COUNTIF('Skole scoring'!AS18:BF18,1) -> 0 | BK19: =SUM(BH19:BJ19) -> 0
B20: ='Midt 1.kl. -Klasse'!B36 -> 0 | C20: =IF(ISBLANK('Midt 1.kl. -Klasse'!P36),"",VLOOKUP('Midt 1.kl. -Klasse'!P36,Naqinn_Nipaat_1b,C$3,FALSE)) | D20: =IF(ISBLANK('Midt 1.kl. -Klasse'!Q36),"",VLOOKUP('Midt 1.kl. -Klasse'!Q36,Naqinn_Nipaat_1b,D$3,FALSE)) | E20: =IF(ISBLANK('Midt 1.kl. -Klasse'!R36),"",VLOOKUP('Midt 1.kl. -Klasse'!R36,Naqinn_Nipaat_1b,E$3,FALSE)) | F20: =IF(ISBLANK('Midt 1.kl. -Klasse'!S36),"",VLOOKUP('Midt 1.kl. -Klasse'!S36,Naqinn_Nipaat_1b,F$3,FALSE)) | G20: =IF(ISBLANK('Midt 1.kl. -Klasse'!T36),"",VLOOKUP('Midt 1.kl. -Klasse'!T36,Naqinn_Nipaat_1b,G$3,FALSE)) | H20: =IF(ISBLANK('Midt 1.kl. -Klasse'!U36),"",VLOOKUP('Midt 1.kl. -Klasse'!U36,Naqinn_Nipaat_1b,H$3,FALSE)) | I20: =IF(ISBLANK('Midt 1.kl. -Klasse'!V36),"",VLOOKUP('Midt 1.kl. -Klasse'!V36,Naqinn_Nipaat_1b,I$3,FALSE)) | J20: =IF(ISBLANK('Midt 1.kl. -Klasse'!W36),"",VLOOKUP('Midt 1.kl. -Klasse'!W36,Naqinn_Nipaat_1b,J$3,FALSE)) | ... Z20: =IF(ISBLANK('Midt 1.kl. -Klasse'!AM36),"",VLOOKUP('Midt 1.kl. -Klasse'!AM36,Naqinn_Nipaat_1b,Z$3,FALSE)) | AA20: =IF(COUNTIF('Midt 1.kl. -Klasse'!AN36,5),"Ugyldig",(IF(ISBLANK('Midt 1.kl. -Klasse'!AN36),"",'Midt 1.kl. -Klasse'!AN36))) | AB20: =IF(COUNTIF('Midt 1.kl. -Klasse'!AO36,5),"Ugyldig",(IF(ISBLANK('Midt 1.kl. -Klasse'!AO36),"",'Midt 1.kl. -Klasse'!AO36))) | AC20: =IF(COUNTIF('Midt 1.kl. -Klasse'!AP36,5),"Ugyldig",(IF(ISBLANK('Midt 1.kl. -Klasse'!AP36),"",'Midt 1.kl. -Klasse'!AP36))) | AD20: =IF(COUNTIF('Midt 1.kl. -Klasse'!AQ36,5),"Ugyldig",(IF(ISBLANK('Midt 1.kl. -Klasse'!AQ36),"",'Midt 1.kl. -Klasse'!AQ36))) | AE20: =IF(COUNTIF('Midt 1.kl. -Klasse'!AR36,5),"Ugyldig",(IF(ISBLANK('Midt 1.kl. -Klasse'!AR36),"",'Midt 1.kl. -Klasse'!AR36))) | AF20: =IF(COUNTIF('Midt 1.kl. -Klasse'!AS36,5),"Ugyldig",(IF(ISBLANK('Midt 1.kl. -Klasse'!AS36),"",'Midt 1.kl. -Klasse'!AS36))) | AG20: =IF(COUNTIF('Midt 1.kl. -Klasse'!AT36,5),"Ugyldig",(IF(ISBLANK('Midt 1.kl. -Klasse'!AT36),"",'Midt 1.kl. -Klasse'!AT36))) | AH20: =IF(COUNTIF('Midt 1.kl. -Klasse'!AU36,5),"Ugyldig",(IF(ISBLANK('Midt 1.kl. -Klasse'!AU36),"",'Midt 1.kl. -Klasse'!AU36))) | ... AS20: =IF(COUNTIF('Midt 1.kl. -Klasse'!BF36,5),"Ugyldig",(IF(ISBLANK('Midt 1.kl. -Klasse'!BF36),"",'Midt 1.kl. -Klasse'!BF36))) | AT20: =IF(ISBLANK('Midt 1.kl. -Klasse'!BG36),"",VLOOKUP('Midt 1.kl. -Klasse'!BG36,Ordets_Førstelyd_1b,C$3,FALSE)) | AU20: =IF(ISBLANK('Midt 1.kl. -Klasse'!BH36),"",VLOOKUP('Midt 1.kl. -Klasse'!BH36,Ordets_Førstelyd_1b,D$3,FALSE)) | AV20: =IF(ISBLANK('Midt 1.kl. -Klasse'!BI36),"",VLOOKUP('Midt 1.kl. -Klasse'!BI36,Ordets_Førstelyd_1b,E$3,FALSE)) | AW20: =IF(ISBLANK('Midt 1.kl. -Klasse'!BJ36),"",VLOOKUP('Midt 1.kl. -Klasse'!BJ36,Ordets_Førstelyd_1b,F$3,FALSE)) | AX20: =IF(ISBLANK('Midt 1.kl. -Klasse'!BK36),"",VLOOKUP('Midt 1.kl. -Klasse'!BK36,Ordets_Førstelyd_1b,G$3,FALSE)) | AY20: =IF(ISBLANK('Midt 1.kl. -Klasse'!BL36),"",VLOOKUP('Midt 1.kl. -Klasse'!BL36,Ordets_Førstelyd_1b,H$3,FALSE)) | AZ20: =IF(ISBLANK('Midt 1.kl. -Klasse'!BM36),"",VLOOKUP('Midt 1.kl. -Klasse'!BM36,Ordets_Førstelyd_1b,I$3,FALSE)) | BA20: =IF(ISBLANK('Midt 1.kl. -Klasse'!BN36),"",VLOOKUP('Midt 1.kl. -Klasse'!BN36,Ordets_Førstelyd_1b,J$3,FALSE)) | ... BG20: =IF(ISBLANK('Midt 1.kl. -Klasse'!BT36),"",VLOOKUP('Midt 1.kl. -Klasse'!BT36,Ordets_Førstelyd_1b,P$3,FALSE)) | BH20: =COUNTIF('Skole scoring'!B19:Y19,1) -> 0 | BI20: =COUNTIF('Skole scoring'!Z19:AR19,1) -> 0 | BJ20: =COUNTIF('Skole scoring'!AS19:BF19,1) -> 0 | BK20: =SUM(BH20:BJ20) -> 0 | CM20: Oqaats_Nipi1
B21: ='Midt 1.kl. -Klasse'!B37 -> 0 | C21: =IF(ISBLANK('Midt 1.kl. -Klasse'!P37),"",VLOOKUP('Midt 1.kl. -Klasse'!P37,Naqinn_Nipaat_1b,C$3,FALSE)) | D21: =IF(ISBLANK('Midt 1.kl. -Klasse'!Q37),"",VLOOKUP('Midt 1.kl. -Klasse'!Q37,Naqinn_Nipaat_1b,D$3,FALSE)) | E21: =IF(ISBLANK('Midt 1.kl. -Klasse'!R37),"",VLOOKUP('Midt 1.kl. -Klasse'!R37,Naqinn_Nipaat_1b,E$3,FALSE)) | F21: =IF(ISBLANK('Midt 1.kl. -Klasse'!S37),"",VLOOKUP('Midt 1.kl. -Klasse'!S37,Naqinn_Nipaat_1b,F$3,FALSE)) | G21: =IF(ISBLANK('Midt 1.kl. -Klasse'!T37),"",VLOOKUP('Midt 1.kl. -Klasse'!T37,Naqinn_Nipaat_1b,G$3,FALSE)) | H21: =IF(ISBLANK('Midt 1.kl. -Klasse'!U37),"",VLOOKUP('Midt 1.kl. -Klasse'!U37,Naqinn_Nipaat_1b,H$3,FALSE)) | I21: =IF(ISBLANK('Midt 1.kl. -Klasse'!V37),"",VLOOKUP('Midt 1.kl. -Klasse'!V37,Naqinn_Nipaat_1b,I$3,FALSE)) | J21: =IF(ISBLANK('Midt 1.kl. -Klasse'!W37),"",VLOOKUP('Midt 1.kl. -Klasse'!W37,Naqinn_Nipaat_1b,J$3,FALSE)) | ... Z21: =IF(ISBLANK('Midt 1.kl. -Klasse'!AM37),"",VLOOKUP('Midt 1.kl. -Klasse'!AM37,Naqinn_Nipaat_1b,Z$3,FALSE)) | AA21: =IF(COUNTIF('Midt 1.kl. -Klasse'!AN37,5),"Ugyldig",(IF(ISBLANK('Midt 1.kl. -Klasse'!AN37),"",'Midt 1.kl. -Klasse'!AN37))) | AB21: =IF(COUNTIF('Midt 1.kl. -Klasse'!AO37,5),"Ugyldig",(IF(ISBLANK('Midt 1.kl. -Klasse'!AO37),"",'Midt 1.kl. -Klasse'!AO37))) | AC21: =IF(COUNTIF('Midt 1.kl. -Klasse'!AP37,5),"Ugyldig",(IF(ISBLANK('Midt 1.kl. -Klasse'!AP37),"",'Midt 1.kl. -Klasse'!AP37))) | AD21: =IF(COUNTIF('Midt 1.kl. -Klasse'!AQ37,5),"Ugyldig",(IF(ISBLANK('Midt 1.kl. -Klasse'!AQ37),"",'Midt 1.kl. -Klasse'!AQ37))) | AE21: =IF(COUNTIF('Midt 1.kl. -Klasse'!AR37,5),"Ugyldig",(IF(ISBLANK('Midt 1.kl. -Klasse'!AR37),"",'Midt 1.kl. -Klasse'!AR37))) | AF21: =IF(COUNTIF('Midt 1.kl. -Klasse'!AS37,5),"Ugyldig",(IF(ISBLANK('Midt 1.kl. -Klasse'!AS37),"",'Midt 1.kl. -Klasse'!AS37))) | AG21: =IF(COUNTIF('Midt 1.kl. -Klasse'!AT37,5),"Ugyldig",(IF(ISBLANK('Midt 1.kl. -Klasse'!AT37),"",'Midt 1.kl. -Klasse'!AT37))) | AH21: =IF(COUNTIF('Midt 1.kl. -Klasse'!AU37,5),"Ugyldig",(IF(ISBLANK('Midt 1.kl. -Klasse'!AU37),"",'Midt 1.kl. -Klasse'!AU37))) | ... AS21: =IF(COUNTIF('Midt 1.kl. -Klasse'!BF37,5),"Ugyldig",(IF(ISBLANK('Midt 1.kl. -Klasse'!BF37),"",'Midt 1.kl. -Klasse'!BF37))) | AT21: =IF(ISBLANK('Midt 1.kl. -Klasse'!BG37),"",VLOOKUP('Midt 1.kl. -Klasse'!BG37,Ordets_Førstelyd_1b,C$3,FALSE)) | AU21: =IF(ISBLANK('Midt 1.kl. -Klasse'!BH37),"",VLOOKUP('Midt 1.kl. -Klasse'!BH37,Ordets_Førstelyd_1b,D$3,FALSE)) | AV21: =IF(ISBLANK('Midt 1.kl. -Klasse'!BI37),"",VLOOKUP('Midt 1.kl. -Klasse'!BI37,Ordets_Førstelyd_1b,E$3,FALSE)) | AW21: =IF(ISBLANK('Midt 1.kl. -Klasse'!BJ37),"",VLOOKUP('Midt 1.kl. -Klasse'!BJ37,Ordets_Førstelyd_1b,F$3,FALSE)) | AX21: =IF(ISBLANK('Midt 1.kl. -Klasse'!BK37),"",VLOOKUP('Midt 1.kl. -Klasse'!BK37,Ordets_Førstelyd_1b,G$3,FALSE)) | AY21: =IF(ISBLANK('Midt 1.kl. -Klasse'!BL37),"",VLOOKUP('Midt 1.kl. -Klasse'!BL37,Ordets_Førstelyd_1b,H$3,FALSE)) | AZ21: =IF(ISBLANK('Midt 1.kl. -Klasse'!BM37),"",VLOOKUP('Midt 1.kl. -Klasse'!BM37,Ordets_Førstelyd_1b,I$3,FALSE)) | BA21: =IF(ISBLANK('Midt 1.kl. -Klasse'!BN37),"",VLOOKUP('Midt 1.kl. -Klasse'!BN37,Ordets_Førstelyd_1b,J$3,FALSE)) | ... BG21: =IF(ISBLANK('Midt 1.kl. -Klasse'!BT37),"",VLOOKUP('Midt 1.kl. -Klasse'!BT37,Ordets_Førstelyd_1b,P$3,FALSE)) | BH21: =COUNTIF('Skole scoring'!B20:Y20,1) -> 0 | BI21: =COUNTIF('Skole scoring'!Z20:AR20,1) -> 0 | BJ21: =COUNTIF('Skole scoring'!AS20:BF20,1) -> 0 | BK21: =SUM(BH21:BJ21) -> 0 | CM21: Ulu | CN21: Iga | CO21: Niu | CP21: Siku | CQ21: Oqaq | CR21: Appa | CS21: Illu | CT21: Savik | CU21: Tikeq | CV21: Arsaq | CW21: Orpik | CX21: Tuttu | CY21: Immuk | CZ21: Assak | DA21: Kaagi | DB21: Aaveq | DC21: Umiaq | DD21: Akiseq | DE21: Aasiak | DF21: Saagut | DG21: Qorfik | DH21: Kulloq | DI21: Atuagaq | DJ21: Inuusaq | DK21: Aqisseq
B22: ='Midt 1.kl. -Klasse'!B38 -> 0 | C22: =IF(ISBLANK('Midt 1.kl. -Klasse'!P38),"",VLOOKUP('Midt 1.kl. -Klasse'!P38,Naqinn_Nipaat_1b,C$3,FALSE)) | D22: =IF(ISBLANK('Midt 1.kl. -Klasse'!Q38),"",VLOOKUP('Midt 1.kl. -Klasse'!Q38,Naqinn_Nipaat_1b,D$3,FALSE)) | E22: =IF(ISBLANK('Midt 1.kl. -Klasse'!R38),"",VLOOKUP('Midt 1.kl. -Klasse'!R38,Naqinn_Nipaat_1b,E$3,FALSE)) | F22: =IF(ISBLANK('Midt 1.kl. -Klasse'!S38),"",VLOOKUP('Midt 1.kl. -Klasse'!S38,Naqinn_Nipaat_1b,F$3,FALSE)) | G22: =IF(ISBLANK('Midt 1.kl. -Klasse'!T38),"",VLOOKUP('Midt 1.kl. -Klasse'!T38,Naqinn_Nipaat_1b,G$3,FALSE)) | H22: =IF(ISBLANK('Midt 1.kl. -Klasse'!U38),"",VLOOKUP('Midt 1.kl. -Klasse'!U38,Naqinn_Nipaat_1b,H$3,FALSE)) | I22: =IF(ISBLANK('Midt 1.kl. -Klasse'!V38),"",VLOOKUP('Midt 1.kl. -Klasse'!V38,Naqinn_Nipaat_1b,I$3,FALSE)) | J22: =IF(ISBLANK('Midt 1.kl. -Klasse'!W38),"",VLOOKUP('Midt 1.kl. -Klasse'!W38,Naqinn_Nipaat_1b,J$3,FALSE)) | ... Z22: =IF(ISBLANK('Midt 1.kl. -Klasse'!AM38),"",VLOOKUP('Midt 1.kl. -Klasse'!AM38,Naqinn_Nipaat_1b,Z$3,FALSE)) | AA22: =IF(COUNTIF('Midt 1.kl. -Klasse'!AN38,5),"Ugyldig",(IF(ISBLANK('Midt 1.kl. -Klasse'!AN38),"",'Midt 1.kl. -Klasse'!AN38))) | AB22: =IF(COUNTIF('Midt 1.kl. -Klasse'!AO38,5),"Ugyldig",(IF(ISBLANK('Midt 1.kl. -Klasse'!AO38),"",'Midt 1.kl. -Klasse'!AO38))) | AC22: =IF(COUNTIF('Midt 1.kl. -Klasse'!AP38,5),"Ugyldig",(IF(ISBLANK('Midt 1.kl. -Klasse'!AP38),"",'Midt 1.kl. -Klasse'!AP38))) | AD22: =IF(COUNTIF('Midt 1.kl. -Klasse'!AQ38,5),"Ugyldig",(IF(ISBLANK('Midt 1.kl. -Klasse'!AQ38),"",'Midt 1.kl. -Klasse'!AQ38))) | AE22: =IF(COUNTIF('Midt 1.kl. -Klasse'!AR38,5),"Ugyldig",(IF(ISBLANK('Midt 1.kl. -Klasse'!AR38),"",'Midt 1.kl. -Klasse'!AR38))) | AF22: =IF(COUNTIF('Midt 1.kl. -Klasse'!AS38,5),"Ugyldig",(IF(ISBLANK('Midt 1.kl. -Klasse'!AS38),"",'Midt 1.kl. -Klasse'!AS38))) | AG22: =IF(COUNTIF('Midt 1.kl. -Klasse'!AT38,5),"Ugyldig",(IF(ISBLANK('Midt 1.kl. -Klasse'!AT38),"",'Midt 1.kl. -Klasse'!AT38))) | AH22: =IF(COUNTIF('Midt 1.kl. -Klasse'!AU38,5),"Ugyldig",(IF(ISBLANK('Midt 1.kl. -Klasse'!AU38),"",'Midt 1.kl. -Klasse'!AU38))) | ... AS22: =IF(COUNTIF('Midt 1.kl. -Klasse'!BF38,5),"Ugyldig",(IF(ISBLANK('Midt 1.kl. -Klasse'!BF38),"",'Midt 1.kl. -Klasse'!BF38))) | AT22: =IF(ISBLANK('Midt 1.kl. -Klasse'!BG38),"",VLOOKUP('Midt 1.kl. -Klasse'!BG38,Ordets_Førstelyd_1b,C$3,FALSE)) | AU22: =IF(ISBLANK('Midt 1.kl. -Klasse'!BH38),"",VLOOKUP('Midt 1.kl. -Klasse'!BH38,Ordets_Førstelyd_1b,D$3,FALSE)) | AV22: =IF(ISBLANK('Midt 1.kl. -Klasse'!BI38),"",VLOOKUP('Midt 1.kl. -Klasse'!BI38,Ordets_Førstelyd_1b,E$3,FALSE)) | AW22: =IF(ISBLANK('Midt 1.kl. -Klasse'!BJ38),"",VLOOKUP('Midt 1.kl. -Klasse'!BJ38,Ordets_Førstelyd_1b,F$3,FALSE)) | AX22: =IF(ISBLANK('Midt 1.kl. -Klasse'!BK38),"",VLOOKUP('Midt 1.kl. -Klasse'!BK38,Ordets_Førstelyd_1b,G$3,FALSE)) | AY22: =IF(ISBLANK('Midt 1.kl. -Klasse'!BL38),"",VLOOKUP('Midt 1.kl. -Klasse'!BL38,Ordets_Førstelyd_1b,H$3,FALSE)) | AZ22: =IF(ISBLANK('Midt 1.kl. -Klasse'!BM38),"",VLOOKUP('Midt 1.kl. -Klasse'!BM38,Ordets_Førstelyd_1b,I$3,FALSE)) | BA22: =IF(ISBLANK('Midt 1.kl. -Klasse'!BN38),"",VLOOKUP('Midt 1.kl. -Klasse'!BN38,Ordets_Førstelyd_1b,J$3,FALSE)) | ... BG22: =IF(ISBLANK('Midt 1.kl. -Klasse'!BT38),"",VLOOKUP('Midt 1.kl. -Klasse'!BT38,Ordets_Førstelyd_1b,P$3,FALSE)) | BH22: =COUNTIF('Skole scoring'!B21:Y21,1) -> 0 | BI22: =COUNTIF('Skole scoring'!Z21:AR21,1) -> 0 | BJ22: =COUNTIF('Skole scoring'!AS21:BF21,1) -> 0 | BK22: =SUM(BH22:BJ22) -> 0 | CL22: 1 | CM22: Nanoq | CN22: Iga | CO22: Inuk | CP22: Sava | CQ22: Kigut | CR22: Appa | CS22: Issiavik | CT22: Seqineq | CU22: Timmisartoq | CV22: Nasaq | CW22: Orpik | CX22: Matu | CY22: Immussuaq | CZ22: Mannik | DA22: Kamik | DB22: Puisi | DC22: Umiaq | DD22: Mersorfik | DE22: Timmiaaraq | DF22: Kiateeraq | DG22: Qitsuk | DH22: Kulloq | DI22: Qalipaatit | DJ22: Ippernaq | DK22: Aqisseq
B23: ='Midt 1.kl. -Klasse'!B39 -> 0 | C23: =IF(ISBLANK('Midt 1.kl. -Klasse'!P39),"",VLOOKUP('Midt 1.kl. -Klasse'!P39,Naqinn_Nipaat_1b,C$3,FALSE)) | D23: =IF(ISBLANK('Midt 1.kl. -Klasse'!Q39),"",VLOOKUP('Midt 1.kl. -Klasse'!Q39,Naqinn_Nipaat_1b,D$3,FALSE)) | E23: =IF(ISBLANK('Midt 1.kl. -Klasse'!R39),"",VLOOKUP('Midt 1.kl. -Klasse'!R39,Naqinn_Nipaat_1b,E$3,FALSE)) | F23: =IF(ISBLANK('Midt 1.kl. -Klasse'!S39),"",VLOOKUP('Midt 1.kl. -Klasse'!S39,Naqinn_Nipaat_1b,F$3,FALSE)) | G23: =IF(ISBLANK('Midt 1.kl. -Klasse'!T39),"",VLOOKUP('Midt 1.kl. -Klasse'!T39,Naqinn_Nipaat_1b,G$3,FALSE)) | H23: =IF(ISBLANK('Midt 1.kl. -Klasse'!U39),"",VLOOKUP('Midt 1.kl. -Klasse'!U39,Naqinn_Nipaat_1b,H$3,FALSE)) | I23: =IF(ISBLANK('Midt 1.kl. -Klasse'!V39),"",VLOOKUP('Midt 1.kl. -Klasse'!V39,Naqinn_Nipaat_1b,I$3,FALSE)) | J23: =IF(ISBLANK('Midt 1.kl. -Klasse'!W39),"",VLOOKUP('Midt 1.kl. -Klasse'!W39,Naqinn_Nipaat_1b,J$3,FALSE)) | ... Z23: =IF(ISBLANK('Midt 1.kl. -Klasse'!AM39),"",VLOOKUP('Midt 1.kl. -Klasse'!AM39,Naqinn_Nipaat_1b,Z$3,FALSE)) | AA23: =IF(COUNTIF('Midt 1.kl. -Klasse'!AN39,5),"Ugyldig",(IF(ISBLANK('Midt 1.kl. -Klasse'!AN39),"",'Midt 1.kl. -Klasse'!AN39))) | AB23: =IF(COUNTIF('Midt 1.kl. -Klasse'!AO39,5),"Ugyldig",(IF(ISBLANK('Midt 1.kl. -Klasse'!AO39),"",'Midt 1.kl. -Klasse'!AO39))) | AC23: =IF(COUNTIF('Midt 1.kl. -Klasse'!AP39,5),"Ugyldig",(IF(ISBLANK('Midt 1.kl. -Klasse'!AP39),"",'Midt 1.kl. -Klasse'!AP39))) | AD23: =IF(COUNTIF('Midt 1.kl. -Klasse'!AQ39,5),"Ugyldig",(IF(ISBLANK('Midt 1.kl. -Klasse'!AQ39),"",'Midt 1.kl. -Klasse'!AQ39))) | AE23: =IF(COUNTIF('Midt 1.kl. -Klasse'!AR39,5),"Ugyldig",(IF(ISBLANK('Midt 1.kl. -Klasse'!AR39),"",'Midt 1.kl. -Klasse'!AR39))) | AF23: =IF(COUNTIF('Midt 1.kl. -Klasse'!AS39,5),"Ugyldig",(IF(ISBLANK('Midt 1.kl. -Klasse'!AS39),"",'Midt 1.kl. -Klasse'!AS39))) | AG23: =IF(COUNTIF('Midt 1.kl. -Klasse'!AT39,5),"Ugyldig",(IF(ISBLANK('Midt 1.kl. -Klasse'!AT39),"",'Midt 1.kl. -Klasse'!AT39))) | AH23: =IF(COUNTIF('Midt 1.kl. -Klasse'!AU39,5),"Ugyldig",(IF(ISBLANK('Midt 1.kl. -Klasse'!AU39),"",'Midt 1.kl. -Klasse'!AU39))) | ... AS23: =IF(COUNTIF('Midt 1.kl. -Klasse'!BF39,5),"Ugyldig",(IF(ISBLANK('Midt 1.kl. -Klasse'!BF39),"",'Midt 1.kl. -Klasse'!BF39))) | AT23: =IF(ISBLANK('Midt 1.kl. -Klasse'!BG39),"",VLOOKUP('Midt 1.kl. -Klasse'!BG39,Ordets_Førstelyd_1b,C$3,FALSE)) | AU23: =IF(ISBLANK('Midt 1.kl. -Klasse'!BH39),"",VLOOKUP('Midt 1.kl. -Klasse'!BH39,Ordets_Førstelyd_1b,D$3,FALSE)) | AV23: =IF(ISBLANK('Midt 1.kl. -Klasse'!BI39),"",VLOOKUP('Midt 1.kl. -Klasse'!BI39,Ordets_Førstelyd_1b,E$3,FALSE)) | AW23: =IF(ISBLANK('Midt 1.kl. -Klasse'!BJ39),"",VLOOKUP('Midt 1.kl. -Klasse'!BJ39,Ordets_Førstelyd_1b,F$3,FALSE)) | AX23: =IF(ISBLANK('Midt 1.kl. -Klasse'!BK39),"",VLOOKUP('Midt 1.kl. -Klasse'!BK39,Ordets_Førstelyd_1b,G$3,FALSE)) | AY23: =IF(ISBLANK('Midt 1.kl. -Klasse'!BL39),"",VLOOKUP('Midt 1.kl. -Klasse'!BL39,Ordets_Førstelyd_1b,H$3,FALSE)) | AZ23: =IF(ISBLANK('Midt 1.kl. -Klasse'!BM39),"",VLOOKUP('Midt 1.kl. -Klasse'!BM39,Ordets_Førstelyd_1b,I$3,FALSE)) | BA23: =IF(ISBLANK('Midt 1.kl. -Klasse'!BN39),"",VLOOKUP('Midt 1.kl. -Klasse'!BN39,Ordets_Førstelyd_1b,J$3,FALSE)) | ... BG23: =IF(ISBLANK('Midt 1.kl. -Klasse'!BT39),"",VLOOKUP('Midt 1.kl. -Klasse'!BT39,Ordets_Førstelyd_1b,P$3,FALSE)) | BH23: =COUNTIF('Skole scoring'!B22:Y22,1) -> 0 | BI23: =COUNTIF('Skole scoring'!Z22:AR22,1) -> 0 | BJ23: =COUNTIF('Skole scoring'!AS22:BF22,1) -> 0 | BK23: =SUM(BH23:BJ23) -> 0 | CL23: 2 | CM23: Ulloriaq | CN23: Kande | CO23: Nasaq | CP23: Kaagi | CQ23: Oqaq | CR23: Aalisagaq | CS23: Ulloriaq | CT23: Savik | CU23: Assak | CV23: Biilit | CW23: Hylde | CX23: Tuttu | CY23: Iipili | CZ23: Appa | DA23: Kaagi | DB23: Aasiak | DC23: Siku | DD23: Aalisagaq | DE23: Aasiak | DF23: Savik | DG23: Uffarfik | DH23: Puuluki | DI23: Allarut | DJ23: Inuusaq | DK23: Politeeq
B24: ='Midt 1.kl. -Klasse'!B40 -> 0 | C24: =IF(ISBLANK('Midt 1.kl. -Klasse'!P40),"",VLOOKUP('Midt 1.kl. -Klasse'!P40,Naqinn_Nipaat_1b,C$3,FALSE)) | D24: =IF(ISBLANK('Midt 1.kl. -Klasse'!Q40),"",VLOOKUP('Midt 1.kl. -Klasse'!Q40,Naqinn_Nipaat_1b,D$3,FALSE)) | E24: =IF(ISBLANK('Midt 1.kl. -Klasse'!R40),"",VLOOKUP('Midt 1.kl. -Klasse'!R40,Naqinn_Nipaat_1b,E$3,FALSE)) | F24: =IF(ISBLANK('Midt 1.kl. -Klasse'!S40),"",VLOOKUP('Midt 1.kl. -Klasse'!S40,Naqinn_Nipaat_1b,F$3,FALSE)) | G24: =IF(ISBLANK('Midt 1.kl. -Klasse'!T40),"",VLOOKUP('Midt 1.kl. -Klasse'!T40,Naqinn_Nipaat_1b,G$3,FALSE)) | H24: =IF(ISBLANK('Midt 1.kl. -Klasse'!U40),"",VLOOKUP('Midt 1.kl. -Klasse'!U40,Naqinn_Nipaat_1b,H$3,FALSE)) | I24: =IF(ISBLANK('Midt 1.kl. -Klasse'!V40),"",VLOOKUP('Midt 1.kl. -Klasse'!V40,Naqinn_Nipaat_1b,I$3,FALSE)) | J24: =IF(ISBLANK('Midt 1.kl. -Klasse'!W40),"",VLOOKUP('Midt 1.kl. -Klasse'!W40,Naqinn_Nipaat_1b,J$3,FALSE)) | ... Z24: =IF(ISBLANK('Midt 1.kl. -Klasse'!AM40),"",VLOOKUP('Midt 1.kl. -Klasse'!AM40,Naqinn_Nipaat_1b,Z$3,FALSE)) | AA24: =IF(COUNTIF('Midt 1.kl. -Klasse'!AN40,5),"Ugyldig",(IF(ISBLANK('Midt 1.kl. -Klasse'!AN40),"",'Midt 1.kl. -Klasse'!AN40))) | AB24: =IF(COUNTIF('Midt 1.kl. -Klasse'!AO40,5),"Ugyldig",(IF(ISBLANK('Midt 1.kl. -Klasse'!AO40),"",'Midt 1.kl. -Klasse'!AO40))) | AC24: =IF(COUNTIF('Midt 1.kl. -Klasse'!AP40,5),"Ugyldig",(IF(ISBLANK('Midt 1.kl. -Klasse'!AP40),"",'Midt 1.kl. -Klasse'!AP40))) | AD24: =IF(COUNTIF('Midt 1.kl. -Klasse'!AQ40,5),"Ugyldig",(IF(ISBLANK('Midt 1.kl. -Klasse'!AQ40),"",'Midt 1.kl. -Klasse'!AQ40))) | AE24: =IF(COUNTIF('Midt 1.kl. -Klasse'!AR40,5),"Ugyldig",(IF(ISBLANK('Midt 1.kl. -Klasse'!AR40),"",'Midt 1.kl. -Klasse'!AR40))) | AF24: =IF(COUNTIF('Midt 1.kl. -Klasse'!AS40,5),"Ugyldig",(IF(ISBLANK('Midt 1.kl. -Klasse'!AS40),"",'Midt 1.kl. -Klasse'!AS40))) | AG24: =IF(COUNTIF('Midt 1.kl. -Klasse'!AT40,5),"Ugyldig",(IF(ISBLANK('Midt 1.kl. -Klasse'!AT40),"",'Midt 1.kl. -Klasse'!AT40))) | AH24: =IF(COUNTIF('Midt 1.kl. -Klasse'!AU40,5),"Ugyldig",(IF(ISBLANK('Midt 1.kl. -Klasse'!AU40),"",'Midt 1.kl. -Klasse'!AU40))) | ... AS24: =IF(COUNTIF('Midt 1.kl. -Klasse'!BF40,5),"Ugyldig",(IF(ISBLANK('Midt 1.kl. -Klasse'!BF40),"",'Midt 1.kl. -Klasse'!BF40))) | AT24: =IF(ISBLANK('Midt 1.kl. -Klasse'!BG40),"",VLOOKUP('Midt 1.kl. -Klasse'!BG40,Ordets_Førstelyd_1b,C$3,FALSE)) | AU24: =IF(ISBLANK('Midt 1.kl. -Klasse'!BH40),"",VLOOKUP('Midt 1.kl. -Klasse'!BH40,Ordets_Førstelyd_1b,D$3,FALSE)) | AV24: =IF(ISBLANK('Midt 1.kl. -Klasse'!BI40),"",VLOOKUP('Midt 1.kl. -Klasse'!BI40,Ordets_Førstelyd_1b,E$3,FALSE)) | AW24: =IF(ISBLANK('Midt 1.kl. -Klasse'!BJ40),"",VLOOKUP('Midt 1.kl. -Klasse'!BJ40,Ordets_Førstelyd_1b,F$3,FALSE)) | AX24: =IF(ISBLANK('Midt 1.kl. -Klasse'!BK40),"",VLOOKUP('Midt 1.kl. -Klasse'!BK40,Ordets_Førstelyd_1b,G$3,FALSE)) | AY24: =IF(ISBLANK('Midt 1.kl. -Klasse'!BL40),"",VLOOKUP('Midt 1.kl. -Klasse'!BL40,Ordets_Førstelyd_1b,H$3,FALSE)) | AZ24: =IF(ISBLANK('Midt 1.kl. -Klasse'!BM40),"",VLOOKUP('Midt 1.kl. -Klasse'!BM40,Ordets_Førstelyd_1b,I$3,FALSE)) | BA24: =IF(ISBLANK('Midt 1.kl. -Klasse'!BN40),"",VLOOKUP('Midt 1.kl. -Klasse'!BN40,Ordets_Førstelyd_1b,J$3,FALSE)) | ... BG24: =IF(ISBLANK('Midt 1.kl. -Klasse'!BT40),"",VLOOKUP('Midt 1.kl. -Klasse'!BT40,Ordets_Førstelyd_1b,P$3,FALSE)) | BH24: =COUNTIF('Skole scoring'!B23:Y23,1) -> 0 | BI24: =COUNTIF('Skole scoring'!Z23:AR23,1) -> 0 | BJ24: =COUNTIF('Skole scoring'!AS23:BF23,1) -> 0 | BK24: =SUM(BH24:BJ24) -> 0 | CL24: 3 | CM24: Orpik | CN24: Nammattagaq | CO24: Niu | CP24: Taseq | CQ24: Orpik | CR24: Igaq | CS24: Illu | CT24: Puugutaasaq | CU24: Qajaq | CV24: Arsaq | CW24: Oqaluffik | CX24: Arsaq | CY24: Immuk | CZ24: Kigut | DA24: Igalaaq | DB24: Naasoq | DC24: Ulu | DD24: Akiseq | DE24: Cykel | DF24: Ballon | DG24: Qorfik | DH24: Gummit | DI24: Puiseq | DJ24: Biilit | DK24: Tulugaq
B25: ='Midt 1.kl. -Klasse'!B41 -> 0 | C25: =IF(ISBLANK('Midt 1.kl. -Klasse'!P41),"",VLOOKUP('Midt 1.kl. -Klasse'!P41,Naqinn_Nipaat_1b,C$3,FALSE)) | D25: =IF(ISBLANK('Midt 1.kl. -Klasse'!Q41),"",VLOOKUP('Midt 1.kl. -Klasse'!Q41,Naqinn_Nipaat_1b,D$3,FALSE)) | E25: =IF(ISBLANK('Midt 1.kl. -Klasse'!R41),"",VLOOKUP('Midt 1.kl. -Klasse'!R41,Naqinn_Nipaat_1b,E$3,FALSE)) | F25: =IF(ISBLANK('Midt 1.kl. -Klasse'!S41),"",VLOOKUP('Midt 1.kl. -Klasse'!S41,Naqinn_Nipaat_1b,F$3,FALSE)) | G25: =IF(ISBLANK('Midt 1.kl. -Klasse'!T41),"",VLOOKUP('Midt 1.kl. -Klasse'!T41,Naqinn_Nipaat_1b,G$3,FALSE)) | H25: =IF(ISBLANK('Midt 1.kl. -Klasse'!U41),"",VLOOKUP('Midt 1.kl. -Klasse'!U41,Naqinn_Nipaat_1b,H$3,FALSE)) | I25: =IF(ISBLANK('Midt 1.kl. -Klasse'!V41),"",VLOOKUP('Midt 1.kl. -Klasse'!V41,Naqinn_Nipaat_1b,I$3,FALSE)) | J25: =IF(ISBLANK('Midt 1.kl. -Klasse'!W41),"",VLOOKUP('Midt 1.kl. -Klasse'!W41,Naqinn_Nipaat_1b,J$3,FALSE)) | ... Z25: =IF(ISBLANK('Midt 1.kl. -Klasse'!AM41),"",VLOOKUP('Midt 1.kl. -Klasse'!AM41,Naqinn_Nipaat_1b,Z$3,FALSE)) | AA25: =IF(COUNTIF('Midt 1.kl. -Klasse'!AN41,5),"Ugyldig",(IF(ISBLANK('Midt 1.kl. -Klasse'!AN41),"",'Midt 1.kl. -Klasse'!AN41))) | AB25: =IF(COUNTIF('Midt 1.kl. -Klasse'!AO41,5),"Ugyldig",(IF(ISBLANK('Midt 1.kl. -Klasse'!AO41),"",'Midt 1.kl. -Klasse'!AO41))) | AC25: =IF(COUNTIF('Midt 1.kl. -Klasse'!AP41,5),"Ugyldig",(IF(ISBLANK('Midt 1.kl. -Klasse'!AP41),"",'Midt 1.kl. -Klasse'!AP41))) | AD25: =IF(COUNTIF('Midt 1.kl. -Klasse'!AQ41,5),"Ugyldig",(IF(ISBLANK('Midt 1.kl. -Klasse'!AQ41),"",'Midt 1.kl. -Klasse'!AQ41))) | AE25: =IF(COUNTIF('Midt 1.kl. -Klasse'!AR41,5),"Ugyldig",(IF(ISBLANK('Midt 1.kl. -Klasse'!AR41),"",'Midt 1.kl. -Klasse'!AR41))) | AF25: =IF(COUNTIF('Midt 1.kl. -Klasse'!AS41,5),"Ugyldig",(IF(ISBLANK('Midt 1.kl. -Klasse'!AS41),"",'Midt 1.kl. -Klasse'!AS41))) | AG25: =IF(COUNTIF('Midt 1.kl. -Klasse'!AT41,5),"Ugyldig",(IF(ISBLANK('Midt 1.kl. -Klasse'!AT41),"",'Midt 1.kl. -Klasse'!AT41))) | AH25: =IF(COUNTIF('Midt 1.kl. -Klasse'!AU41,5),"Ugyldig",(IF(ISBLANK('Midt 1.kl. -Klasse'!AU41),"",'Midt 1.kl. -Klasse'!AU41))) | ... AS25: =IF(COUNTIF('Midt 1.kl. -Klasse'!BF41,5),"Ugyldig",(IF(ISBLANK('Midt 1.kl. -Klasse'!BF41),"",'Midt 1.kl. -Klasse'!BF41))) | AT25: =IF(ISBLANK('Midt 1.kl. -Klasse'!BG41),"",VLOOKUP('Midt 1.kl. -Klasse'!BG41,Ordets_Førstelyd_1b,C$3,FALSE)) | AU25: =IF(ISBLANK('Midt 1.kl. -Klasse'!BH41),"",VLOOKUP('Midt 1.kl. -Klasse'!BH41,Ordets_Førstelyd_1b,D$3,FALSE)) | AV25: =IF(ISBLANK('Midt 1.kl. -Klasse'!BI41),"",VLOOKUP('Midt 1.kl. -Klasse'!BI41,Ordets_Førstelyd_1b,E$3,FALSE)) | AW25: =IF(ISBLANK('Midt 1.kl. -Klasse'!BJ41),"",VLOOKUP('Midt 1.kl. -Klasse'!BJ41,Ordets_Førstelyd_1b,F$3,FALSE)) | AX25: =IF(ISBLANK('Midt 1.kl. -Klasse'!BK41),"",VLOOKUP('Midt 1.kl. -Klasse'!BK41,Ordets_Førstelyd_1b,G$3,FALSE)) | AY25: =IF(ISBLANK('Midt 1.kl. -Klasse'!BL41),"",VLOOKUP('Midt 1.kl. -Klasse'!BL41,Ordets_Førstelyd_1b,H$3,FALSE)) | AZ25: =IF(ISBLANK('Midt 1.kl. -Klasse'!BM41),"",VLOOKUP('Midt 1.kl. -Klasse'!BM41,Ordets_Førstelyd_1b,I$3,FALSE)) | BA25: =IF(ISBLANK('Midt 1.kl. -Klasse'!BN41),"",VLOOKUP('Midt 1.kl. -Klasse'!BN41,Ordets_Førstelyd_1b,J$3,FALSE)) | ... BG25: =IF(ISBLANK('Midt 1.kl. -Klasse'!BT41),"",VLOOKUP('Midt 1.kl. -Klasse'!BT41,Ordets_Førstelyd_1b,P$3,FALSE)) | BH25: =COUNTIF('Skole scoring'!B24:Y24,1) -> 0 | BI25: =COUNTIF('Skole scoring'!Z24:AR24,1) -> 0 | BJ25: =COUNTIF('Skole scoring'!AS24:BF24,1) -> 0 | BK25: =SUM(BH25:BJ25) -> 0 | CL25: 4 | CM25: Ulu | CN25: Igalaaq | CO25: Raatiu | CP25: Siku | CQ25: Kisaq | CR25: Tuttu | CS25: Mannik | CT25: Inuk | CU25: Tikeq | CV25: Arfeq | CW25: Savik | CX25: Tulugaq | CY25: Banaani | CZ25: Assak | DA25: Iipili | DB25: Aaveq | DC25: Pujortuleeraq | DD25: Qiuutit | DE25: Aaqqatit | DF25: Saagut | DG25: Kisaq | DH25: Taleq | DI25: Atuagaq | DJ25: Qajaq | DK25: Alerseq
B26: ='Midt 1.kl. -Klasse'!B42 -> 0 | C26: =IF(ISBLANK('Midt 1.kl. -Klasse'!P42),"",VLOOKUP('Midt 1.kl. -Klasse'!P42,Naqinn_Nipaat_1b,C$3,FALSE)) | D26: =IF(ISBLANK('Midt 1.kl. -Klasse'!Q42),"",VLOOKUP('Midt 1.kl. -Klasse'!Q42,Naqinn_Nipaat_1b,D$3,FALSE)) | E26: =IF(ISBLANK('Midt 1.kl. -Klasse'!R42),"",VLOOKUP('Midt 1.kl. -Klasse'!R42,Naqinn_Nipaat_1b,E$3,FALSE)) | F26: =IF(ISBLANK('Midt 1.kl. -Klasse'!S42),"",VLOOKUP('Midt 1.kl. -Klasse'!S42,Naqinn_Nipaat_1b,F$3,FALSE)) | G26: =IF(ISBLANK('Midt 1.kl. -Klasse'!T42),"",VLOOKUP('Midt 1.kl. -Klasse'!T42,Naqinn_Nipaat_1b,G$3,FALSE)) | H26: =IF(ISBLANK('Midt 1.kl. -Klasse'!U42),"",VLOOKUP('Midt 1.kl. -Klasse'!U42,Naqinn_Nipaat_1b,H$3,FALSE)) | I26: =IF(ISBLANK('Midt 1.kl. -Klasse'!V42),"",VLOOKUP('Midt 1.kl. -Klasse'!V42,Naqinn_Nipaat_1b,I$3,FALSE)) | J26: =IF(ISBLANK('Midt 1.kl. -Klasse'!W42),"",VLOOKUP('Midt 1.kl. -Klasse'!W42,Naqinn_Nipaat_1b,J$3,FALSE)) | ... Z26: =IF(ISBLANK('Midt 1.kl. -Klasse'!AM42),"",VLOOKUP('Midt 1.kl. -Klasse'!AM42,Naqinn_Nipaat_1b,Z$3,FALSE)) | AA26: =IF(COUNTIF('Midt 1.kl. -Klasse'!AN42,5),"Ugyldig",(IF(ISBLANK('Midt 1.kl. -Klasse'!AN42),"",'Midt 1.kl. -Klasse'!AN42))) | AB26: =IF(COUNTIF('Midt 1.kl. -Klasse'!AO42,5),"Ugyldig",(IF(ISBLANK('Midt 1.kl. -Klasse'!AO42),"",'Midt 1.kl. -Klasse'!AO42))) | AC26: =IF(COUNTIF('Midt 1.kl. -Klasse'!AP42,5),"Ugyldig",(IF(ISBLANK('Midt 1.kl. -Klasse'!AP42),"",'Midt 1.kl. -Klasse'!AP42))) | AD26: =IF(COUNTIF('Midt 1.kl. -Klasse'!AQ42,5),"Ugyldig",(IF(ISBLANK('Midt 1.kl. -Klasse'!AQ42),"",'Midt 1.kl. -Klasse'!AQ42))) | AE26: =IF(COUNTIF('Midt 1.kl. -Klasse'!AR42,5),"Ugyldig",(IF(ISBLANK('Midt 1.kl. -Klasse'!AR42),"",'Midt 1.kl. -Klasse'!AR42))) | AF26: =IF(COUNTIF('Midt 1.kl. -Klasse'!AS42,5),"Ugyldig",(IF(ISBLANK('Midt 1.kl. -Klasse'!AS42),"",'Midt 1.kl. -Klasse'!AS42))) | AG26: =IF(COUNTIF('Midt 1.kl. -Klasse'!AT42,5),"Ugyldig",(IF(ISBLANK('Midt 1.kl. -Klasse'!AT42),"",'Midt 1.kl. -Klasse'!AT42))) | AH26: =IF(COUNTIF('Midt 1.kl. -Klasse'!AU42,5),"Ugyldig",(IF(ISBLANK('Midt 1.kl. -Klasse'!AU42),"",'Midt 1.kl. -Klasse'!AU42))) | ... AS26: =IF(COUNTIF('Midt 1.kl. -Klasse'!BF42,5),"Ugyldig",(IF(ISBLANK('Midt 1.kl. -Klasse'!BF42),"",'Midt 1.kl. -Klasse'!BF42))) | AT26: =IF(ISBLANK('Midt 1.kl. -Klasse'!BG42),"",VLOOKUP('Midt 1.kl. -Klasse'!BG42,Ordets_Førstelyd_1b,C$3,FALSE)) | AU26: =IF(ISBLANK('Midt 1.kl. -Klasse'!BH42),"",VLOOKUP('Midt 1.kl. -Klasse'!BH42,Ordets_Førstelyd_1b,D$3,FALSE)) | AV26: =IF(ISBLANK('Midt 1.kl. -Klasse'!BI42),"",VLOOKUP('Midt 1.kl. -Klasse'!BI42,Ordets_Førstelyd_1b,E$3,FALSE)) | AW26: =IF(ISBLANK('Midt 1.kl. -Klasse'!BJ42),"",VLOOKUP('Midt 1.kl. -Klasse'!BJ42,Ordets_Førstelyd_1b,F$3,FALSE)) | AX26: =IF(ISBLANK('Midt 1.kl. -Klasse'!BK42),"",VLOOKUP('Midt 1.kl. -Klasse'!BK42,Ordets_Førstelyd_1b,G$3,FALSE)) | AY26: =IF(ISBLANK('Midt 1.kl. -Klasse'!BL42),"",VLOOKUP('Midt 1.kl. -Klasse'!BL42,Ordets_Førstelyd_1b,H$3,FALSE)) | AZ26: =IF(ISBLANK('Midt 1.kl. -Klasse'!BM42),"",VLOOKUP('Midt 1.kl. -Klasse'!BM42,Ordets_Førstelyd_1b,I$3,FALSE)) | BA26: =IF(ISBLANK('Midt 1.kl. -Klasse'!BN42),"",VLOOKUP('Midt 1.kl. -Klasse'!BN42,Ordets_Førstelyd_1b,J$3,FALSE)) | ... BG26: =IF(ISBLANK('Midt 1.kl. -Klasse'!BT42),"",VLOOKUP('Midt 1.kl. -Klasse'!BT42,Ordets_Førstelyd_1b,P$3,FALSE)) | BH26: =COUNTIF('Skole scoring'!B25:Y25,1) -> 0 | BI26: =COUNTIF('Skole scoring'!Z25:AR25,1) -> 0 | BJ26: =COUNTIF('Skole scoring'!AS25:BF25,1) -> 0 | BK26: =SUM(BH26:BJ26) -> 0 | CL26: 5 | CM26: Ugyldig | CN26: Ugyldig | CO26: Ugyldig | CP26: Ugyldig | CQ26: Ugyldig | CR26: Ugyldig | CS26: Ugyldig | CT26: Ugyldig | CU26: Ugyldig | CV26: Ugyldig | CW26: Ugyldig | CX26: Ugyldig | CY26: Ugyldig | CZ26: Ugyldig | DA26: Ugyldig | DB26: Ugyldig | DC26: Ugyldig | DD26: Ugyldig | DE26: Ugyldig | DF26: Ugyldig | DG26: Ugyldig | DH26: Ugyldig | DI26: Ugyldig | DJ26: Ugyldig | DK26: Ugyldig
B27: ='Midt 1.kl. -Klasse'!B43 -> 0 | C27: =IF(ISBLANK('Midt 1.kl. -Klasse'!P43),"",VLOOKUP('Midt 1.kl. -Klasse'!P43,Naqinn_Nipaat_1b,C$3,FALSE)) | D27: =IF(ISBLANK('Midt 1.kl. -Klasse'!Q43),"",VLOOKUP('Midt 1.kl. -Klasse'!Q43,Naqinn_Nipaat_1b,D$3,FALSE)) | E27: =IF(ISBLANK('Midt 1.kl. -Klasse'!R43),"",VLOOKUP('Midt 1.kl. -Klasse'!R43,Naqinn_Nipaat_1b,E$3,FALSE)) | F27: =IF(ISBLANK('Midt 1.kl. -Klasse'!S43),"",VLOOKUP('Midt 1.kl. -Klasse'!S43,Naqinn_Nipaat_1b,F$3,FALSE)) | G27: =IF(ISBLANK('Midt 1.kl. -Klasse'!T43),"",VLOOKUP('Midt 1.kl. -Klasse'!T43,Naqinn_Nipaat_1b,G$3,FALSE)) | H27: =IF(ISBLANK('Midt 1.kl. -Klasse'!U43),"",VLOOKUP('Midt 1.kl. -Klasse'!U43,Naqinn_Nipaat_1b,H$3,FALSE)) | I27: =IF(ISBLANK('Midt 1.kl. -Klasse'!V43),"",VLOOKUP('Midt 1.kl. -Klasse'!V43,Naqinn_Nipaat_1b,I$3,FALSE)) | J27: =IF(ISBLANK('Midt 1.kl. -Klasse'!W43),"",VLOOKUP('Midt 1.kl. -Klasse'!W43,Naqinn_Nipaat_1b,J$3,FALSE)) | ... Z27: =IF(ISBLANK('Midt 1.kl. -Klasse'!AM43),"",VLOOKUP('Midt 1.kl. -Klasse'!AM43,Naqinn_Nipaat_1b,Z$3,FALSE)) | AA27: =IF(COUNTIF('Midt 1.kl. -Klasse'!AN43,5),"Ugyldig",(IF(ISBLANK('Midt 1.kl. -Klasse'!AN43),"",'Midt 1.kl. -Klasse'!AN43))) | AB27: =IF(COUNTIF('Midt 1.kl. -Klasse'!AO43,5),"Ugyldig",(IF(ISBLANK('Midt 1.kl. -Klasse'!AO43),"",'Midt 1.kl. -Klasse'!AO43))) | AC27: =IF(COUNTIF('Midt 1.kl. -Klasse'!AP43,5),"Ugyldig",(IF(ISBLANK('Midt 1.kl. -Klasse'!AP43),"",'Midt 1.kl. -Klasse'!AP43))) | AD27: =IF(COUNTIF('Midt 1.kl. -Klasse'!AQ43,5),"Ugyldig",(IF(ISBLANK('Midt 1.kl. -Klasse'!AQ43),"",'Midt 1.kl. -Klasse'!AQ43))) | AE27: =IF(COUNTIF('Midt 1.kl. -Klasse'!AR43,5),"Ugyldig",(IF(ISBLANK('Midt 1.kl. -Klasse'!AR43),"",'Midt 1.kl. -Klasse'!AR43))) | AF27: =IF(COUNTIF('Midt 1.kl. -Klasse'!AS43,5),"Ugyldig",(IF(ISBLANK('Midt 1.kl. -Klasse'!AS43),"",'Midt 1.kl. -Klasse'!AS43))) | AG27: =IF(COUNTIF('Midt 1.kl. -Klasse'!AT43,5),"Ugyldig",(IF(ISBLANK('Midt 1.kl. -Klasse'!AT43),"",'Midt 1.kl. -Klasse'!AT43))) | AH27: =IF(COUNTIF('Midt 1.kl. -Klasse'!AU43,5),"Ugyldig",(IF(ISBLANK('Midt 1.kl. -Klasse'!AU43),"",'Midt 1.kl. -Klasse'!AU43))) | ... AS27: =IF(COUNTIF('Midt 1.kl. -Klasse'!BF43,5),"Ugyldig",(IF(ISBLANK('Midt 1.kl. -Klasse'!BF43),"",'Midt 1.kl. -Klasse'!BF43))) | AT27: =IF(ISBLANK('Midt 1.kl. -Klasse'!BG43),"",VLOOKUP('Midt 1.kl. -Klasse'!BG43,Ordets_Førstelyd_1b,C$3,FALSE)) | AU27: =IF(ISBLANK('Midt 1.kl. -Klasse'!BH43),"",VLOOKUP('Midt 1.kl. -Klasse'!BH43,Ordets_Førstelyd_1b,D$3,FALSE)) | AV27: =IF(ISBLANK('Midt 1.kl. -Klasse'!BI43),"",VLOOKUP('Midt 1.kl. -Klasse'!BI43,Ordets_Førstelyd_1b,E$3,FALSE)) | AW27: =IF(ISBLANK('Midt 1.kl. -Klasse'!BJ43),"",VLOOKUP('Midt 1.kl. -Klasse'!BJ43,Ordets_Førstelyd_1b,F$3,FALSE)) | AX27: =IF(ISBLANK('Midt 1.kl. -Klasse'!BK43),"",VLOOKUP('Midt 1.kl. -Klasse'!BK43,Ordets_Førstelyd_1b,G$3,FALSE)) | AY27: =IF(ISBLANK('Midt 1.kl. -Klasse'!BL43),"",VLOOKUP('Midt 1.kl. -Klasse'!BL43,Ordets_Førstelyd_1b,H$3,FALSE)) | AZ27: =IF(ISBLANK('Midt 1.kl. -Klasse'!BM43),"",VLOOKUP('Midt 1.kl. -Klasse'!BM43,Ordets_Førstelyd_1b,I$3,FALSE)) | BA27: =IF(ISBLANK('Midt 1.kl. -Klasse'!BN43),"",VLOOKUP('Midt 1.kl. -Klasse'!BN43,Ordets_Førstelyd_1b,J$3,FALSE)) | ... BG27: =IF(ISBLANK('Midt 1.kl. -Klasse'!BT43),"",VLOOKUP('Midt 1.kl. -Klasse'!BT43,Ordets_Førstelyd_1b,P$3,FALSE)) | BH27: =COUNTIF('Skole scoring'!B26:Y26,1) -> 0 | BI27: =COUNTIF('Skole scoring'!Z26:AR26,1) -> 0 | BJ27: =COUNTIF('Skole scoring'!AS26:BF26,1) -> 0 | BK27: =SUM(BH27:BJ27) -> 0
B28: ='Midt 1.kl. -Klasse'!B44 -> 0 | C28: =IF(ISBLANK('Midt 1.kl. -Klasse'!P44),"",VLOOKUP('Midt 1.kl. -Klasse'!P44,Naqinn_Nipaat_1b,C$3,FALSE)) | D28: =IF(ISBLANK('Midt 1.kl. -Klasse'!Q44),"",VLOOKUP('Midt 1.kl. -Klasse'!Q44,Naqinn_Nipaat_1b,D$3,FALSE)) | E28: =IF(ISBLANK('Midt 1.kl. -Klasse'!R44),"",VLOOKUP('Midt 1.kl. -Klasse'!R44,Naqinn_Nipaat_1b,E$3,FALSE)) | F28: =IF(ISBLANK('Midt 1.kl. -Klasse'!S44),"",VLOOKUP('Midt 1.kl. -Klasse'!S44,Naqinn_Nipaat_1b,F$3,FALSE)) | G28: =IF(ISBLANK('Midt 1.kl. -Klasse'!T44),"",VLOOKUP('Midt 1.kl. -Klasse'!T44,Naqinn_Nipaat_1b,G$3,FALSE)) | H28: =IF(ISBLANK('Midt 1.kl. -Klasse'!U44),"",VLOOKUP('Midt 1.kl. -Klasse'!U44,Naqinn_Nipaat_1b,H$3,FALSE)) | I28: =IF(ISBLANK('Midt 1.kl. -Klasse'!V44),"",VLOOKUP('Midt 1.kl. -Klasse'!V44,Naqinn_Nipaat_1b,I$3,FALSE)) | J28: =IF(ISBLANK('Midt 1.kl. -Klasse'!W44),"",VLOOKUP('Midt 1.kl. -Klasse'!W44,Naqinn_Nipaat_1b,J$3,FALSE)) | ... Z28: =IF(ISBLANK('Midt 1.kl. -Klasse'!AM44),"",VLOOKUP('Midt 1.kl. -Klasse'!AM44,Naqinn_Nipaat_1b,Z$3,FALSE)) | AA28: =IF(COUNTIF('Midt 1.kl. -Klasse'!AN44,5),"Ugyldig",(IF(ISBLANK('Midt 1.kl. -Klasse'!AN44),"",'Midt 1.kl. -Klasse'!AN44))) | AB28: =IF(COUNTIF('Midt 1.kl. -Klasse'!AO44,5),"Ugyldig",(IF(ISBLANK('Midt 1.kl. -Klasse'!AO44),"",'Midt 1.kl. -Klasse'!AO44))) | AC28: =IF(COUNTIF('Midt 1.kl. -Klasse'!AP44,5),"Ugyldig",(IF(ISBLANK('Midt 1.kl. -Klasse'!AP44),"",'Midt 1.kl. -Klasse'!AP44))) | AD28: =IF(COUNTIF('Midt 1.kl. -Klasse'!AQ44,5),"Ugyldig",(IF(ISBLANK('Midt 1.kl. -Klasse'!AQ44),"",'Midt 1.kl. -Klasse'!AQ44))) | AE28: =IF(COUNTIF('Midt 1.kl. -Klasse'!AR44,5),"Ugyldig",(IF(ISBLANK('Midt 1.kl. -Klasse'!AR44),"",'Midt 1.kl. -Klasse'!AR44))) | AF28: =IF(COUNTIF('Midt 1.kl. -Klasse'!AS44,5),"Ugyldig",(IF(ISBLANK('Midt 1.kl. -Klasse'!AS44),"",'Midt 1.kl. -Klasse'!AS44))) | AG28: =IF(COUNTIF('Midt 1.kl. -Klasse'!AT44,5),"Ugyldig",(IF(ISBLANK('Midt 1.kl. -Klasse'!AT44),"",'Midt 1.kl. -Klasse'!AT44))) | AH28: =IF(COUNTIF('Midt 1.kl. -Klasse'!AU44,5),"Ugyldig",(IF(ISBLANK('Midt 1.kl. -Klasse'!AU44),"",'Midt 1.kl. -Klasse'!AU44))) | ... AS28: =IF(COUNTIF('Midt 1.kl. -Klasse'!BF44,5),"Ugyldig",(IF(ISBLANK('Midt 1.kl. -Klasse'!BF44),"",'Midt 1.kl. -Klasse'!BF44))) | AT28: =IF(ISBLANK('Midt 1.kl. -Klasse'!BG44),"",VLOOKUP('Midt 1.kl. -Klasse'!BG44,Ordets_Førstelyd_1b,C$3,FALSE)) | AU28: =IF(ISBLANK('Midt 1.kl. -Klasse'!BH44),"",VLOOKUP('Midt 1.kl. -Klasse'!BH44,Ordets_Førstelyd_1b,D$3,FALSE)) | AV28: =IF(ISBLANK('Midt 1.kl. -Klasse'!BI44),"",VLOOKUP('Midt 1.kl. -Klasse'!BI44,Ordets_Førstelyd_1b,E$3,FALSE)) | AW28: =IF(ISBLANK('Midt 1.kl. -Klasse'!BJ44),"",VLOOKUP('Midt 1.kl. -Klasse'!BJ44,Ordets_Førstelyd_1b,F$3,FALSE)) | AX28: =IF(ISBLANK('Midt 1.kl. -Klasse'!BK44),"",VLOOKUP('Midt 1.kl. -Klasse'!BK44,Ordets_Førstelyd_1b,G$3,FALSE)) | AY28: =IF(ISBLANK('Midt 1.kl. -Klasse'!BL44),"",VLOOKUP('Midt 1.kl. -Klasse'!BL44,Ordets_Førstelyd_1b,H$3,FALSE)) | AZ28: =IF(ISBLANK('Midt 1.kl. -Klasse'!BM44),"",VLOOKUP('Midt 1.kl. -Klasse'!BM44,Ordets_Førstelyd_1b,I$3,FALSE)) | BA28: =IF(ISBLANK('Midt 1.kl. -Klasse'!BN44),"",VLOOKUP('Midt 1.kl. -Klasse'!BN44,Ordets_Førstelyd_1b,J$3,FALSE)) | ... BG28: =IF(ISBLANK('Midt 1.kl. -Klasse'!BT44),"",VLOOKUP('Midt 1.kl. -Klasse'!BT44,Ordets_Førstelyd_1b,P$3,FALSE)) | BH28: =COUNTIF('Skole scoring'!B27:Y27,1) -> 0 | BI28: =COUNTIF('Skole scoring'!Z27:AR27,1) -> 0 | BJ28: =COUNTIF('Skole scoring'!AS27:BF27,1) -> 0 | BK28: =SUM(BH28:BJ28) -> 0
